Workbook

Sheet 表紙 
K20: 【 2026年11月1日改正 】
I33: 仙台市若林区卸町東３丁目４-１ 〒984-0002
I34: Ｔｅｌ ０２２－３９０－７３２２
I35: Ｆａｘ ０２２－３９０－７８２２
I36: https://www.kahoku-orikomi.co.jp

Sheet 市・郡
A1: =市内河!A1 -> 2026年 | B1: 広告主名 | C1: =市内河!D1 -> 0 | F1: タイトル | I1: 代理店名 | J1: =市内河!N1 -> 0 | L1: サイズ | M1: 総枚数 | P1: 折込日
A2: =市内河!A2 -> 11/1改正 | B2: =市内河!C2 -> 0 | F2: =市内河!G2 -> 0 | I2: =市内河!L2 -> 0 | L2: =市内河!O2 -> 0 | M2: =C33+C37 -> 0 | P2: =市内河!U4 -> 0
A3: 宮城県市郡別集計
A4: 地区 | B4: 合計 | D4: 河北新報 | F4: 朝日新聞 | H4: 読売新聞 | J4: 毎日新聞 | L4: 日本経済新聞 | N4: 産経新聞 | P4: 他紙
A5: 仙台市 | B5: =D5+F5+J5+H5+L5+N5+Q5 -> 233650 | C5: =SUM(E5,G5,K5,I5,M5,O5,R5) -> 0 | D5: =市内河!T29 -> 173500 | E5: =市内河!V29 -> 0 | F5: =市内東京紙!D27 -> 26600 | G5: =市内東京紙!F27 -> 0 | H5: =市内東京紙!L27 -> 28600 | I5: =市内東京紙!N27 -> 0 | J5: =市内東京紙!T11 -> 4150 | K5: =市内東京紙!V11 -> 0 | N5: =市内東京紙!U17 -> 800 | O5: =市内東京紙!V17 -> 0
A6: 塩釜市 | B6: =D6+F6+J6+H6+L6+N6+Q6 -> 15710 | C6: =SUM(E6,G6,K6,I6,M6,O6,R6) -> 0 | D6: =SUM(近郊!E7:E10) -> 13150 | E6: =SUM(近郊!F7:F10) -> 0 | H6: =近郊!M7 -> 2560 | I6: =近郊!N7 -> 0
A7: 多賀城市 | B7: =D7+F7+J7+H7+L7+Q7 -> 11100 | C7: =SUM(E7,G7,K7,I7,M7,O7,R7) -> 0 | D7: =SUM(近郊!E11:E12) -> 8200 | E7: =SUM(近郊!F11:F12) -> 0 | H7: =近郊!M11 -> 2900 | I7: =近郊!N11 -> 0
A8: 富谷市 | B8: =D8+F8+H8+J8+L8+N8 -> 1700 | C8: =E8+G8+I8+K8+M8+O8 -> 0 | D8: =近郊!E20 -> 1650 | E8: =近郊!F20 -> 0 | H8: 50 | I8: =近郊!N20 -> 0
A9: 名取市 | B9: =D9+F9+J9+H9+L9+N9+Q9 -> 14300 | C9: =SUM(E9,G9,K9,I9,M9,O9,R9) -> 0 | D9: =SUM(近郊!E22:E24) -> 12150 | E9: =SUM(近郊!F22:F24) -> 0 | H9: =SUM(近郊!M22:M24) -> 2150 | I9: =SUM(近郊!N22:N24) -> 0
A10: 岩沼市 | B10: =D10+F10+J10+H10+L10+N10+Q10 -> 10400 | C10: =SUM(E10,G10,K10,I10,M10,O10,R10) -> 0 | D10: =近郊!E25 -> 7800 | E10: =近郊!F25 -> 0 | H10: =近郊!M25 -> 2600 | I10: =近郊!N25 -> 0
A11: 白石市 | B11: =D11+F11+J11+H11+L11+N11+Q11 -> 12800 | C11: =SUM(E11,G11,K11,I11,M11,O11,R11) -> 0 | D11: =仙南!E7 -> 11200 | E11: =仙南!F7 -> 0 | H11: =仙南!M7 -> 1600 | I11: =仙南!N7 -> 0
A12: 角田市 | B12: =D12+F12+J12+H12+L12+N12+Q12 -> 6100 | C12: =SUM(E12,G12,K12,I12,M12,O12,R12) -> 0 | D12: =仙南!E15 -> 4800 | E12: =仙南!F15 -> 0 | H12: =仙南!M15 -> 1300 | I12: =仙南!N15 -> 0
A13: 大崎市 | B13: =D13+F13+J13+H13+L13+N13+Q13 -> 32800 | C13: =SUM(E13,G13,K13,I13,M13,O13,R13) -> 0 | D13: =SUM(大崎!E7:E15) -> 23250 | E13: =SUM(大崎!F7:F15) -> 0 | H13: =大崎!M7 -> 3050 | I13: =大崎!N7 -> 0 | P13: 大崎ﾀｲﾑｽ | Q13: =大崎!Y7 -> 6500 | R13: =大崎!Z7 -> 0
A14: 石巻市 | B14: =D14+F14+J14+H14+L14+N14+Q14 -> 39000 | C14: =SUM(E14,G14,K14,I14,M14,O14,R14) -> 0 | D14: =SUM(石巻!E7:E23) -> 31250 | E14: =SUM(石巻!F7:F23) -> 0 | H14: =石巻!M7 -> 1150 | I14: =石巻!N7 -> 0 | P14: 石巻日日 | Q14: =石巻!Y7 -> 6600 | R14: =石巻!Z7 -> 0
A15: 東松島市 | B15: =D15+F15+J15+H15+L15+N15+Q15 -> 7150 | C15: =SUM(E15,G15,K15,I15,M15,O15,R15) -> 0 | D15: =SUM(石巻!E27:E29) -> 7150 | E15: =SUM(石巻!F27:F29) -> 0
A16: 栗原市 | B16: =D16+F16+J16+H16+L16+N16 -> 16700 | C16: =SUM(E16,G16,K16,I16,M16,O16,R16) -> 0 | D16: =栗原!E18 -> 15750 | E16: =栗原!F18 -> 0 | H16: =栗原!M18 -> 950 | I16: =栗原!N18 -> 0
A17: 気仙沼市 | B17: =D17+F17+J17+H17+L17+N17+Q17 -> 25670 | C17: =SUM(E17,G17,K17,I17,M17,O17,R17) -> 0 | D17: =SUM(気仙沼!E7:E10) -> 6800 | E17: =SUM(気仙沼!F7:F10) -> 0 | H17: =気仙沼!M7 -> 1400 | I17: =気仙沼!N7 -> 0 | P17: 三陸新報 | Q17: =気仙沼!Y7 -> 17470 | R17: =気仙沼!Z7 -> 0
A18: 登米市 | B18: =D18+F18+J18+H18+L18+N18 -> 16450 | C18: =SUM(E18,G18,K18,I18,M18,O18,R18) -> 0 | D18: =SUM(気仙沼!E12:E24) -> 15350 | E18: =SUM(気仙沼!F12:F24) -> 0 | H18: =SUM(気仙沼!M15:M17) -> 1100 | I18: =SUM(気仙沼!N15:N17) -> 0
A19: 市部合計 | B19: =SUM(B5:B18) -> 443530 | C19: =SUM(C5:C18) -> 0 | D19: =SUM(D5:D18) -> 332000 | E19: =SUM(E5:E18) -> 0 | F19: =SUM(F5:F18) -> 26600 | G19: =SUM(G5:G18) -> 0 | H19: =SUM(H5:H18) -> 49410 | I19: =SUM(I5:I18) -> 0 | ... K19: =SUM(K5:K18) -> 0 | N19: =SUM(N5:N18) -> 800 | O19: =SUM(O5:O18) -> 0 | Q19: =SUM(Q5:Q18) -> 30570 | R19: =SUM(R5:R18) -> 0
A21: 宮城郡 | B21: =D21+F21+J21+H21+L21+N21 -> 11200 | C21: =SUM(E21,G21,K21,I21,M21,O21,R21) -> 0 | D21: =SUM(近郊!E13:E15) -> 10400 | E21: =SUM(近郊!F13:F15) -> 0 | H21: =近郊!M14 -> 800 | I21: =近郊!N14 -> 0
A22: 黒川郡 | B22: =D22+F22+J22+H22+L22+N22 -> 6050 | C22: =SUM(E22,G22,K22,I22,M22,O22,R22) -> 0 | D22: =SUM(近郊!E16:E19) -> 6050 | E22: =SUM(近郊!F16:F19) -> 0
A23: 刈田郡 | B23: 白石市に含む
A24: 柴田郡 | B24: =D24+F24+J24+H24+L24+N24 -> 19650 | C24: =SUM(E24,G24,K24,I24,M24,O24,R24) -> 0 | D24: =SUM(仙南!E10:E14) -> 15500 | E24: =SUM(仙南!F10:F14) -> 0 | H24: =SUM(仙南!M10:M12) -> 4150 | I24: =SUM(仙南!N10:N12) -> 0
A25: 伊具郡 | B25: =D25+F25+J25+H25+L25+N25 -> 2700 | C25: =SUM(E25,G25,K25,I25,M25,O25,R25) -> 0 | D25: =SUM(仙南!E16:E17) -> 2700 | E25: =SUM(仙南!F16:F17) -> 0
A26: 亘理郡 | B26: =D26+F26+J26+H26+L26+N26 -> 9650 | C26: =SUM(E26,G26,K26,I26,M26,O26,R26) -> 0 | D26: =SUM(仙南!E18:E22) -> 8100 | E26: =SUM(仙南!F18:F22) -> 0 | H26: =仙南!M18 -> 1550 | I26: =仙南!N18 -> 0
A27: 遠田郡 | B27: =D27+F27+J27+H27+L27+N27 -> 9200 | C27: =SUM(E27,G27,K27,I27,M27,O27,R27) -> 0 | D27: =SUM(大崎!E16:E20) -> 7950 | E27: =SUM(大崎!F16:F20) -> 0 | H27: =SUM(大崎!M16:M20) -> 1250 | I27: =SUM(大崎!N16:N20) -> 0
A28: 加美郡 | B28: =D28+F28+J28+H28+L28+N28 -> 7150 | C28: =SUM(E28,G28,K28,I28,M28,O28,R28) -> 0 | D28: =SUM(大崎!E21:E24) -> 6800 | E28: =SUM(大崎!F21:F24) -> 0 | H28: =大崎!M21 -> 350 | I28: =大崎!N21 -> 0
A29: 牡鹿郡 | B29: =D29+F29+J29+H29+L29+N29 -> 1800 | C29: =SUM(E29,G29,K29,I29,M29,O29,R29) -> 0 | D29: =石巻!E25 -> 1550 | E29: =石巻!F25 -> 0 | H29: =石巻!M25 -> 250 | I29: =石巻!N25 -> 0
A30: 本吉郡 | B30: =D30+F30+J30+H30+L30+N30 -> 1850 | C30: =SUM(E30,G30,K30,I30,M30,O30,R30) -> 0 | D30: =SUM(気仙沼!E11) -> 1850 | E30: =SUM(気仙沼!F11) -> 0
A31: 郡部合計 | B31: =SUM(B21:B30) -> 69250 | C31: =SUM(C21:C30) -> 0 | D31: =SUM(D21:D30) -> 60900 | E31: =SUM(E21:E30) -> 0 | F31: =SUM(F21:F30) -> 0 | G31: =SUM(G21:G30) -> 0 | H31: =SUM(H21:H30) -> 8350 | I31: =SUM(I21:I30) -> 0
A33: 宮城県合計 | B33: =SUM(B19,B31) -> 512780 | C33: =SUM(C19,C31) -> 0 | D33: =SUM(D19,D31) -> 392900 | E33: =SUM(E19,E31) -> 0 | F33: =SUM(F19,F31) -> 26600 | G33: =SUM(G19,G31) -> 0 | H33: =SUM(H19,H31) -> 57760 | I33: =SUM(I19,I31) -> 0 | ... O33: =SUM(O19,O31) -> 0 | Q33: =SUM(Q19,Q31) -> 30570 | R33: =SUM(R19,R31) -> 0
D34: ※河北・朝日・読売・毎日には合売店、複合店があります。
A35: 【夕刊】
A36: 地区 | B36: 合計 | D36: 河北新報
A37: 仙台市 | B37: =D37 -> 19050 | C37: =E37 -> 0 | D37: =市内夕刊!T22 -> 19050 | E37: =市内夕刊!V22 -> 0
A38: (注意) 日本新聞協会加盟新聞社の折込広告部数については各系統会からの資料提供によるものです。
A39: 他紙（大崎タイムス、石巻日日新聞、三陸新報）については、各新聞販売店からの申告部数になります。
A40: ※天災、災害等の事故や選挙報道等で新聞制作の遅れが生ずる場合、やむを得ず折込日の変更をさせて頂く事や折込不能となる場合があります。
A41: ※悪天候、災害、事故等のやむを得ない理由により、折込不可能もしくは折込日の変更をせざるを得ない場合、折込料金以外の損害賠償について免責とさせていただきます。
A42: ※表記地区名と行政区域が販売店管轄区域と一致しない区域、または表記があります。

Sheet 市内河
A1: 2026年 | C1: 広告主名 | G1: タイトル | L1: 代理店名 | O1: サイズ | P1: 総枚数 | R1: =SUM(R3+市内東京紙!R3+近郊!S3+仙南!S3+大崎!S3+石巻!S3+栗原!S3+気仙沼!S3+'一関方面 '!S3) -> 0 | U1: 担当者 | W1: 受注No.
A2: 11/1改正
A3: 仙台市 | P3: 頁枚数 | R3: =V29 -> 0 | U3: 折込日
A4: 河北 | C4: 住所 | L4: 印刷所 | Q4: MDS | Z4: 1
A5: 朝刊 | C5: Tel | G5: Fax | L5: 納品日
A6: 仙台市内河北新報① | B6: No | C6: 販売店名 | D6: 部数 | F6: 折込部数 | H6: 区別 | J6: No | K6: 販売店名 | L6: 部数 | N6: 折込部数 | P6: 区別 | R6: No | S6: 販売店名 | T6: 部数 | V6: 折込部数 | X6: 区別 | Z6: 仙台市（河北新報 朝刊）
B7: 1 | C7: 五橋 | D7: 複 | E7: 7350 | H7: 青 | J7: 13 | K7: 台原 | L7: 複 | M7: 4400 | P7: 青泉 | R7: 25 | S7: 荒井 | T7: 複 | U7: 3850 | X7: 若
B8: 2 | C8: 八幡 | D8: 複 | E8: 3550 | H8: 青 | J8: 14 | K8: 旭ヶ丘 | L8: 複 | M8: 4700 | P8: 青泉宮 | R8: 26 | S8: 富沢 | T8: 複 | U8: 5500 | X8: 太名
B9: 3 | C9: 国見 | D9: 複 | E9: 2750 | H9: 青 | J9: 15 | K9: 鶴ヶ谷 | L9: 複 | M9: 4600 | P9: 宮泉 | R9: 27 | S9: 南仙台 | T9: 複 | U9: 3700 | X9: 太
B10: 4 | C10: 北山 | D10: 複 | E10: 3550 | H10: 青 | J10: 16 | K10: 東仙台 | L10: 複 | M10: 3650 | P10: 宮 | R10: 28 | S10: 吉成 | T10: 複 | U10: 2150 | X10: 青
B11: 5 | C11: 上杉 | D11: 複 | E11: 5700 | H11: 青 | J11: 17 | K11: 燕沢 | L11: 複 | M11: 2500 | P11: 宮
B12: 6 | C12: 幸町 | D12: 複 | E12: 4400 | H12: 青宮 | J12: 18 | K12: 宮城野 | L12: 複 | M12: 4250 | P12: 宮若
B13: 7 | C13: 榴岡 | D13: 複 | E13: 4900 | H13: 宮若 | J13: 19 | K13: 南小泉 | L13: 複 | M13: 4150 | P13: 若宮
B14: 8 | C14: 中山 | D14: 複 | E14: 3500 | H14: 青泉 | J14: 20 | K14: 若林 | L14: 複 | M14: 4900 | P14: 若
B15: 9 | C15: 泉中山 | D15: 複 | E15: 950 | H15: 泉 | J15: 21 | K15: 郡山 | L15: 複 | M15: 3850 | P15: 太
B16: 10 | C16: 桜ヶ丘 | D16: 複 | E16: 3200 | H16: 青泉 | J16: 22 | K16: 長町 | L16: 複 | M16: 6100 | P16: 太
B17: 11 | C17: 長命ヶ丘 | D17: 複 | E17: 3750 | H17: 泉青 | J17: 23 | K17: 八木山 | L17: 複 | M17: 5750 | P17: 太 | W17: =IF(V17>U17,"部数ｵｰﾊﾞｰ!!","")
B18: 12 | C18: 八乙女 | D18: 複 | E18: 4050 | H18: 泉 | J18: 24 | K18: 鈎取太白 | L18: 複 | M18: 3750 | P18: 太 | R18: ①小 計 | T18: =SUM(E7:E18,M7:M18,U7:U10) -> 115450 | V18: =SUM(F7:F18,N7:N18,V7:V10) -> 0
A20: 仙台市内河北新報② | B20: 50 | C20: 住吉台 | D20: 複 | E20: 2450 | H20: 泉 | J20: 60 | K20: 折立 | L20: 複 | M20: 1300 | P20: 青
B21: 51 | C21: 泉中央 | D21: 複 | E21: 4850 | H21: 泉 | J21: 61 | K21: 愛子 | L21: 複 | M21: 4650 | P21: 青
B22: 52 | C22: 泉ヶ丘大富 | D22: 複 | E22: 3100 | H22: 泉富和 | J22: 62 | K22: （愛子西部は愛子に統合されました。）
B23: 53 | C23: （向陽台は新富谷GCに統合されました。） | J23: 63 | K23: 愛子東部 | L23: 複 | M23: 3400 | P23: 青
B24: 54 | C24: 岩切 | D24: 複 | E24: 3300 | H24: 宮利多 | J24: 64 | K24: 東中田 | L24: 複 | M24: 4150 | P24: 太
B25: 55 | C25: 高砂中野栄 | D25: 複 | E25: 5750 | H25: 宮 | J25: 65 | K25: 泉松陵 | L25: 複 | M25: 3800 | P25: 泉
B26: 56 | C26: 福田町 | D26: 複 | E26: 2500 | H26: 宮若 | J26: 66 | K26: 泉パークタウン | L26: 複 | M26: 4300 | P26: 泉
B27: 57 | C27: 六丁目 | D27: 複 | E27: 1000 | H27: 若 | J27: 67 | K27: 新富谷GC | L27: 複 | M27: 5950 | P27: 泉富
B28: 58 | C28: 沖野 | D28: 複 | E28: 4550 | H28: 若 | R28: ②小 計 | T28: =SUM(E20:E29,M20:M27) -> 58050 | V28: =SUM(F20:F29,N20:N27) -> 0 | W28: =SUM(G20:G25,G27:G28,O20:O23,W20:W27) -> 0
B29: 59 | C29: 茂庭 | D29: 複 | E29: 3000 | H29: 太 | R29: 合 計 | T29: =SUM(T18,T28) -> 173500 | V29: =SUM(V18,V28) -> 0
A30: ※ 青→青葉区、宮→宮城野区、若→若林区、太→太白区、泉→泉区、名→名取市、多→多賀城市、利→宮城郡利府町、富→富谷市、和→黒川郡大和町 | S30: ※ 複…複合店
A31: ※ 天災、災害等の事故や選挙報道等で新聞制作の遅れが生ずる場合、やむを得ず折込日の変更をさせて頂く事や折込不能となる場合があります。
A32: ※ 悪天候、災害、事故等のやむを得ない理由により、折込不可能もしくは折込日の変更をせざるを得ない場合、折込料金以外の損害賠償について免責とさせていただきます。

Sheet 市内東京紙
A1: =市内河!A1 -> 2026年 | C1: 広告主名 | D1: =市内河!$D$1 -> 0 | G1: タイトル | L1: 代理店名 | N1: =市内河!$N$1 -> 0 | O1: サイズ | P1: 総枚数 | R1: =市内河!$R$1 -> 0 | U1: 担当者 | W1: 受注No.
A2: =市内河!A2 -> 11/1改正 | C2: =市内河!C2 -> 0 | G2: =市内河!G2 -> 0 | L2: =市内河!L2 -> 0 | O2: =市内河!O2 -> 0 | U2: =市内河!U2 -> 0 | W2: =市内河!W2 -> 0
A3: 仙台市 | P3: 頁枚数 | R3: =SUM(F27,N27,V11,V18) -> 0 | U3: 折込日
A4: 東京紙 | C4: 住所 | D4: =市内河!D4 -> 0 | L4: 印刷所 | N4: =市内河!N4 -> 0 | Q4: MDS | U4: =市内河!$U$4 -> 0 | Z4: 2
C5: Tel | D5: =市内河!D5 -> 0 | G5: Fax | H5: =市内河!H5 -> 0 | L5: 納品日 | N5: =市内河!N5 -> 0
A6: 仙台市内東京紙 | B6: 朝 日 新 聞 | J6: 読 売 新 聞 | R6: 毎 日 新 聞 | Z6: 仙台市（朝日新聞 読売新聞 毎日新聞 産経新聞）
B7: No | C7: 販売店名 | D7: 部数 | F7: 折込部数 | H7: 区別 | J7: No | K7: 販売店名 | L7: 部数 | N7: 折込部数 | P7: 区別 | R7: No | S7: 販売店名 | T7: 部数 | V7: 折込部数 | X7: 区別
B8: 1 | C8: 中央 | D8: 複 | E8: 5650 | H8: 青若宮 | J8: 1 | K8: 中央 | M8: 1600 | P8: 青若 | R8: 1 | S8: 仙台東 | U8: 750 | X8: 宮若
B9: 2 | C9: 仙台あおば | D9: 複 | E9: 2350 | H9: 青 | J9: 2 | K9: 青葉八幡 | M9: 1400 | P9: 青 | R9: 2 | S9: 南小泉 ※ | T9: 複 | U9: 2000 | X9: 若
B10: 3 | C10: 吉成 | D10: 複 | E10: 1150 | H10: 青 | J10: 3 | K10: 仙台小田原 | M10: 1350 | P10: 青宮 | R10: 3 | S10: 長町 | U10: 1400 | X10: 太
B11: 4 | C11: 中山 | D11: 複 | E11: 1800 | H11: 青泉 | J11: 4 | K11: みやぎ野 | M11: 1100 | P11: 宮若 | R11: 毎日合計 | T11: =SUM(U8:U10) -> 4150 | V11: =SUM(V8:V10) -> 0
B12: 5 | C12: 泉南部 | D12: 複 | E12: 3850 | H12: 泉青宮 | J12: 5 | K12: 桜ヶ丘 | M12: 1050 | P12: 青
B13: 6 | C13: 八木山※ | D13: 複 | E13: 1250 | H13: 太 | J13: 6 | K13: 仙台北部 | M13: 2100 | P13: 宮泉青
B14: 7 | C14: 泉中央 | D14: 複 | E14: 2500 | H14: 泉 | J14: 7 | K14: 南小泉 | M14: 1550 | P14: 若
B15: 8 | C15: （泉東部は泉南部に統合されました） | J15: 8 | K15: 沖野 | M15: 1650 | P15: 若 | R15: 産 経 新 聞
B16: 9 | C16: 南仙台 | D16: 複 | E16: 1550 | H16: 太名 | J16: 9 | K16: 長町 | M16: 1550 | P16: 太若 | R16: No | S16: 販売店名 | T16: 部数 | V16: 折込部数 | X16: 区別
B17: 10 | C17: 泉西部 | D17: 複 | E17: 2350 | H17: 泉 | J17: 10 | K17: 西多賀 | M17: 950 | P17: 太 | R17: 1 | S17: 東部 | U17: 800 | X17: 宮若
B18: 11 | C18: 新長町 | D18: 複 | E18: 2550 | H18: 太名 | J18: 11 | K18: 太白 ※ | M18: 850 | P18: 太名 | R18: 産経合計 | T18: =SUM(U15:U17) -> 800 | V18: =V17 -> 0
B19: 12 | C19: 泉北部 | D19: 複 | E19: 1600 | H19: 富泉和 | J19: 12 | K19: 泉西 | M19: 3350 | P19: 泉青
J20: 13 | K20: 泉中央 | M20: 2100 | P20: 泉
J21: 14 | K21: 泉東部 | M21: 3000 | P21: 泉富和
J22: 15 | K22: 中野栄 ※ | L22: 複 | M22: 2000 | P22: 宮多 | R22: 日 本 経 済 新 聞
J23: 16 | K23: 南仙台 | M23: 1750 | P23: 太 | R23: No | S23: 販売店名 | T23: 部数 | V23: 折込部数 | X23: 区別
J24: 17 | K24: ひろせ中央 | M24: 1250 | P24: 青 | R24: 1 | S24: （仙台中央は河北新報各店に統合されました）
B27: 朝日合計 | D27: =SUM(E8:E19) -> 26600 | F27: =SUM(F8:F20) -> 0 | J27: 読売合計 | L27: =SUM(M8:M24) -> 28600 | N27: =SUM(N8:N24) -> 0
A28: ※ 青→青葉区、宮→宮城野区、若→若林区、太→太白区、泉→泉区、名→名取市、多→多賀城市、富→富谷市、和→黒川郡大和町 | R28: ※ 複…複合店
A29: ※ 読売新聞の茂庭地区は11.読売新聞太白店が取り扱っております。 | L29: ※ 仙台市内の朝日新聞複合店では、日本経済新聞・産経新聞を取り扱っております。
A30: ※ 毎日新聞南小泉店2,000枚には、1,010枚産経新聞が含まれています。 | L30: ※ 読売新聞中野栄店2,000枚には、200枚日経新聞が含まれています。
A31: ※ 朝日新聞八木山店の一部が河北八木山店に移管されました。
A32: ※ 天災、災害等の事故や選挙報道等で新聞制作の遅れが生ずる場合、やむを得ず折込日の変更をさせて頂く事や折込不能となる場合があります。
A33: ※ 悪天候、災害、事故等のやむを得ない理由により、折込不可能もしくは折込日の変更をせざるを得ない場合、折込料金以外の損害賠償について免責とさせていただきます。

Sheet 近郊
A1: =市内河!A1 -> 2026年 | C1: 広告主名 | D1: =市内河!$D$1 -> 0 | H1: タイトル | L1: 代理店名 | N1: =市内河!$N$1 -> 0 | P1: サイズ | R1: 総枚数 | S1: =市内河!$R$1 -> 0 | V1: 担当者 | X1: 受注No．
A2: =市内河!A2 -> 11/1改正 | C2: =市内河!C2 -> 0 | H2: =市内河!G2 -> 0 | L2: =市内河!L2 -> 0 | P2: =市内河!O2 -> 0 | V2: =市内河!U2 -> 0 | X2: =市内河!W2 -> 0
A3: 仙台近郊 | R3: 頁枚数 | S3: =F26+J26+N26+R26+Z26 -> 0 | V3: 折込日
C4: 住所 | D4: =市内河!D4 -> 0 | K4: 印刷所 | M4: =市内河!N4 -> 0 | P4: MDS | S4: HSR | V4: =市内河!$U$4 -> 0 | AB4: 3
C5: Tel | D5: =市内河!D5 -> 0 | G5: Fax | H5: =市内河!H5 -> 0 | K5: 納品日 | M5: =市内河!N5 -> 0
A6: 地 区 | C6: 河北 | D6: 部数 | F6: 折込部数 | G6: 朝日 | H6: 部数 | J6: 折込部数 | K6: 読売 | L6: 部数 | N6: 折込部数 | O6: 毎日 | P6: 部数 | R6: 折込部数 | S6: 日経 | T6: 部数 | V6: 折込部数 | W6: 産経 | X6: 部数 | Z6: 折込部数 | AB6: 塩釜市 多賀城市 宮城郡 黒川郡 富谷市 名取市 岩沼市
A7: ※利府町を含む | C7: 塩釜利府 | D7: 複 | E7: 5100 | K7: 塩釜※ | L7: 複 | M7: 2560
A8: 塩釜市 | C8: 本塩釜 | D8: 複 | E8: 2750
C9: 塩釜南部 | D9: 複 | E9: 2750
C10: 東塩釜 | D10: 複 | E10: 2550
A11: 多賀城市 | C11: 多賀城 | D11: 複 | E11: 6600 | K11: 多賀城※ | L11: 複 | M11: 2900
C12: 西部 | D12: 複 | E12: 1600
A13: 宮城郡 | B13: 七ヶ浜町 | C13: 七ヶ浜 | D13: 複 | E13: 3050
B14: 利府町 | C14: 利府青葉台 | D14: 複 | E14: 4350 | K14: 利府 ※ | L14: 複 | M14: 800
B15: 松島町 | C15: 松島 | D15: 合 | E15: 3000
A16: 黒川郡 | B16: 大郷町 | C16: 大郷 | D16: 合 | E16: 1750
B17: 大衡村 | C17: 吉岡 | D17: 合 | E17: 3050
B18: 大和町
C19: 鶴巣 ※ | D19: 合 | E19: 1250
C20: 富谷 | D20: 複 | E20: 1650 | K20: 泉東部(富) | M20: 50
A21: 富谷市
A22: 名取市 | C22: 名取西※ | D22: 複 | E22: 2450 | K22: 東部 | M22: 850
C23: 名取中央※ | D23: 複 | E23: 5700 | K23: 西部 | M23: 1300
C24: 南名取 ※ | D24: 複 | E24: 4000
A25: 岩沼市 | C25: 岩沼 ※ | D25: 複 | E25: 7800 | K25: 岩沼※ | L25: 複 | M25: 2600
A26: 計 | B26: =SUM(E26,I26,M26,Q26,Y26) -> 70460 | C26: 計 | E26: =SUM(E7:E25) -> 59400 | F26: =SUM(F7:F25) -> 0 | H26: 0 | K26: 計 | M26: =SUM(M7:M25) -> 11060 | N26: =SUM(N7:N25) -> 0 | Q26: =SUM(P7:Q10) -> 0 | R26: =SUM(R7:R10) -> 0
A27: ※ 合…合売店 複…複合店
A28: ※ 塩釜利府店は宮城郡利府町を含みます（塩釜市3,230枚、利府町1,870枚）。 | L28: ※ 朝日新聞名取店・朝日新聞岩沼店は廃店し、河北新報各販売店に移管されました。
A29: ※ 読売新聞多賀城店2,900枚には、日本経済新聞が400枚含まれております。 | L29: ※ 読売新聞塩釜店2,560枚には産経新聞460枚と日経新聞400枚、利府店800枚には日本経済新聞が100枚含まれております。
A30: ※ 河北新報鶴巣店では富谷市の一部を取り扱っております。 | L30: ※ 富谷市の部数は仙台市内一部の販売店にも含まれております。
A31: ※ 読売新聞岩沼店2,600枚には、日本経済新聞が450枚含まれます。 | L31: ※ 名取市内の朝日新聞・毎日新聞・産経新聞・日経新聞は河北新報販売店が取り扱っております。
L32: ※ 岩沼市内の朝日新聞・毎日新聞・産経新聞は河北新報岩沼店が取り扱っております。
A33: ※ 天災、災害等の事故や選挙報道等で新聞制作の遅れが生ずる場合、やむを得ず折込日の変更をさせて頂く事や折込不能となる場合があります。
A34: ※ 悪天候、災害、事故等のやむを得ない理由により、折込不可能もしくは折込日の変更をせざるを得ない場合、折込料金以外の損害賠償について免責とさせていただきます。

Sheet 仙南
A1: =市内河!A1 -> 2026年 | C1: 広告主名 | D1: =市内河!$D$1 -> 0 | H1: タイトル | L1: 代理店名 | N1: =市内河!$N$1 -> 0 | P1: サイズ | R1: 総枚数 | S1: =市内河!$R$1 -> 0 | V1: 担当者 | X1: 受注No．
A2: =市内河!A2 -> 11/1改正 | C2: =市内河!C2 -> 0 | H2: =市内河!G2 -> 0 | L2: =市内河!L2 -> 0 | P2: =市内河!O2 -> 0 | V2: =市内河!U2 -> 0 | X2: =市内河!W2 -> 0
A3: 仙南方面 | R3: 頁枚数 | S3: =SUM(F23,N23) -> 0 | V3: 折込日
C4: 住所 | D4: =市内河!D4 -> 0 | K4: 印刷所 | M4: =市内河!N4 -> 0 | P4: MDS | S4: HSR | V4: =市内河!U4 -> 0 | AB4: 4
C5: Tel | D5: =市内河!D5 -> 0 | G5: Fax | H5: =市内河!H5 -> 0 | K5: 納品日 | M5: =市内河!N5 -> 0
A6: 地 区 | C6: 河北 | D6: 部数 | F6: 折込部数 | G6: 朝日 | H6: 部数 | J6: 折込部数 | K6: 読売 | L6: 部数 | N6: 折込部数 | O6: 毎日 | P6: 部数 | R6: 折込部数 | S6: 日経 | T6: 部数 | V6: 折込部数 | W6: 他紙 | X6: 部数 | Z6: 折込部数 | AB6: 白石市 刈田郡 柴田郡 角田市 伊具郡 亘理郡
A7: 白石市 | C7: 白石 ※ | D7: 複 | E7: 11200 | K7: 白石 | M7: 1600
A8: 刈田郡 | B8: 蔵王町
B9: 七ヶ宿町
A10: 柴田郡 | B10: 大河原町 | C10: 大河原 | D10: 複 | E10: 4850 | K10: 大河原 | M10: 2050
B11: 柴田町 | C11: 船岡 | D11: 複 | E11: 4550 | K11: 船岡 | M11: 1500
C12: 槻木 ※ | D12: 複 | E12: 3000 | K12: 槻木 ※ | L12: 複 | M12: 600
B13: 村田町 | C13: 村田 | D13: 合 | E13: 1500
B14: 川崎町 | C14: 川崎 | D14: 合 | E14: 1600
A15: 角田市 | C15: 角田 ※ | D15: 複 | E15: 4800 | K15: 角田 ※ | L15: 複 | M15: 1300
A16: 伊具郡 | B16: 丸森町 | C16: 丸森 | D16: 複 | E16: 2150
C17: 大内 | D17: 合 | E17: 550
A18: 亘理郡 | B18: 亘理町 | C18: 亘理 ※ | D18: 複 | E18: 3400 | K18: 亘理・ 山元 ※ | L18: 複 | M18: 1550
C19: 逢隈 ※ | D19: 複 | E19: 1500
C20: 浜吉田 ※ | D20: 複 | E20: 700
B21: 山元町 | C21: 山元 | D21: 複 | E21: 2500
C22: （坂元は山元に統合されました。）
A23: 計 | B23: =SUM(E23,M23) -> 50900 | C23: 計 | E23: =SUM(E7:E22) -> 42300 | F23: =SUM(F7:F22) -> 0 | K23: 計 | M23: =SUM(M7:M21) -> 8600 | N23: =SUM(N7:N21) -> 0
A24: ※ 合…合売店 複…複合店
A25: ※ 河北新報白石店内訳（白石市8,430枚、蔵王町2,450枚、七ケ宿町320枚） | M25: ※ 亘理町内の日本経済新聞は読売新聞亘理・山元店が取り扱っております。
A26: ※ 槻木の毎日新聞は河北新報槻木店が、朝日新聞は読売新聞槻木店が取り扱っております。 | M26: ※ 読売新聞亘理・山元店内訳（亘理地区1,100枚、山下地区450枚）
A27: ※ 角田市内の日本経済新聞は読売新聞角田店が取り扱っております。 | M27: ※ 亘理町内の朝日新聞は、河北新報各店が取り扱っております。
A28: ※ 角田市内の朝日新聞は、河北新報角田店が取り扱っております。 | M28: ※ 河北新報山下店は河北新報山元店に店名変更しました。
A29: ※ 天災、災害等の事故や選挙報道等で新聞制作の遅れが生ずる場合、やむを得ず折込日の変更をさせて頂く事や折込不能となる場合があります。
A30: ※ 悪天候、災害、事故等のやむを得ない理由により、折込不可能もしくは折込日の変更をせざるを得ない場合、折込料金以外の損害賠償について免責とさせていただきます。

Sheet 大崎
A1: =市内河!A1 -> 2026年 | C1: 広告主名 | D1: =市内河!$D$1 -> 0 | H1: タイトル | L1: 代理店名 | N1: =市内河!$N$1 -> 0 | P1: サイズ | R1: 総枚数 | S1: =市内河!$R$1 -> 0 | V1: 担当者 | X1: 受注No．
A2: =市内河!A2 -> 11/1改正 | C2: =市内河!C2 -> 0 | H2: =市内河!G2 -> 0 | L2: =市内河!L2 -> 0 | P2: =市内河!O2 -> 0 | V2: =市内河!U2 -> 0 | X2: =市内河!W2 -> 0
A3: 大崎方面 | R3: 頁枚数 | S3: =SUM(F25,N25,Z25) -> 0 | V3: 折込日
C4: 住所 | D4: =市内河!D4 -> 0 | K4: 印刷所 | M4: =市内河!N4 -> 0 | P4: MDS | S4: HSR | V4: =市内河!$U$4 -> 0 | AB4: 5
C5: Tel | D5: =市内河!D5 -> 0 | G5: Fax | H5: =市内河!H5 -> 0 | K5: 納品日 | M5: =市内河!N5 -> 0
A6: 地 区 | C6: 河北 | D6: 部数 | F6: 折込部数 | G6: 朝日 | H6: 部数 | J6: 折込部数 | K6: 読売 | L6: 部数 | N6: 折込部数 | O6: 毎日 | P6: 部数 | R6: 折込部数 | S6: 日経 | T6: 部数 | V6: 折込部数 | W6: 他紙 | X6: 部数 | Z6: 折込部数 | AB6: 大崎市 遠田郡 加美郡
A7: 大崎市 | B7: 旧古川市 | C7: 古川 ※ | D7: 複 | E7: 7800 | K7: 古川 ※ | L7: 複 | M7: 3050 | W7: 大崎 ﾀｲﾑｽ ※ | Y7: 6500
C8: 古川南※ | D8: 複 | E8: 6300
B9: 旧三本木町
B10: 旧松山町
B11: 旧鹿島台町 | C11: 鹿島台 | D11: 合 | E11: 2300
B12: 旧田尻町 | C12: 田尻 | D12: 合 | E12: 2200
B13: 旧 岩出山町 | C13: 岩出山 | D13: 合 | E13: 2200
C14: 池月 | D14: 合 | E14: 600
B15: 旧鳴子町 | C15: 鳴子 | D15: 合 | E15: 1850
A16: 遠田郡 | B16: 美里町 | C16: 美里西部※ | D16: 複 | E16: 850 | K16: 小牛田 | M16: 700
C17: 小牛田駅前※ | D17: 複 | E17: 2150
C18: 本小牛田※ | D18: 複 | E18: 850
C19: 南郷 | D19: 合 | E19: 1450
B20: 涌谷町 | C20: 涌谷 | D20: 複 | E20: 2650 | K20: 涌谷 | M20: 550
A21: 加美郡 | B21: 色麻町 | C21: 中新田 伊藤 | D21: 複 | E21: 2900 | K21: 中新田 | M21: 350
B22: 加美町
C23: 中新田 今藤※ | D23: 複 | E23: 2900
C24: 宮崎 | D24: 複 | E24: 1000
A25: 計 | B25: =SUM(E25,M25,Y25) -> 49150 | C25: 計 | E25: =SUM(E7:E24) -> 38000 | F25: =SUM(F7:F24) -> 0 | K25: 計 | M25: =SUM(M7:M24) -> 4650 | N25: =SUM(N7:N24) -> 0 | W25: 計 | Y25: =SUM(Y7) -> 6500 | Z25: =SUM(Z7:Z9) -> 0
A26: ※ 合…合売店 複…複合店
A27: ※ 〔折込休日〕大崎タイムスは基本的に月曜日が休刊です。また、旧古川市中心部は前日の夕方に配達されます。 | O27: ※ 河北新報中新田今藤店内訳(旧中新田町1,800枚､旧小野田町1,100枚)
A28: ※ 旧古川市の毎日新聞・日本経済新聞は河北新報が、産経新聞は読売新聞古川店が取り扱っております。 | O28: ※ 美里町の朝日新聞は、河北新報各店が取り扱っております。
A29: ※ 旧古川市清滝地区は栗原方面河北新報高清水店が300枚取り扱っております。 | O29: ※ 河北新報古川南店内訳（旧古川市3,300枚、旧三本木町1,900枚、旧松山町1,100枚）
A30: ※ 天災、災害等の事故や選挙報道等で新聞制作の遅れが生ずる場合、やむを得ず折込日の変更をさせて頂く事や折込不能となる場合があります。
A31: ※ 悪天候、災害、事故等のやむを得ない理由により、折込不可能もしくは折込日の変更をせざるを得ない場合、折込料金以外の損害賠償について免責とさせていただきます。

Sheet 石巻
A1: =市内河!A1 -> 2026年 | C1: 広告主名 | E1: =市内河!$D$1 -> 0 | H1: タイトル | L1: 代理店名 | N1: =市内河!$N$1 -> 0 | P1: サイズ | R1: 総枚数 | S1: =市内河!$R$1 -> 0 | V1: 担当者 | X1: 受注No．
A2: =市内河!A2 -> 11/1改正 | C2: =市内河!C2 -> 0 | H2: =市内河!G2 -> 0 | L2: =市内河!L2 -> 0 | P2: =市内河!O2 -> 0 | V2: =市内河!U2 -> 0 | X2: =市内河!W2 -> 0
A3: 石巻方面 | R3: 頁枚数 | S3: =SUM(F30,N30,Z30) -> 0 | V3: 折込日
C4: 住所 | D4: =市内河!D4 -> 0 | K4: 印刷所 | M4: =市内河!N4 -> 0 | P4: MDS | S4: HSR | V4: =市内河!U4 -> 0 | AB4: 6
C5: Tel | D5: =市内河!D5 -> 0 | G5: Fax | H5: =市内河!H5 -> 0 | K5: 納品日 | M5: =市内河!N5 -> 0
A6: 地 区 | C6: 河北 | D6: 部数 | F6: 折込部数 | G6: 朝日 | H6: 部数 | J6: 折込部数 | K6: 読売 | L6: 部数 | N6: 折込部数 | O6: 日経 | P6: 部数 | R6: 折込部数 | S6: 産経 | T6: 部数 | V6: 折込部数 | W6: 他紙 | X6: 部数 | Z6: 折込部数 | AB6: 石巻市 牡鹿郡 東松島市
A7: 石巻市 | B7: 旧 石巻市※ | C7: 立町 | D7: 複 | E7: 3650 | K7: 石巻 | M7: 1150 | W7: 石巻 日日 ※ | Y7: 6600
C8: 大街道 | D8: 複 | E8: 2750
C9: のぞみ野 | D9: 複 | E9: 3250
C10: 蛇田 | D10: 複 | E10: 2500
C11: 中里 | D11: 複 | E11: 4250
C12: 鹿妻 | D12: 複 | E12: 2750
C13: (稲井は中里・鹿妻・渡波へ統合されました）
C14: 渡波 | D14: 複 | E14: 2700
B15: 旧河南町 | C15: 広渕 | D15: 複 | E15: 1800
C16: 前谷地 | D16: 合 | E16: 750
C17: 佳景山 | D17: 合 | E17: 1000
C18: 鹿又 | D18: 合 | E18: 1650
B19: 旧北上町 | C19: 飯野川・ 橋浦 | D19: 合 | E19: 1650
B20: 旧河北町
C21: (旧河北町の一部は中里店・鹿又店が取り扱っています）
C22: 桃生津山※ | D22: 合 | E22: 2550
B23: 旧桃生町
B24: 旧牡鹿町 | C24: （旧牡鹿町は渡波店で取り扱っています）
B25: 旧雄勝町 | C25: 女川 ※ | D25: 複 | E25: 1550 | K25: 女川 ※ | L25: 複 | M25: 250
A26: 牡鹿郡 | B26: 女川町
A27: 東松島市 | B27: 旧矢本町 | C27: 赤井 | D27: 合 | E27: 1700
C28: 矢本 | D28: 合 | E28: 3800
B29: 旧鳴瀬町 | C29: 野蒜・小野 ※ | D29: 合 | E29: 1650
A30: 計 | B30: =SUM(E30,I30,M30,Y30) -> 47950 | C30: 計 | E30: =SUM(E7:E29) -> 39950 | F30: =SUM(F7:F29) -> 0 | K30: 計 | M30: =SUM(M7:M26) -> 1400 | N30: =SUM(N7:N26) -> 0 | W30: 計 | Y30: =SUM(Y7:Y29) -> 6600 | Z30: =SUM(Z7:Z29) -> 0
A31: ※ 合…合売店 複…複合店
A32: ※ 〔折込休日〕石巻日日新聞（夕刊紙）は日曜日と祝日の一部が休刊です。 | K32: ※ 旧石巻市内の朝日新聞・日本経済新聞は、旧石巻市河北新報各店が取り扱っております。
A33: ※ 河北新報野蒜・小野店内訳（野蒜地区500枚、小野地区1,150枚） | K33: ※ 河北新報女川店 内訳（女川町1,250枚、旧雄勝町300枚） | S33: ※ 女川町の産経新聞は読売新聞女川店が取り扱っております。
A34: ※ 天災、災害等の事故や選挙報道等で新聞制作の遅れが生ずる場合、やむを得ず折込日の変更をさせて頂く事や折込不能となる場合があります。 | S34: ※ 河北稲井店は中里・鹿妻・渡波へ統合されました。2026.6.1折～
A35: ※ 悪天候、災害、事故等のやむを得ない理由により、折込不可能もしくは折込日の変更をせざるを得ない場合、折込料金以外の損害賠償について免責とさせていただきます。 | S35: ※ 登米市津山町柳津地区（950枚)は河北新報桃生津山店が取り扱っております。

Sheet 栗原
A1: =市内河!A1 -> 2026年 | C1: 広告主名 | D1: =市内河!$D$1 -> 0 | H1: タイトル | L1: 代理店名 | N1: =市内河!$N$1 -> 0 | P1: サイズ | R1: 総枚数 | S1: =市内河!$R$1 -> 0 | V1: 担当者 | X1: 受注No．
A2: =市内河!A2 -> 11/1改正 | C2: =市内河!C2 -> 0 | H2: =市内河!G2 -> 0 | L2: =市内河!L2 -> 0 | P2: =市内河!O2 -> 0 | V2: =市内河!U2 -> 0 | X2: =市内河!W2 -> 0
A3: 栗原方面 | R3: 頁枚数 | S3: =SUM(F18,N18) -> 0 | V3: 折込日
C4: 住所 | D4: =市内河!D4 -> 0 | K4: 印刷所 | M4: =市内河!N4 -> 0 | P4: MDS | S4: HSR | V4: =市内河!U4 -> 0 | AB4: 7
C5: Tel | D5: =市内河!D5 -> 0 | G5: Fax | H5: =市内河!H5 -> 0 | K5: 納品日 | M5: =市内河!N5 -> 0
A6: 地 区 | C6: 河北 | D6: 部数 | F6: 折込部数 | G6: 朝日 | H6: 部数 | J6: 折込部数 | K6: 読売 | L6: 部数 | N6: 折込部数 | O6: 毎日 | P6: 部数 | R6: 折込部数 | S6: 日経 | T6: 部数 | V6: 折込部数 | W6: 他紙 | X6: 部数 | Z6: 折込部数 | AB6: 栗原市
A7: 栗原市 | B7: 旧築館町 | C7: 築館 ※ | D7: 複 | E7: 3800 | K7: 築館 ※ | L7: 複 | M7: 500
B8: 旧志波姫町
C9: 若柳 | D9: 合 | E9: 3300
B10: 旧若柳町
B11: 旧金成町 | C11: 金成 | D11: 合 | E11: 1850
B12: 旧栗駒町 | C12: くりこま | D12: 複 | E12: 2600 | K12: 岩ヶ崎※ | L12: 複 | M12: 450
B13: (旧鶯沢町含)
B14: 旧一迫町 | C14: 一迫 | D14: 合 | E14: 2000
B15: 旧花山村
B16: 旧高清水町 | C16: 高清水 ※ | D16: 合 | E16: 1150
B17: 旧瀬峰町 | C17: 瀬峰 | D17: 合 | E17: 1050
A18: 計 | B18: =SUM(E18,M18) -> 16700 | C18: 計 | E18: =SUM(E7:E17) -> 15750 | F18: =SUM(F7:F17) -> 0 | K18: 計 | M18: =SUM(M7:M13) -> 950 | N18: =SUM(N7:N13) -> 0
A19: ※ 合…合売店 複…複合店
A20: ※ 旧築館町の朝日新聞は、河北新報築館店が取り扱っております。 | N20: ※ 旧栗駒町、旧鶯沢町の毎日新聞は読売新聞岩ヶ崎店が取り扱っております。
A21: ※ 読売新聞築館店500枚には、100枚日本経済新聞が含まれております。 | N21: ※ 旧古川市清滝地区は河北新報高清水店が300枚取り扱っております。
A22: ※ 天災、災害等の事故や選挙報道等で新聞制作の遅れが生ずる場合、やむを得ず折込日の変更をさせて頂く事や折込不能となる場合があります。
A23: ※ 悪天候、災害、事故等のやむを得ない理由により、折込不可能もしくは折込日の変更をせざるを得ない場合、折込料金以外の損害賠償について免責とさせていただきます。

Sheet 気仙沼
A1: =市内河!A1 -> 2026年 | C1: 広告主名 | D1: =市内河!$D$1 -> 0 | H1: タイトル | L1: 代理店名 | N1: =市内河!$N$1 -> 0 | P1: サイズ | R1: 総枚数 | S1: =市内河!$R$1 -> 0 | V1: 担当者 | X1: 受注No．
A2: =市内河!A2 -> 11/1改正 | C2: =市内河!C2 -> 0 | H2: =市内河!G2 -> 0 | L2: =市内河!L2 -> 0 | P2: =市内河!O2 -> 0 | V2: =市内河!U2 -> 0 | X2: =市内河!W2 -> 0
A3: 気仙沼 ・ | R3: 頁枚数 | S3: =SUM(F25,N25,Z25) -> 0 | V3: 折込日
A4: 登米方面 | C4: 住所 | D4: =市内河!D4 -> 0 | K4: 印刷所 | M4: =市内河!N4 -> 0 | P4: MDS | S4: HSR | V4: =市内河!U4 -> 0 | AB4: 8
C5: Tel | D5: =市内河!D5 -> 0 | G5: Fax | H5: =市内河!H5 -> 0 | K5: 納品日 | M5: =市内河!N5 -> 0
A6: 地 区 | C6: 河北 | D6: 部数 | F6: 折込部数 | G6: 朝日 | H6: 部数 | J6: 折込部数 | K6: 読売 | L6: 部数 | N6: 折込部数 | O6: 毎日 | P6: 部数 | R6: 折込部数 | S6: 日経 | T6: 部数 | V6: 折込部数 | W6: 他紙 | X6: 部数 | Z6: 折込部数 | AB6: 気仙沼市 本吉郡 登米市
A7: 気仙沼市※ | B7: 旧 気仙沼市 | C7: 気仙沼南 | D7: 複 | E7: 1600 | K7: 気仙沼 | M7: 1400 | W7: 三陸 新報 ※ | Y7: 17470
C8: 気仙沼 | D8: 複 | E8: 4000
B9: 旧唐桑町
B10: 旧本吉町 | C10: 本吉 | D10: 複 | E10: 1200
A11: 本吉郡 | B11: 南三陸町 | C11: 南三陸 | D11: 合 | E11: 1850
A12: 登米市 | B12: 旧津山町 | C12: (柳津は桃生津山・南三陸へ統合されました）
B13: 旧石越町 | C13: 石越 | D13: 合 | E13: 1150
B14: 旧迫町 | C14: 新田 | D14: 合 | E14: 1600
C15: 西佐沼 ※ | D15: 複 | E15: 1300 | K15: 佐沼※ | L15: 複 | M15: 700
C16: 東佐沼 ※ | D16: 複 | E16: 2950
B17: 旧登米町 | K17: 登米※ | L17: 複 | M17: 400
B18: 旧南方町 | C18: 東郷 | D18: 合 | E18: 750
C19: 山成 | D19: 合 | E19: 650
C20: 高石 | D20: 合 | E20: 400
B21: 旧東和町 | C21: 登米東和 ※ | D21: 合 | E21: 3700
B22: 旧中田町
B23: 旧米山町 | C23: 米山 | D23: 合 | E23: 1900
B24: 旧豊里町 | C24: 豊里 | D24: 合 | E24: 950
A25: 計 | B25: =SUM(E25,M25,Y25) -> 43970 | C25: 計 | E25: =SUM(E7:E24) -> 24000 | F25: =SUM(F7:F24) -> 0 | K25: 計 | M25: =SUM(M7:M17) -> 2500 | N25: =SUM(N7:N17) -> 0 | W25: 計 | Y25: =SUM(Y7) -> 17470 | Z25: =SUM(Z7) -> 0
A26: ※ 合…合売店 複…複合店
A27: ※ 〔折込休日〕三陸新報は月曜日が休刊です。 | N27: ※ 登米市の産経新聞は読売新聞佐沼店、朝日新聞・毎日新聞は読売新聞登米店が取り扱っております。
A28: ※ 気仙沼市内の朝日新聞・毎日新聞・日本経済新聞・産経新聞は河北新報気仙沼各店が取り扱っております。 | N28: ※ 旧迫町佐沼の朝日新聞・毎日新聞は河北新報西佐沼店、東佐沼店が取り扱っております。
A29: ※ 中田町浅水地区の一部、中田町上沼弥勒寺地区の一部は河北新報登米東和店で取り扱っております。 | N29: ※河北柳津店は河北桃生津山・南三陸へ統合されました。2026.6.1折～
A30: ※ 天災、災害等の事故や選挙報道等で新聞制作の遅れが生ずる場合、やむを得ず折込日の変更をさせて頂く事や折込不能となる場合があります。
A31: ※ 悪天候、災害、事故等のやむを得ない理由により、折込不可能もしくは折込日の変更をせざるを得ない場合、折込料金以外の損害賠償について免責とさせていただきます。
A32: ※ 三陸新報内訳(気仙沼市内12,880枚、旧唐桑町1,590枚、旧本吉町2,410枚、南三陸町590枚）

Sheet 一関方面 
A1: 2026年 | C1: 広告主名 | D1: =市内河!D1 -> 0 | H1: タイトル | L1: 代理店名 | N1: =市内河!N1 -> 0 | P1: サイズ | R1: 総枚数 | S1: =市内河!R1 -> 0 | V1: 担当者 | X1: 受注No
A2: 7/1改正 | C2: =市内河!C2 -> 0 | H2: =市内河!G2 -> 0 | L2: =市内河!L2 -> 0 | P2: =市内河!O2 -> 0 | V2: =市内河!U2 -> 0 | X2: =市内河!W2 -> 0
A3: 岩手県 | R3: 頁枚数 | S3: =SUM(F17,J17,N17,R17,Z17,F19,J19,F25,J25,V17,N25,V25) -> 0 | V3: 折込日
A4: 一関方面 | C4: 住所 | K4: 印刷所 | P4: MDS | S4: HSR | V4: =市内河!U4 -> 0
C5: Tel | G5: Fax | K5: 納品日 | AB5: 9
A6: 地 区 | C6: 岩手日報 | E6: 部数 | F6: 折込部数 | G6: 読売 | I6: 部数 | J6: 折込部数 | K6: 朝日 | M6: 部数 | N6: 折込部数 | O6: 毎日 | Q6: 部数 | R6: 折込部数 | S6: 河北 | U6: 部数 | V6: 折込部数 | W6: 他紙 | Y6: 部数 | Z6: 折込部数 | AB6: 一関市 西磐井郡 陸前高田市
A7: 一関市 | C7: 一関 | E7: 2950 | G7: 一関 | I7: 1900 | K7: 一関 | L7: 複 | M7: 1430 | O7: 一関 | Q7: 270 | S7: 一関 | U7: 220 | W7: 日経・一関（読） | Y7: 350
C8: 花泉 | D8: 複 | E8: 2930 | G8: 花泉 | H8: 複 | I8: 1240
C9: 薄衣 | D9: 合 | E9: 1250
C10: 東山 | D10: 合 | E10: 1450 | W10: 岩手日日
C11: 摺沢 | D11: 合 | E11: 1270 | W11: 一関（専売） | Y11: 10470
C12: 大原 | D12: 合 | E12: 1070 | W12: 一関（読） | Y12: 1200
C13: 興田 | D13: 複 | E13: 1550 | W13: 東山（日） | Y13: 1930
C14: 千厩 ① | D14: 合 | E14: 2000 | W14: 千厩（専売） | Y14: 1670
C15: 藤沢 | D15: 合 | E15: 1220 | W15: 藤沢（専売） | Y15: 1350
C16: 室根 | D16: 合 | E16: 1150 | W16: 岩手日日計 | Y16: =SUM(Y11:Y15) -> 16620 | Z16: =SUM(Z11:Z15) -> 0
B17: =E17+M17+Q17+I17+U17+Y17 -> 38870 | C17: 計 | E17: =SUM(E7:E16) -> 16840 | F17: =SUM(F7:F16) -> 0 | G17: 計 | I17: =SUM(I7:I16) -> 3140 | J17: =SUM(J7:J16) -> 0 | K17: 計 | M17: =SUM(M7:M16) -> 1430 | N17: =SUM(N7:N16) -> 0 | O17: 計 | Q17: =SUM(Q7:Q16) -> 270 | R17: =SUM(R7:R16) -> 0 | S17: 計 | U17: =SUM(U7:U16) -> 220 | V17: =SUM(V7:V16) -> 0 | W17: 計 | Y17: =SUM(Y7+Y16) -> 16970 | Z17: =Z7+Z16 -> 0
A18: 西磐井郡 | B18: 平泉町 | C18: 平泉 ② | D18: 複 | E18: 2100 | G18: 平泉 ② | H18: 複 | I18: 600
B19: =E19+I19 -> 2700 | C19: 計 | E19: =SUM(E18:E18) -> 2100 | F19: =SUM(F18) -> 0 | G19: 計 | I19: =SUM(I18:I18) -> 600 | J19: =SUM(J18:J18) -> 0
A20: 陸前高田市 | C20: 高田 | D20: 複 | E20: 920 | G20: 高田 | H20: 複 | I20: 480 | K20: 高田 | M20: 350 | S20: 高田 | T20: 複 | U20: 460
G21: 矢作二又③ | H21: 複 | I21: 90
C22: 小友 | D22: 複 | E22: 220
C23: 広田 | D23: 複 | E23: 330
G24: 住田 ③ | H24: 複 | I24: 240
B25: =E25+M25+I25+U25 -> 3090 | C25: 計 | E25: =SUM(E20:E24) -> 1470 | F25: =SUM(F20:F24) -> 0 | G25: 計 | I25: =SUM(I20:I24) -> 810 | J25: =SUM(J20:J24) -> 0 | K25: 計 | M25: =SUM(M20:M24) -> 350 | N25: =SUM(N20:N24) -> 0 | S25: 計 | U25: =SUM(U20:U24) -> 460 | V25: =SUM(V20:V24) -> 0
A26: 合…合売店 複…複合店
A27: ①…藤沢町を一部含む販売店 (日報千厩) | H27: ②…奥州市（旧衣川村）を一部含む販売店 (日報平泉250・読売平泉150)
A28: ③…岩手日報を含む販売店（読売住田・読売矢作二又）
A29: ※ 天災、災害等の事故や選挙報道等で新聞制作の遅れが生ずる場合、やむを得ず折込日の変更をさせて頂く事や折込不能となる場合があります。
A30: ※ 悪天候、災害、事故等のやむを得ない理由により、折込不可能もしくは折込日の変更をせざるを得ない場合、折込料金以外の損害賠償について免責とさせていただきます。

Sheet 指示書
A1: 受注Ｎｏ． | C1: 東京紙委託先 | K1: =SUM(TODAY()) -> 46325
C2: =市内東京紙!B21 -> 0 | D2: 作業指示書
A5: 折込日 | C5: =市内河!U4 -> 0 | E5: サイズ | F5: =市内河!O2 -> 0 | G5: 得意先 | J5: =市内河!N1 -> 0
A6: 広告主名 | C6: =市内河!D1 -> 0 | E6: タイトル | F6: =市内河!G2 -> 0
C7: =市内河!C2 -> 0
A8: 業種
A9: 市内総枚数 | C9: =F11 -> 0 | D9: 枚 | E9: 総枚数 | F9: =SUM(F11:F15) -> 0 | H9: 枚
A10: 県下総枚数 | C10: =F12 -> 0 | D10: 枚
A11: 差替 | C11: 無 ・ 有 | E11: 仙台市内 | F11: =SUM(市内河!R3,市内東京紙!R3,近郊!F7,近郊!F11,近郊!F14,近郊!F22:F24,近郊!N20) -> 0 | G11: 枚 | H11: 市内東京紙 | K11: =市内東京紙!R3+近郊!N20 -> 0 | L11: 枚
E12: 県 下 | F12: =近郊!S3-SUM(近郊!F7,近郊!F11,近郊!F14,近郊!F22:F24,近郊!N20)+仙南!S3+大崎!S3+石巻!S3+栗原!S3+気仙沼!S3+'一関方面 '!S3 -> 0 | G12: 枚 | H12: 名取東京紙(Y) | K12: =SUM(近郊!J22,近郊!N22:N24) -> 0 | L12: 枚
H13: 一関分 | K13: ='一関方面 '!S3 -> 0 | L13: 枚
H14: 三陸新報(Ｙ) | K14: =気仙沼!Z7 -> 0 | L14: 枚
A15: 入荷区分 | C15: 入荷 ・ 在庫 ・ 集荷 | E15: 県外 | G15: 枚
A16: 枚数 | E16: 次回折込予定日
A17: 備考
L21: =市内河!U2 -> 0

Sheet 市内夕刊
K1: 河 北 新 報 夕刊折込部数表
A2: =市内河!A1 -> 2026年 | C2: 広告主名 | D2: =市内河!D1 -> 0 | G2: タイトル | L2: 代理店名 | N2: =市内河!N1 -> 0 | O2: サイズ | P2: 総枚数 | R2: =R4 -> 0 | U2: 担当者 | W2: 受注No.
A3: =市内河!A2 -> 11/1改正 | C3: =市内河!C2 -> 0 | L3: =市内河!L2 -> 0 | O3: =市内河!O2 -> 0 | U3: =市内河!U2 -> 0 | W3: =市内河!W2 -> 0
A4: 仙台市 | P4: 頁枚数 | R4: =V22 -> 0 | U4: 折込日
A5: 河北 | C5: 住所 | L5: 印刷所 | Q5: MDS | U5: =市内河!U4 -> 0
A6: 夕刊 | C6: Tel | G6: Fax | L6: 納品日 | Z6: 10
A7: 河北新報（仙台市内）① | B7: No | C7: 販売店名 | D7: 部 数 | F7: 折込部数 | H7: 区別 | J7: No | K7: 販売店名 | L7: 部 数 | N7: 折込部数 | P7: 区別 | R7: 河北新報（仙台市内）② | S7: 販売店名 | T7: 部 数 | V7: 折込部数 | X7: 区別 | Z7: 仙台市 （河北新報）
B8: 1 | C8: 五橋 | E8: 1550 | H8: 青 | J8: 16 | K8: 東仙台 | M8: 400 | P8: 宮 | S8: 泉中央 | U8: 450 | X8: 泉
B9: 2 | C9: 八幡 | E9: 600 | H9: 青 | J9: 17 | K9: 燕沢 | M9: 300 | P9: 宮 | S9: 泉ヶ丘大富 | U9: 250 | X9: 泉富和
B10: 3 | C10: 国見 | E10: 500 | H10: 青 | J10: 18 | K10: 宮城野 | M10: 600 | P10: 宮若 | S10: 泉松陵 | U10: 350 | V10: 0 | X10: 泉
B11: 4 | C11: 北山 | E11: 650 | H11: 青 | J11: 19 | K11: 南小泉 | M11: 650 | P11: 若宮 | S11: 泉パークタウン | U11: 550 | X11: 泉
B12: 5 | C12: 上杉 | E12: 1200 | H12: 青 | J12: 20 | K12: 若林 | M12: 700 | P12: 若 | S12: 新富谷GC | U12: 450 | X12: 泉富
B13: 6 | C13: 幸町 | E13: 650 | H13: 青宮 | J13: 21 | K13: 郡山 | M13: 450 | P13: 太
B14: 7 | C14: 榴岡 | E14: 850 | H14: 宮若 | J14: 22 | K14: 長町 | M14: 950 | P14: 太
B15: 8 | C15: 中山 | E15: 550 | H15: 青泉 | J15: 23 | K15: 八木山 | M15: 950 | N15: 0 | P15: 太
B16: 9 | C16: 泉中山 | E16: 150 | H16: 泉 | J16: 24 | K16: 鈎取太白 | M16: 600 | P16: 太 | R16: 夕刊
B17: 10 | C17: 桜ヶ丘 | E17: 550 | H17: 青泉 | J17: 25 | K17: 富沢 | M17: 650 | P17: 太名 | S17: ②小計 | T17: =SUM(U8:U12) -> 2050 | V17: =SUM(V8:V12) -> 0
B18: 11 | C18: 長命ヶ丘 | E18: 450 | H18: 泉青 | J18: 26 | K18: 吉成 | M18: 250 | P18: 青
B19: 12 | C19: 八乙女 | E19: 600 | H19: 泉 | Z19: 夕刊
B20: 13 | C20: 台原 | E20: 800 | H20: 青泉
A21: 夕刊 | B21: 14 | C21: 旭ヶ丘 | E21: 750 | H21: 青泉宮
B22: 15 | C22: 鶴ヶ谷 | E22: 650 | H22: 宮泉 | J22: ①小 計 | L22: =SUM(E8:E22,M8:M21) -> 17000 | N22: =SUM(F8:F22,N8:N21) -> 0 | R22: 合 計 | T22: =SUM(L22,T17) -> 19050 | V22: =SUM(N22,V17) -> 0
A25: ※ 青→青葉区、宮→宮城野区、若→若林区、太→太白区、泉→泉区、富→富谷市、和→黒川郡大和町
A26: ※ 〔折込休日〕夕刊は日曜・祝日と振替休日、年末年始は発行されません。
A27: ※ 天災、災害等の事故や選挙報道等で新聞制作の遅れが生ずる場合、やむを得ず折込日の変更をさせて頂く事や折込不能となる場合があります。
A28: ※ 悪天候、災害、事故等のやむを得ない理由により、折込不可能もしくは折込日の変更をせざるを得ない場合、折込料金以外の損害賠償について免責とさせていただきます。

Sheet 指示書夕刊
A1: 受注Ｎｏ． | C1: 東京紙委託先 | K1: =SUM(TODAY()) -> 46325
D2: 作業指示書
K3: 夕刊
A5: 折込日 | C5: =市内夕刊!U5 -> 0 | D5: 夕刊 | E5: サイズ | F5: =市内夕刊!O3 -> 0 | G5: 得意先 | J5: =市内夕刊!N2 -> 0
A6: 広告主名 | C6: =市内夕刊!D2 -> 0 | E6: タイトル | F6: =市内夕刊!G3 -> 0
C7: =市内夕刊!C3 -> 0
A8: 業種
A9: 市内総枚数 | C9: =F11 -> 0 | D9: 枚 | E9: 総枚数 | F9: =F11 -> 0 | H9: 枚
A10: 県下総枚数 | C10: =F12 -> 0 | D10: 枚
A11: 差替 | C11: 無 ・ 有 | E11: 仙台市内 | F11: =市内夕刊!R2 -> 0 | G11: 枚 | H11: 市内東京紙 | L11: 枚
E12: 県 下 | G12: 枚 | H12: 名取東京紙(Y) | L12: 枚
H13: 一関分 | L13: 枚
H14: 三陸新報(Ｙ) | L14: 枚
A15: 入荷区分 | C15: 入荷 ・ 在庫 ・ 集荷 | E15: 県外 | G15: 枚
A16: 枚数 | E16: 次回折込予定日
A17: 備考
L21: =市内夕刊!U3 -> 0

Sheet 河北PP部数
A1: ｢新聞折込広告｣･｢河北パワーポスティング」部数明細書
A2: =市内河!A1 -> 2026年 | C2: 広告主名 | D2: =市内河!D1 -> 0 | G2: タイトル | L2: 代理店名 | O2: サイズ | P2: 総枚数 | S2: =SUM(S3:T4) -> 0 | U2: 担当者 | W2: 受注No.
A3: =市内河!A2 -> 11/1改正 | C3: =市内河!C2 -> 0 | L3: =市内河!L2 -> 0 | O3: =市内河!O2 -> 0 | P3: 折込部数 | S3: =V30 -> 0 | U3: =市内河!U2 -> 0 | W3: =市内河!W2 -> 0 | Z3: 11
A4: 仙台市 | P4: ポスティング部数 | S4: =X30 -> 0 | U4: 折込日（朝刊） | W4: 配布日（ＰＰ） | Z4: 仙台市(富谷市・大和町・利府町・名取市・岩沼市含む）（河北新報 朝刊･パワーポスティング）
A5: 河北 | C5: 住所 | L5: 印刷所 | Q5: MDS | U5: =市内河!U4 -> 0
C6: Tel | G6: Fax | L6: 納品日
A7: 仙台市内河北新報① | B7: No | C7: 販売店名 | D7: 部数 | F7: 朝刊 | G7: ポスティング | H7: ＰＰ | J7: No | K7: 販売店名 | L7: 部数 | N7: 朝刊 | O7: ポスティング | P7: ＰＰ | R7: No | S7: 販売店名 | T7: 部数 | V7: 朝刊 | W7: ポスティング | X7: ＰＰ
B8: 1 | C8: 五橋 | D8: 複 | E8: 7350 | G8: 6850 | J8: 13 | K8: 台原 | L8: 複 | M8: 4400 | O8: 6300 | R8: 25 | S8: 荒井 | T8: 複 | U8: 3850 | W8: 3050
B9: 2 | C9: 八幡 | D9: 複 | E9: 3550 | G9: 5800 | J9: 14 | K9: 旭ヶ丘 | L9: 複 | M9: 4700 | O9: 7100 | R9: 26 | S9: 富沢 | T9: 複 | U9: 5500 | W9: 4600
B10: 3 | C10: 国見 | D10: 複 | E10: 2750 | G10: 2800 | J10: 15 | K10: 鶴ヶ谷 | L10: 複 | M10: 4600 | O10: 4050 | R10: 27 | S10: 南仙台 | T10: 複 | U10: 3700 | W10: 4000
B11: 4 | C11: 北山 | D11: 複 | E11: 3550 | G11: 5600 | J11: 16 | K11: 東仙台 | L11: 複 | M11: 3650 | O11: 5350 | R11: 28 | S11: 吉成 | T11: 複 | U11: 2150 | W11: 1700
B12: 5 | C12: 上杉 | D12: 複 | E12: 5700 | G12: 4950 | J12: 17 | K12: 燕沢 | L12: 複 | M12: 2500 | O12: 2850
B13: 6 | C13: 幸町 | D13: 複 | E13: 4400 | G13: 6800 | J13: 18 | K13: 宮城野 | L13: 複 | M13: 4250 | O13: 6200
B14: 7 | C14: 榴岡 | D14: 複 | E14: 4900 | G14: 6000 | J14: 19 | K14: 南小泉 | L14: 複 | M14: 4150 | O14: 4100
B15: 8 | C15: 中山 | D15: 複 | E15: 3500 | G15: 3800 | J15: 20 | K15: 若林 | L15: 複 | M15: 4900 | O15: 6900
B16: 9 | C16: 泉中山 | D16: 複 | E16: 950 | G16: 850 | J16: 21 | K16: 郡山 | L16: 複 | M16: 3850 | O16: 3600
B17: 10 | C17: 桜ヶ丘 | D17: 複 | E17: 3200 | G17: 3400 | J17: 22 | K17: 長町 | L17: 複 | M17: 6100 | O17: 8400
B18: 11 | C18: 長命ヶ丘 | D18: 複 | E18: 3750 | G18: 3100 | J18: 23 | K18: 八木山 | L18: 複 | M18: 5750 | O18: 5850
B19: 12 | C19: 八乙女 | D19: 複 | E19: 4050 | G19: 4500 | J19: 24 | K19: 鈎取太白 | L19: 複 | M19: 3750 | O19: 2500 | R19: ①小 計 | T19: =SUM(E8:E19,M8:M19,U8:U12) -> 115450 | V19: =SUM(F8:F19,N8:N19,V8:V12) -> 0 | W19: =SUM(G8:G19,O8:O19,W8:W12) -> 131000 | X19: =SUM(H8:H19,P8:P19,X8:X12) -> 0
A21: 仙台市内･近郊河北新報② | B21: 50 | C21: 住吉台 | D21: 複 | E21: 2450 | J21: 60 | K21: 折立 | L21: 複 | M21: 1300 | R21: 68 | S21: 利府青葉台※3 | T21: 複 | U21: 4350 | W21: 1500
B22: 51 | C22: 泉中央 | D22: 複 | E22: 4850 | G22: 6500 | J22: 61 | K22: 愛子 | L22: 複 | M22: 4650 | R22: 69 | S22: 塩釜利府※3 | T22: 複 | U22: 5100 | W22: 850
B23: 52 | C23: 泉ヶ丘大富 | D23: 複 | E23: 3100 | G23: 3000 | J23: 62 | K23: （愛子西部は愛子に統合されました。） | R23: 70 | S23: 名取西※4 | T23: 複 | U23: 2450 | W23: 1200
B24: 53 | C24: （向陽台は新富谷GCに統合されました。） | J24: 63 | K24: 愛子東部 | L24: 複 | M24: 3400 | R24: 71 | S24: 名取中央※4 | T24: 複 | U24: 5700 | W24: 4800
B25: 54 | C25: 岩切 | D25: 複 | E25: 3300 | G25: 3600 | J25: 64 | K25: 東中田 | L25: 複 | M25: 4150 | R25: 72 | S25: 南名取※4 | T25: 複 | U25: 4000 | W25: 1650
B26: 55 | C26: 高砂中野栄 | D26: 複 | E26: 5750 | G26: 2000 | J26: 65 | K26: 泉松陵 | L26: 複 | M26: 3800 | O26: 3300 | R26: 73 | S26: 岩沼 ※5 | T26: 複 | U26: 7800 | W26: 1000
B27: 56 | C27: 福田町※1 | D27: 複 | E27: 2500 | G27: 2000 | J27: 66 | K27: 泉パークタウン | L27: 複 | M27: 4300 | O27: 3400
B28: 57 | C28: 六丁目 | D28: 複 | E28: 1000 | G28: 1000 | J28: 67 | K28: 新富谷GC※2 | L28: 複 | M28: 5950 | O28: 4800
B29: 58 | C29: 沖野 | D29: 複 | E29: 4550 | R29: ②小 計 | T29: =SUM(E21:E30,M21:M28,T21:U26) -> 87450 | V29: =SUM(F21:F30,N21:N28,V21:V26) -> 0 | W29: =SUM(G21:G30,O21:O28,W21:W26) -> 40600 | X29: =SUM(H21:H30,P21:P28,X21:X26) -> 0
B30: 59 | C30: 茂庭 | D30: 複 | E30: 3000 | R30: 合 計 | T30: =T19+T29 -> 202900 | V30: =V19+V29 -> 0 | W30: =W19+W29 -> 171600 | X30: =X19+X29 -> 0
A31: ※1 No,56福田町販売店の扇町、鶴代町、岡田西町、小鶴は河北PP配布不可となります。 | L31: ※2 No,67新富谷ＧＣ販売店は泉区と富谷市になります。
A32: ※3 No,68利府青葉台販売店とNo.69塩釜利府販売店の河北PP配布エリアは利府町となります。(利府青葉台販売店の沢乙地区は河北ＰＰ配布不可となります)
A33: ※4 No,70名取西販売店.No,71名取中央販売店.No,72南名取販売店は名取市となります(名取西販売店の高舘(熊野堂・吉田・川上)・大沢・坪沼地区、
A34: 名取中央販売店の田高・高舘(野来・前沖)・下余田(中荷・成田)・大曲・高柳・小塚原・閖上地区、南名取販売店の飯野坂・植松・下増田・愛島・愛島台地区は河北ＰＰ配布不可となります）
A35: ※5 No,73岩沼販売店は市街地中心部のみの配布となります。

Sheet 石巻PP部数
A1: 河北パワーポスティング石巻 部数表（申込書）
A2: 2026年 | B2: 広告主名 | E2: タイトル | I2: 代理店名 | L2: サイズ | M2: 合計枚数 | O2: 担当者 | Q2: 受注番号
A3: 8/1改正 | M3: =Q16 -> 0
O4: 朝刊折込日 | Q4: 石巻ＰＰ配布日(木）
B5: 住所 | I5: 印刷所 | M5: ＭＤＳ
B6: ＴＥＬ | E6: ＦＡＸ | I6: 納品日
A7: 地区 | D7: 販売店名 | G7: 朝刊部数 | I7: 折込部数 | K7: 石巻ＰＰ | M7: 配布部数 | O7: 販売店計(朝刊+石巻ＰＰ） | Q7: 朝刊折込+石巻ＰＰ配布計
A8: 石巻市 | B8: （旧石巻市） | D8: 立町 | F8: 複 | G8: 3650 | K8: 2950 | O8: =SUM(G8,K8) -> 6600 | Q8: =SUM(I8,M8) -> 0
D9: 大街道 | F9: 複 | G9: 2750 | K9: 3300 | O9: =SUM(G9,K9) -> 6050 | Q9: =SUM(I9,M9) -> 0
D10: のぞみ野 | F10: 複 | G10: 3250 | K10: 3500 | O10: =SUM(G10,K10) -> 6750 | Q10: =SUM(I10,M10) -> 0
D11: 蛇田 | F11: 複 | G11: 2500 | K11: 2550 | O11: =SUM(G11,K11) -> 5050 | Q11: =SUM(I11,M11) -> 0
D12: 中里 | F12: 複 | G12: 4250 | K12: 4600 | O12: =SUM(G12,K12) -> 8850 | Q12: =SUM(I12,M12) -> 0
D13: 鹿妻 | F13: 複 | G13: 2750 | K13: 3150 | O13: =SUM(G13,K13) -> 5900 | Q13: =SUM(I13,M13) -> 0
D14: （稲井は中里・鹿妻・渡波へ統合されました。2026.6.1～） | O14: =SUM(G14,K14) -> 0 | Q14: =SUM(I14,M14) -> 0
D15: 渡波 | F15: 複 | G15: 2700 | K15: 1550 | O15: =SUM(G15,K15) -> 4250 | Q15: =SUM(I15,M15) -> 0
D16: 計 | G16: =SUM(G8:H15) -> 21850 | I16: =SUM(I8:J15) -> 0 | K16: =SUM(K8:L15) -> 21600 | M16: =SUM(M8:N15) -> 0 | O16: =SUM(O8:P15) -> 43450 | Q16: =SUM(Q8:R15) -> 0
A17: ※ 河北パワーポスティング石巻は木曜日の配布となります。
A18: ※ 河北パワーポスティング石巻は河北新報朝刊折込（旧石巻市）と併用が条件です。
A19: ※ 河北パワーポスティング石巻では販売店統合のため一部配布できないエリアを持つ販売店があります。
A20: ①渡波販売店内の旧大原販売店エリア・旧鮎川販売店エリア ②中里販売店内の旧飯野川販売店エリア
A21: ※ 天災、災害等の事故や選挙報道等で新聞制作の遅れが生ずる場合、やむを得ず折込日の変更をさせて頂く事や折込不能となる場合があります。
A22: ※ 悪天候、災害、事故等のやむを得ない理由により、折込不可能もしくは折込日の変更をせざるを得ない場合、折込料金以外の損害賠償について免責とさせていただきます。

Sheet 仙台PP部数
A1: ｢新聞折込広告｣･｢仙台パワーポスティング」部数明細書
A2: 2026年 | C2: 広告主名 | G2: タイトル | L2: 代理店名 | O2: サイズ | P2: 総枚数 | S2: =SUM(S3:T4) -> 0 | U2: 担当者 | W2: 受注No.
A3: 46321 | P3: 折込部数 | S3: =V29 -> 0 | Z3: 13
A4: 仙台市 | P4: ポスティング部数 | S4: =X29 -> 0 | U4: 折込日（朝刊） | W4: 配布日（仙台ＰＰ） | Z4: 仙台市（仙台パワーポスティング）
A5: 河北 | C5: 住所 | L5: 印刷所 | Q5: MDS
C6: Tel | G6: Fax | L6: 納品日
A7: 仙台市内河北新報① | B7: No | C7: 販売店名 | D7: 部数 | F7: 朝刊 | G7: ポスティング | H7: 仙台ＰＰ | J7: No | K7: 販売店名 | L7: 部数 | N7: 朝刊 | O7: ポスティング | P7: 仙台ＰＰ | R7: No | S7: 販売店名 | T7: 部数 | V7: 朝刊 | W7: ポスティング | X7: 仙台ＰＰ
B8: 1 | C8: 五橋 | D8: 複 | E8: 7350 | G8: 4150 | J8: 13 | K8: 台原 | L8: 複 | M8: 4400 | O8: 3800 | R8: 25 | S8: 荒井 | T8: 複 | U8: 3850 | W8: 1850
B9: 2 | C9: 八幡 | D9: 複 | E9: 3550 | G9: 3500 | J9: 14 | K9: 旭ヶ丘 | L9: 複 | M9: 4700 | O9: 4300 | R9: 26 | S9: 富沢 | T9: 複 | U9: 5500 | W9: 2800
B10: 3 | C10: 国見 | D10: 複 | E10: 2750 | G10: 1700 | J10: 15 | K10: 鶴ヶ谷 | L10: 複 | M10: 4600 | O10: 2450 | R10: 27 | S10: 南仙台 | T10: 複 | U10: 3700 | W10: 2400
B11: 4 | C11: 北山 | D11: 複 | E11: 3550 | G11: 3400 | J11: 16 | K11: 東仙台 | L11: 複 | M11: 3650 | O11: 3250 | R11: 28 | S11: 吉成 | T11: 複 | U11: 2150 | W11: 1050
B12: 5 | C12: 上杉 | D12: 複 | E12: 5700 | G12: 3000 | J12: 17 | K12: 燕沢 | L12: 複 | M12: 2500 | O12: 1700
B13: 6 | C13: 幸町 | D13: 複 | E13: 4400 | G13: 4100 | J13: 18 | K13: 宮城野 | L13: 複 | M13: 4250 | O13: 3750
B14: 7 | C14: 榴岡 | D14: 複 | E14: 4900 | G14: 3600 | J14: 19 | K14: 南小泉 | L14: 複 | M14: 4150 | O14: 2500
B15: 8 | C15: 中山 | D15: 複 | E15: 3500 | G15: 2300 | J15: 20 | K15: 若林 | L15: 複 | M15: 4900 | O15: 4150
B16: 9 | C16: 泉中山 | D16: 複 | E16: 950 | G16: 500 | J16: 21 | K16: 郡山 | L16: 複 | M16: 3850 | O16: 2200
B17: 10 | C17: 桜ヶ丘 | D17: 複 | E17: 3200 | G17: 2050 | J17: 22 | K17: 長町 | L17: 複 | M17: 6100 | O17: 5050
B18: 11 | C18: 長命ヶ丘 | D18: 複 | E18: 3750 | G18: 1900 | J18: 23 | K18: 八木山 | L18: 複 | M18: 5750 | O18: 3550
B19: 12 | C19: 八乙女 | D19: 複 | E19: 4050 | G19: 2700 | J19: 24 | K19: 鈎取太白 | L19: 複 | M19: 3750 | O19: 1500 | R19: 合計 | T19: =SUM(E8:E19,M8:M19,U8:U11) -> 115450 | V19: =SUM(F8:F19,N8:N19,V8:V11) -> 0 | W19: =SUM(G8:G19,O8:O19,W8:W11) -> 79200 | X19: =SUM(H8:H19,P8:P19,X8:X11) -> 0
T28: =SUM(E21:E30,M20:M27,T20:U25) -> 0 | V28: =SUM(F21:F30,N20:N27,V20:V25) -> 0 | W28: =SUM(G21:G30,O20:O27,W20:W25) -> 0 | X28: =SUM(H21:H30,P20:P27,X20:X25) -> 0
R29: ②小 計 | T29: =T19+T28 -> 115450 | V29: =V19+V28 -> 0 | W29: =W19+W28 -> 79200 | X29: =X19+X28 -> 0
R30: 合 計
A32: ※配布エリア/河北仙販管轄エリア（仙台市の一部を除くエリア）
A33: ※仙台パワーポスティングは毎週月曜日の配布となります。(配布期間：月曜日～水曜日）
A34: ※仙台パワーポスティングは新聞折込との併用が条件となります。
A35: ※ 天災、災害等の事故や選挙報道等で新聞制作の遅れが生ずる場合、やむを得ず折込日・配布日の変更をさせて頂く事や配布不能となる場合があります。
A36: ※ 悪天候、災害、事故等のやむを得ない理由により、配布不可能もしくは配布日の変更をせざるを得ない場合、配布料金以外の損害賠償について免責とさせていただきます。

Sheet 免責について
A1: 災害等における折込取扱いの免責について
A4: 災害等にあたり、各関係各社は全力を傾注して新聞及び折込広告を読者へお届けできるよう
A5: 最善の努力を尽くしますが、業務に携わるすべての人の安全を最優先とさせていただきます。
I7: 被災地に新聞発行本社、折込会社、新聞販売店がある場合、ライフラインや通信網の遮断、交通規制や避難、建物の
I8: 倒壊によって業務が中断することがあります。その為、新聞販売店や広告主様との連絡が取れなくなり、通常通りの折
I9: 込手配や折込中止の手配が出来ない事態が発生する事も考えられます。また、感染症の発生やその他不測の事態が発生
I10: した場合にも同様の事態が考えられます。
I11: 以上のことから、災害等が発生した場合には《災害等における折込取扱いの免責》を適用させて頂きます。
H13: 適用となる災害等
O15: ・大地震 | AS15: ・火災、爆発事故
O16: ・津 波 | AS16: ・放射能汚染
O17: ・水 害 | AS17: ・災害等にともなう交通規制、避難勧告
O18: ・大 雪 | AS18: ・ライフラインや通信網の遮断
O19: ・噴火、山林火災 | AS19: ・新型インフルエンザなどの感染症の発生
O20: ・土砂崩れ | AS20: ・その他不測の事態
G23: 《災害等における折込取扱いの免責》について
H25: 上記の事態が発生した場合、可能な限り通常業務維持に努めますが、保管をさせていただいている折込広告が水濡れ等にて
H26: 使用出来ない等、他にも様々な事態が発生し、ご要望にお応えできないことも考えられます。広告主様ならび関係者様には
H27: ご不便ご迷惑をおかけすることになりますが、その場合は責任の免除をお願いすることになりますので、あらかじめご理解の上
H28: お申込いただきますようお願い申し上げます。
G30: 《配達遅延》について
I32: 上記理由以外にも、読者への配達遅延につきましては、一切責任を負うことができませんのでご了承ください。
