Workbook

Sheet 表紙 
I23: 46266
I33: 仙台市若林区卸町東３丁目４-１ 〒984-0002
J34: Ｔｅｌ ０２２－３９０－７３２２
J35: Ｆａｘ ０２２－３９０－７８２２
J36: https://www.kahoku-orikomi.co.jp

Sheet 合計
A1: =郡山市１!A2 -> 46266 | B1: 広告主名 | C1: =郡山市１!F1 -> 0 | F1: タイトル | J1: 代理店名 | K1: =郡山市１!M1 -> 0 | M1: サイズ | N1: 総枚数 | Q1: 折込日
A2: 福島県 | B2: =郡山市１!C2 -> 0 | F2: =郡山市１!I2 -> 0 | J2: =郡山市１!L2 -> 0 | M2: =郡山市１!O2 -> 0 | N2: =C33 -> 0 | Q2: =郡山市１!S2 -> 0
A3: 市郡別集計
A4: 地区 | B4: 合計 | D4: 毎日新聞 | F4: 福島民報 | H4: 朝日新聞 | J4: 読売新聞 | L4: 福島民友 | N4: 日経新聞 | P4: 産経新聞 | R4: 河北新報
A5: 郡山市 | B5: =D5+F5+H5+J5+L5+N5+P5+R5 -> 62850 | C5: =E5+G5+I5+K5+M5+O5+Q5+S5 -> 0 | D5: =郡山市２!H22 -> 1650 | E5: =郡山市２!I22 -> 0 | F5: =郡山市２!J22 -> 26800 | G5: =郡山市２!K22 -> 0 | H5: =郡山市２!L22 -> 5050 | I5: =郡山市２!M22 -> 0 | J5: =郡山市２!N22 -> 6000 | K5: =郡山市２!O22 -> 0 | ... O5: =郡山市２!S22 -> 0 | P5: =郡山市１!U6+郡山市１!U7+郡山市１!U9+郡山市１!U13+郡山市１!U14+郡山市１!U15+郡山市１!U16+郡山市２!U9+郡山市２!U10 -> 450 | Q5: =郡山市１!V6+郡山市１!V7+郡山市１!V9+郡山市１!V13+郡山市１!V14+郡山市１!V15+郡山市１!V16+郡山市２!V9+郡山市２!V10 -> 0 | R5: =郡山市１!U23 -> 50 | S5: =郡山市１!V23 -> 0
A6: 須賀川市 | B6: =D6+F6+H6+J6+L6+N6+P6+R6 -> 18450 | C6: =E6+G6+I6+K6+M6+O6+Q6+S6 -> 0 | D6: =須賀川市･田村市・田村郡!H14 -> 400 | E6: =須賀川市･田村市・田村郡!I14 -> 0 | F6: =須賀川市･田村市・田村郡!J14 -> 7650 | G6: =須賀川市･田村市・田村郡!K14 -> 0 | H6: =須賀川市･田村市・田村郡!L14 -> 1450 | I6: =須賀川市･田村市・田村郡!M14 -> 0 | J6: =須賀川市･田村市・田村郡!N14 -> 1400 | K6: =須賀川市･田村市・田村郡!O14 -> 0 | ... O6: =須賀川市･田村市・田村郡!S14 -> 0 | P6: =須賀川市･田村市・田村郡!U11+須賀川市･田村市・田村郡!U12+須賀川市･田村市・田村郡!U13 -> 150 | Q6: =須賀川市･田村市・田村郡!V11+須賀川市･田村市・田村郡!V12+須賀川市･田村市・田村郡!V13 -> 0
A7: 田村市 | B7: =D7+F7+H7+J7+L7+N7+P7+R7 -> 8600 | C7: =E7+G7+I7+K7+M7+O7+Q7+S7 -> 0 | D7: =須賀川市･田村市・田村郡!H23 -> 150 | E7: =須賀川市･田村市・田村郡!I23 -> 0 | F7: =須賀川市･田村市・田村郡!J23 -> 5700 | G7: =須賀川市･田村市・田村郡!K23 -> 0 | H7: =須賀川市･田村市・田村郡!L23 -> 300 | I7: =須賀川市･田村市・田村郡!M23 -> 0 | J7: =須賀川市･田村市・田村郡!N23 -> 300 | K7: =須賀川市･田村市・田村郡!O23 -> 0 | ... O7: =須賀川市･田村市・田村郡!S23 -> 0 | P7: =須賀川市･田村市・田村郡!U23 -> 0 | Q7: =須賀川市･田村市・田村郡!V23 -> 0
A8: 白河市 | B8: =D8+F8+H8+J8+L8+N8+P8+R8 -> 16800 | C8: =E8+G8+I8+K8+M8+O8+Q8+S8 -> 0 | D8: =白河市・西白河郡･石川郡･東白川郡!H14 -> 400 | E8: =白河市・西白河郡･石川郡･東白川郡!I14 -> 0 | F8: =白河市・西白河郡･石川郡･東白川郡!J14 -> 6700 | G8: =白河市・西白河郡･石川郡･東白川郡!K14 -> 0 | H8: =白河市・西白河郡･石川郡･東白川郡!L14 -> 950 | I8: =白河市・西白河郡･石川郡･東白川郡!M14 -> 0 | J8: =白河市・西白河郡･石川郡･東白川郡!N14 -> 1150 | K8: =白河市・西白河郡･石川郡･東白川郡!O14 -> 0 | ... O8: =白河市・西白河郡･石川郡･東白川郡!S14 -> 0 | P8: =白河市・西白河郡･石川郡･東白川郡!U14 -> 100 | Q8: =白河市・西白河郡･石川郡･東白川郡!V14 -> 0
A9: 二本松市 | B9: =D9+F9+H9+J9+L9+N9+P9+R9 -> 12450 | C9: =E9+G9+I9+K9+M9+O9+Q9+S9 -> 0 | D9: =二本松市･本宮市!H16 -> 250 | E9: =二本松市･本宮市!I16 -> 0 | F9: =二本松市･本宮市!J16 -> 7300 | G9: =二本松市･本宮市!K16 -> 0 | H9: =二本松市･本宮市!L16 -> 800 | I9: =二本松市･本宮市!M16 -> 0 | J9: =二本松市･本宮市!N16 -> 450 | K9: =二本松市･本宮市!O16 -> 0 | ... O9: =二本松市･本宮市!S16 -> 0 | P9: =二本松市･本宮市!U6 -> 50 | Q9: =二本松市･本宮市!V6 -> 0
A10: 本宮市 | B10: =D10+F10+H10+J10+L10+N10+P10+R10 -> 8000 | C10: =E10+G10+I10+K10+M10+O10+Q10+S10 -> 0 | D10: =二本松市･本宮市!H21 -> 200 | E10: =二本松市･本宮市!I21 -> 0 | F10: =二本松市･本宮市!J21 -> 3650 | G10: =二本松市･本宮市!K21 -> 0 | H10: =二本松市･本宮市!L21 -> 500 | I10: =二本松市･本宮市!M21 -> 0 | J10: =二本松市･本宮市!N21 -> 300 | K10: =二本松市･本宮市!O21 -> 0 | ... O10: =二本松市･本宮市!S21 -> 0 | P10: =二本松市･本宮市!U20 -> 50 | Q10: =二本松市･本宮市!V20 -> 0
A11: 福島市 | B11: =D11+F11+H11+J11+L11+N11+P11+R11 -> 68550 | C11: =E11+G11+I11+K11+M11+O11+Q11+S11 -> 0 | D11: =福島1!H18+福島1!H36+福島２･伊達市・伊達郡!H17 -> 1900 | E11: =福島1!I18+福島1!I36+福島２･伊達市・伊達郡!I17 -> 0 | F11: =福島1!J18+福島1!J36+福島２･伊達市・伊達郡!J17 -> 30350 | G11: =福島1!K18+福島1!K36+福島２･伊達市・伊達郡!K17 -> 0 | H11: =福島1!L18+福島1!L36+福島２･伊達市・伊達郡!L17 -> 4900 | I11: =福島1!M18+福島1!M36+福島２･伊達市・伊達郡!M17 -> 0 | J11: =福島1!N18+福島1!N36+福島２･伊達市・伊達郡!N17 -> 5400 | K11: =福島1!O18+福島1!O36+福島２･伊達市・伊達郡!O17 -> 0 | ... O11: =福島1!S18+福島1!S36+福島２･伊達市・伊達郡!S17 -> 0 | P11: =福島1!U28+福島1!U29+福島1!U30+福島1!U32+福島1!U33+福島２･伊達市・伊達郡!U6+福島２･伊達市・伊達郡!U8+福島２･伊達市・伊達郡!U12 -> 850 | Q11: =福島1!V32+福島1!V33+福島1!V29+福島1!V30+福島２･伊達市・伊達郡!V6+福島２･伊達市・伊達郡!V8+福島２･伊達市・伊達郡!V12+福島1!V28 -> 0 | R11: =福島1!U34+福島1!U31+福島２･伊達市・伊達郡!U9 -> 350 | S11: =福島1!V34+福島1!V31+福島２･伊達市・伊達郡!V9 -> 0
A12: 伊達市 | B12: =D12+F12+H12+J12+L12+N12+P12+R12 -> 14050 | C12: =E12+G12+I12+K12+M12+O12+Q12+S12 -> 0 | D12: =福島２･伊達市・伊達郡!H32 -> 350 | E12: =福島２･伊達市・伊達郡!I32 -> 0 | F12: =福島２･伊達市・伊達郡!J32 -> 8050 | G12: =福島２･伊達市・伊達郡!K32 -> 0 | H12: =福島２･伊達市・伊達郡!L32 -> 550 | I12: =福島２･伊達市・伊達郡!M32 -> 0 | J12: =福島２･伊達市・伊達郡!N32 -> 500 | K12: =福島２･伊達市・伊達郡!O32 -> 0 | ... O12: =福島２･伊達市・伊達郡!S32 -> 0 | P12: =福島２･伊達市・伊達郡!U32 -> 100 | Q12: =福島２･伊達市・伊達郡!V32 -> 0
A13: いわき市 | B13: =D13+F13+H13+J13+L13+N13+P13+R13 -> 72550 | C13: =E13+G13+I13+K13+M13+O13+Q13+S13 -> 0 | D13: =いわき市２!H32 -> 2650 | E13: =いわき市２!I32 -> 0 | F13: =いわき市２!J32 -> 26850 | G13: =いわき市２!K32 -> 0 | H13: =いわき市２!L32 -> 7750 | I13: =いわき市２!M32 -> 0 | J13: =いわき市２!N32 -> 7900 | K13: =いわき市２!O32 -> 0 | ... O13: =いわき市２!S32 -> 0 | P13: =いわき市１!U6+いわき市１!U7+いわき市１!U8+いわき市１!U9+いわき市１!U12+いわき市１!U19+いわき市１!U22+いわき市１!U24+いわき市１!U27+いわき市２!U8+いわき市２!U10+いわき市２!U11+いわき市２!U14+いわき市２!U25 -> 800 | Q13: =いわき市１!V6+いわき市１!V7+いわき市１!V8+いわき市１!V9+いわき市１!V12+いわき市１!V19+いわき市１!V22+いわき市１!V24+いわき市１!V27+いわき市２!V8+いわき市２!V10+いわき市２!V11+いわき市２!V14+いわき市２!V25 -> 0 | R13: =いわき市１!U13 -> 50 | S13: =いわき市１!V13 -> 0
A14: 南相馬市 | B14: =D14+F14+H14+J14+L14+N14+P14+R14 -> 15400 | C14: =E14+G14+I14+K14+M14+O14+Q14+S14 -> 0 | D14: =南相馬市・相馬市・相馬郡・双葉郡!H13 -> 550 | E14: =南相馬市・相馬市・相馬郡・双葉郡!I13 -> 0 | F14: =南相馬市・相馬市・相馬郡・双葉郡!J13 -> 8800 | G14: =南相馬市・相馬市・相馬郡・双葉郡!K13 -> 0 | H14: =南相馬市・相馬市・相馬郡・双葉郡!L13 -> 600 | I14: =南相馬市・相馬市・相馬郡・双葉郡!M13 -> 0 | J14: =南相馬市・相馬市・相馬郡・双葉郡!N13 -> 750 | K14: =南相馬市・相馬市・相馬郡・双葉郡!O13 -> 0 | ... O14: =南相馬市・相馬市・相馬郡・双葉郡!S13 -> 0 | P14: =南相馬市・相馬市・相馬郡・双葉郡!U6 -> 50 | Q14: =南相馬市・相馬市・相馬郡・双葉郡!V6 -> 0 | R14: =南相馬市・相馬市・相馬郡・双葉郡!U7 -> 50 | S14: =南相馬市・相馬市・相馬郡・双葉郡!V7 -> 0
A15: 相馬市 | B15: =D15+F15+H15+J15+L15+N15+P15+R15 -> 8450 | C15: =E15+G15+I15+K15+M15+O15+Q15+S15 -> 0 | D15: =南相馬市・相馬市・相馬郡・双葉郡!H19 -> 100 | E15: =南相馬市・相馬市・相馬郡・双葉郡!I19 -> 0 | F15: =南相馬市・相馬市・相馬郡・双葉郡!J19 -> 3350 | G15: =南相馬市・相馬市・相馬郡・双葉郡!K19 -> 0 | H15: =南相馬市・相馬市・相馬郡・双葉郡!L19 -> 300 | I15: =南相馬市・相馬市・相馬郡・双葉郡!M19 -> 0 | J15: =南相馬市・相馬市・相馬郡・双葉郡!N19 -> 800 | K15: =南相馬市・相馬市・相馬郡・双葉郡!O19 -> 0 | ... O15: =南相馬市・相馬市・相馬郡・双葉郡!S19 -> 0 | P15: =南相馬市・相馬市・相馬郡・双葉郡!U17 -> 50 | Q15: =南相馬市・相馬市・相馬郡・双葉郡!V17 -> 0 | R15: =南相馬市・相馬市・相馬郡・双葉郡!U16+南相馬市・相馬市・相馬郡・双葉郡!U15 -> 100 | S15: =南相馬市・相馬市・相馬郡・双葉郡!V16+南相馬市・相馬市・相馬郡・双葉郡!V15 -> 0
A16: 会津若松市 | B16: =D16+F16+H16+J16+L16+N16+P16+R16 -> 26150 | C16: =E16+G16+I16+K16+M16+O16+Q16+S16 -> 0 | D16: =会津若松市・河沼郡・南会津郡!H20 -> 650 | E16: =会津若松市・河沼郡・南会津郡!I20 -> 0 | F16: =会津若松市・河沼郡・南会津郡!J20 -> 11550 | G16: =会津若松市・河沼郡・南会津郡!K20 -> 0 | H16: =会津若松市・河沼郡・南会津郡!L20 -> 2250 | I16: =会津若松市・河沼郡・南会津郡!M20 -> 0 | J16: =会津若松市・河沼郡・南会津郡!N20 -> 1650 | K16: =会津若松市・河沼郡・南会津郡!O20 -> 0 | ... O16: =会津若松市・河沼郡・南会津郡!S20 -> 0 | P16: =会津若松市・河沼郡・南会津郡!U16 -> 100 | Q16: =会津若松市・河沼郡・南会津郡!V16 -> 0 | R16: =会津若松市・河沼郡・南会津郡!U17 -> 50 | S16: =会津若松市・河沼郡・南会津郡!V17 -> 0
A17: 喜多方市 | B17: =D17+F17+H17+J17+L17+N17+P17+R17 -> 12650 | C17: =E17+G17+I17+K17+M17+O17+Q17+S17 -> 0 | D17: =喜多方市・耶麻郡・大沼郡!H12 -> 200 | E17: =喜多方市・耶麻郡・大沼郡!I12 -> 0 | F17: =喜多方市・耶麻郡・大沼郡!J12 -> 5700 | G17: =喜多方市・耶麻郡・大沼郡!K12 -> 0 | H17: =喜多方市・耶麻郡・大沼郡!L12 -> 850 | I17: =喜多方市・耶麻郡・大沼郡!M12 -> 0 | J17: =喜多方市・耶麻郡・大沼郡!N12 -> 550 | K17: =喜多方市・耶麻郡・大沼郡!O12 -> 0 | ... O17: =喜多方市・耶麻郡・大沼郡!S12 -> 0 | P17: =喜多方市・耶麻郡・大沼郡!U12 -> 50 | Q17: =喜多方市・耶麻郡・大沼郡!V12 -> 0
A18: 市計 | B18: =SUM(B5:B17) -> 344950 | C18: =SUM(C5:C17) -> 0 | D18: =SUM(D5:D17) -> 9450 | E18: =SUM(E5:E17) -> 0 | F18: =SUM(F5:F17) -> 152450 | G18: =SUM(G5:G17) -> 0 | H18: =SUM(H5:H17) -> 26250 | I18: =SUM(I5:I17) -> 0 | ... S18: =SUM(S5:S17) -> 0
A19: 田村郡 | B19: =D19+F19+H19+J19+L19+N19+P19+R19 -> 6900 | C19: =E19+G19+I19+K19+M19+O19+Q19+S19 -> 0 | D19: =須賀川市･田村市・田村郡!H29 -> 100 | E19: =須賀川市･田村市・田村郡!I29 -> 0 | F19: =須賀川市･田村市・田村郡!J29 -> 4550 | G19: =須賀川市･田村市・田村郡!K29 -> 0 | H19: =須賀川市･田村市・田村郡!L29 -> 350 | I19: =須賀川市･田村市・田村郡!M29 -> 0 | J19: =須賀川市･田村市・田村郡!N29 -> 150 | K19: =須賀川市･田村市・田村郡!O29 -> 0 | ... O19: =須賀川市･田村市・田村郡!S29 -> 0 | P19: =須賀川市･田村市・田村郡!U29 -> 100 | Q19: =須賀川市･田村市・田村郡!V29 -> 0
A20: 西白河郡 | B20: =D20+F20+H20+J20+L20+N20+P20+R20 -> 7950 | C20: =E20+G20+I20+K20+M20+O20+Q20+S20 -> 0 | D20: =白河市・西白河郡･石川郡･東白川郡!H19 -> 200 | E20: =白河市・西白河郡･石川郡･東白川郡!I19 -> 0 | F20: =白河市・西白河郡･石川郡･東白川郡!J19 -> 5600 | G20: =白河市・西白河郡･石川郡･東白川郡!K19 -> 0 | H20: =白河市・西白河郡･石川郡･東白川郡!L19 -> 450 | I20: =白河市・西白河郡･石川郡･東白川郡!M19 -> 0 | J20: =白河市・西白河郡･石川郡･東白川郡!N19 -> 300 | K20: =白河市・西白河郡･石川郡･東白川郡!O19 -> 0 | ... O20: =白河市・西白河郡･石川郡･東白川郡!S19 -> 0 | P20: =白河市・西白河郡･石川郡･東白川郡!U19 -> 50 | Q20: =白河市・西白河郡･石川郡･東白川郡!V19 -> 0
A21: 石川郡 | B21: =D21+F21+H21+J21+L21+N21+P21+R21 -> 7550 | C21: =E21+G21+I21+K21+M21+O21+Q21+S21 -> 0 | D21: =白河市・西白河郡･石川郡･東白川郡!H25 -> 100 | E21: =白河市・西白河郡･石川郡･東白川郡!I25 -> 0 | F21: =白河市・西白河郡･石川郡･東白川郡!J25 -> 3750 | G21: =白河市・西白河郡･石川郡･東白川郡!K25 -> 0 | H21: =白河市・西白河郡･石川郡･東白川郡!L25 -> 300 | I21: =白河市・西白河郡･石川郡･東白川郡!M25 -> 0 | J21: =白河市・西白河郡･石川郡･東白川郡!N25 -> 400 | K21: =白河市・西白河郡･石川郡･東白川郡!O25 -> 0 | ... O21: =白河市・西白河郡･石川郡･東白川郡!S25 -> 0 | P21: =白河市・西白河郡･石川郡･東白川郡!U21+白河市・西白河郡･石川郡･東白川郡!U23 -> 100 | Q21: =白河市・西白河郡･石川郡･東白川郡!V21+白河市・西白河郡･石川郡･東白川郡!V23 -> 0
A22: 東白川郡 | B22: =D22+F22+H22+J22+L22+N22+P22+R22 -> 6200 | C22: =E22+G22+I22+K22+M22+O22+Q22+S22 -> 0 | D22: =白河市・西白河郡･石川郡･東白川郡!H33 -> 150 | E22: =白河市・西白河郡･石川郡･東白川郡!I33 -> 0 | F22: =白河市・西白河郡･石川郡･東白川郡!J33 -> 3350 | G22: =白河市・西白河郡･石川郡･東白川郡!K33 -> 0 | H22: =白河市・西白河郡･石川郡･東白川郡!L33 -> 200 | I22: =白河市・西白河郡･石川郡･東白川郡!M33 -> 0 | J22: =白河市・西白河郡･石川郡･東白川郡!N33 -> 350 | K22: =白河市・西白河郡･石川郡･東白川郡!O33 -> 0 | ... O22: =白河市・西白河郡･石川郡･東白川郡!S33 -> 0 | P22: =白河市・西白河郡･石川郡･東白川郡!U28+白河市・西白河郡･石川郡･東白川郡!U30 -> 50 | Q22: =白河市・西白河郡･石川郡･東白川郡!V28+白河市・西白河郡･石川郡･東白川郡!V30 -> 0
A23: 岩瀬郡 | B23: 須賀川市と西白河郡に含まれる
A24: 伊達郡 | B24: =D24+F24+H24+J24+L24+N24+P24 -> 9950 | C24: =E24+G24+I24+K24+M24+O24+Q24+S24 -> 0 | D24: =福島２･伊達市・伊達郡!H40 -> 150 | E24: =福島２･伊達市・伊達郡!I40 -> 0 | F24: =福島２･伊達市・伊達郡!J40 -> 5650 | G24: =福島２･伊達市・伊達郡!K40 -> 0 | H24: =福島２･伊達市・伊達郡!L40 -> 350 | I24: =福島２･伊達市・伊達郡!M40 -> 0 | J24: =福島２･伊達市・伊達郡!N40 -> 350 | K24: =福島２･伊達市・伊達郡!O40 -> 0 | ... O24: =福島２･伊達市・伊達郡!S40 -> 0 | P24: =福島２･伊達市・伊達郡!U40 -> 100 | Q24: =福島２･伊達市・伊達郡!V40 -> 0
A25: 双葉郡 | B25: =D25+F25+H25+J25+L25+N25+P25+R25 -> 3900 | C25: =E25+G25+I25+K25+M25+O25+Q25+S25 -> 0 | D25: =南相馬市・相馬市・相馬郡・双葉郡!H33 -> 0 | E25: =南相馬市・相馬市・相馬郡・双葉郡!I33 -> 0 | F25: =南相馬市・相馬市・相馬郡・双葉郡!J33 -> 2500 | G25: =南相馬市・相馬市・相馬郡・双葉郡!K33 -> 0 | H25: =南相馬市・相馬市・相馬郡・双葉郡!L33 -> 150 | I25: =南相馬市・相馬市・相馬郡・双葉郡!M33 -> 0 | J25: =南相馬市・相馬市・相馬郡・双葉郡!N33 -> 150 | K25: =南相馬市・相馬市・相馬郡・双葉郡!O33 -> 0 | ... O25: =南相馬市・相馬市・相馬郡・双葉郡!S33 -> 0
A26: 相馬郡 | B26: =D26+F26+H26+J26+L26+N26+P26+R26 -> 1300 | C26: =E26+G26+I26+K26+M26+O26+Q26+S26 -> 0 | D26: =南相馬市・相馬市・相馬郡・双葉郡!H22 -> 0 | E26: =南相馬市・相馬市・相馬郡・双葉郡!I22 -> 0 | F26: =南相馬市・相馬市・相馬郡・双葉郡!J22 -> 950 | G26: =南相馬市・相馬市・相馬郡・双葉郡!K22 -> 0 | H26: =南相馬市・相馬市・相馬郡・双葉郡!L22 -> 50 | I26: =南相馬市・相馬市・相馬郡・双葉郡!M22 -> 0 | J26: =南相馬市・相馬市・相馬郡・双葉郡!N22 -> 50 | K26: =南相馬市・相馬市・相馬郡・双葉郡!O22 -> 0 | ... O26: =南相馬市・相馬市・相馬郡・双葉郡!S22 -> 0 | R26: =南相馬市・相馬市・相馬郡・双葉郡!U22 -> 50 | S26: =南相馬市・相馬市・相馬郡・双葉郡!V22 -> 0
A27: 耶麻郡 | B27: =D27+F27+H27+J27+L27+N27+P27+R27 -> 6200 | C27: =E27+G27+I27+K27+M27+O27+Q27+S27 -> 0 | D27: =喜多方市・耶麻郡・大沼郡!H22 -> 150 | E27: =喜多方市・耶麻郡・大沼郡!I22 -> 0 | F27: =喜多方市・耶麻郡・大沼郡!J22 -> 4200 | G27: =喜多方市・耶麻郡・大沼郡!K22 -> 0 | H27: =喜多方市・耶麻郡・大沼郡!L22 -> 400 | I27: =喜多方市・耶麻郡・大沼郡!M22 -> 0 | J27: =喜多方市・耶麻郡・大沼郡!N22 -> 300 | K27: =喜多方市・耶麻郡・大沼郡!O22 -> 0 | ... O27: =喜多方市・耶麻郡・大沼郡!S22 -> 0 | P27: =喜多方市・耶麻郡・大沼郡!U14 -> 0 | Q27: =喜多方市・耶麻郡・大沼郡!V14 -> 0
A28: 大沼郡 | B28: =D28+F28+H28+J28+L28+N28+P28+R28 -> 7850 | C28: =E28+G28+I28+K28+M28+O28+Q28+S28 -> 0 | D28: =喜多方市・耶麻郡・大沼郡!H31 -> 200 | E28: =喜多方市・耶麻郡・大沼郡!I31 -> 0 | F28: =喜多方市・耶麻郡・大沼郡!J31 -> 5400 | G28: =喜多方市・耶麻郡・大沼郡!K31 -> 0 | H28: =喜多方市・耶麻郡・大沼郡!L31 -> 400 | I28: =喜多方市・耶麻郡・大沼郡!M31 -> 0 | J28: =喜多方市・耶麻郡・大沼郡!N31 -> 300 | K28: =喜多方市・耶麻郡・大沼郡!O31 -> 0 | ... O28: =喜多方市・耶麻郡・大沼郡!S31 -> 0 | P28: =喜多方市・耶麻郡・大沼郡!U24+喜多方市・耶麻郡・大沼郡!U26 -> 50 | Q28: =喜多方市・耶麻郡・大沼郡!V24+喜多方市・耶麻郡・大沼郡!V26 -> 0
A29: 河沼郡 | B29: =D29+F29+H29+J29+L29+N29+P29+R29 -> 5550 | C29: =E29+G29+I29+K29+M29+O29+Q29+S29 -> 0 | D29: =会津若松市・河沼郡・南会津郡!H27 -> 150 | E29: =会津若松市・河沼郡・南会津郡!I27 -> 0 | F29: =会津若松市・河沼郡・南会津郡!J27 -> 3500 | G29: =会津若松市・河沼郡・南会津郡!K27 -> 0 | H29: =会津若松市・河沼郡・南会津郡!L27 -> 300 | I29: =会津若松市・河沼郡・南会津郡!M27 -> 0 | J29: =会津若松市・河沼郡・南会津郡!N27 -> 150 | K29: =会津若松市・河沼郡・南会津郡!O27 -> 0 | ... O29: =会津若松市・河沼郡・南会津郡!S27 -> 0 | P29: =会津若松市・河沼郡・南会津郡!U22 -> 50 | Q29: =会津若松市・河沼郡・南会津郡!V22 -> 0
A30: 南会津郡 | B30: =D30+F30+H30+J30+L30+N30+P30+R30 -> 6500 | C30: =E30+G30+I30+K30+M30+O30+Q30+S30 -> 0 | D30: =会津若松市・河沼郡・南会津郡!H36 -> 100 | E30: =会津若松市・河沼郡・南会津郡!I36 -> 0 | F30: =会津若松市・河沼郡・南会津郡!J36 -> 4300 | G30: =会津若松市・河沼郡・南会津郡!K36 -> 0 | H30: =会津若松市・河沼郡・南会津郡!L36 -> 300 | I30: =会津若松市・河沼郡・南会津郡!M36 -> 0 | J30: =会津若松市・河沼郡・南会津郡!N36 -> 250 | K30: =会津若松市・河沼郡・南会津郡!O36 -> 0 | ... O30: =会津若松市・河沼郡・南会津郡!S36 -> 0 | P30: =会津若松市・河沼郡・南会津郡!U30+会津若松市・河沼郡・南会津郡!U35 -> 0 | Q30: =会津若松市・河沼郡・南会津郡!V30+会津若松市・河沼郡・南会津郡!V35 -> 0
A31: 郡計 | B31: =SUM(B19:B22,B24:B30) -> 69850 | C31: =SUM(C19:C22,C24:C30) -> 0 | D31: =SUM(D19:D30) -> 1300 | E31: =SUM(E19:E30) -> 0 | F31: =SUM(F19:F30) -> 43750 | G31: =SUM(G19:G30) -> 0 | H31: =SUM(H19:H30) -> 3250 | I31: =SUM(I19:I30) -> 0 | J31: =SUM(J19:J30) -> 2750 | K31: =SUM(K19:K30) -> 0 | ... S31: =SUM(S19:S30) -> 0
A33: 福島県合計 | B33: =B18+B31 -> 414800 | C33: =C18+C31 -> 0 | D33: =D18+D31 -> 10750 | E33: =E18+E31 -> 0 | F33: =F18+F31 -> 196200 | G33: =G18+G31 -> 0 | H33: =H18+H31 -> 29500 | I33: =I18+I31 -> 0 | ... S33: =S18+S31 -> 0
A34: ※新聞の完全な銘柄指定、地域指定はできませんのでご了承下さい。

Sheet 郡山市１
A1: 福島県 | D1: 広告主名 | I1: タイトル | L1: 代理店 | O1: サイズ | P1: 総枚数 | S1: 折込日
A2: ='表紙 '!I23 -> 46266 | Q2: =郡山市１!Q3+郡山市２!Q3+須賀川市･田村市・田村郡!Q3+白河市・西白河郡･石川郡･東白川郡!Q3+二本松市･本宮市!Q3+福島1!Q3+福島２･伊達市・伊達郡!Q3+いわき市１!Q3+いわき市２!Q3+南相馬市・相馬市・相馬郡・双葉郡!Q3+会津若松市・河沼郡・南会津郡!Q3+喜多方市・耶麻郡・大沼郡!Q3 -> 0
P3: 頁枚数 | Q3: =G6+G7+G11+G25 -> 0
A4: 地 区 | C4: 販売店 | F4: 総 数 | H4: 毎 日 | J4: 福島民報 | L4: 朝 日 | N4: 読 売 | P4: 福島民友 | R4: 日 経 | T4: 他 紙
H5: 部 数 | I5: 折込部数 | J5: 部 数 | K5: 折込部数 | L5: 部 数 | M5: 折込部数 | N5: 部 数 | O5: 折込部数 | P5: 部 数 | Q5: 折込部数 | R5: 部 数 | S5: 折込部数 | T5: 部 数 | V5: 折込部数
B6: 郡山市① | D6: 毎民郡山中央※4 | F6: =H6+J6+L6+N6+P6+R6+U6 -> 1900 | G6: =I6+K6+M6+O6+Q6+S6+V6 -> 0 | H6: 150 | J6: 1400 | L6: 100 | R6: 200 | T6: 産経 | U6: 50
D7: 毎民郡山駅西Ｃ | F7: =H7+J7+L7+N7+P7+R7+U7 -> 2800 | G7: =I7+K7+M7+O7+Q7+S7+V7 -> 0 | H7: 200 | J7: 2100 | R7: 450 | T7: 産経 | U7: 50
D9: 郡山桑野 | F9: =H9+J9+L9+N9+P9+R9+U9 -> 2500 | G9: =I9+K9+M9+O9+Q9+S9+V9 -> 0 | H9: 200 | J9: 2050 | R9: 200 | T9: 産経 | U9: 50
D10: 郡山片平 | F10: =H10+J10+L10+N10+P10+R10+U10 -> 300 | G10: =I10+K10+M10+O10+Q10+S10+V10 -> 0 | J10: 300
D11: 《毎民桑野》①計 | F11: =SUM(F9:F10) -> 2800 | G11: =I11+K11+M11+O11+Q11+S11+V11 -> 0 | H11: =SUM(H9:H10) -> 200 | I11: =SUM(I9:I10) -> 0 | J11: =SUM(J9:J10) -> 2350 | K11: =SUM(K9:K10) -> 0 | R11: =SUM(R9:R10) -> 200 | S11: =SUM(S9:S10) -> 0 | U11: =SUM(U9:U10) -> 50 | V11: =SUM(V9:V10) -> 0
D13: 毎民南部※4 | F13: =H13+J13+L13+N13+P13+R13+U13 -> 3300 | G13: =I13+K13+M13+O13+Q13+S13+V13 -> 0 | H13: 150 | J13: 2800 | L13: 100 | R13: 200 | T13: 産経 | U13: 50
D14: 毎民郡山西部 | F14: =H14+J14+L14+N14+P14+R14+U14 -> 2600 | G14: =I14+K14+M14+O14+Q14+S14+V14 -> 0 | H14: 100 | J14: 2300 | R14: 150 | T14: 産経 | U14: 50
D15: 毎民富久山 | F15: =H15+J15+L15+N15+P15+R15+U15 -> 2150 | G15: =I15+K15+M15+O15+Q15+S15+V15 -> 0 | H15: 100 | J15: 2000 | T15: 産経 | U15: 50
D16: 毎民北部 | F16: =H16+J16+L16+N16+P16+R16+U16 -> 2400 | G16: =I16+K16+M16+O16+Q16+S16+V16 -> 0 | H16: 150 | J16: 2050 | R16: 150 | T16: 産経 | U16: 50
D17: 読売中央※2 | F17: =H17+J17+L17+N17+P17+R17+U17 -> 2200 | G17: =I17+K17+M17+O17+Q17+S17+V17 -> 0 | N17: 600 | P17: 1550 | R17: 50
D18: ＹＣ富久山※1 | F18: =H18+J18+L18+N18+P18+R18+U18 -> 3600 | G18: =I18+K18+M18+O18+Q18+S18+V18 -> 0 | N18: 750 | P18: 2750 | R18: 100
D19: YC大槻 | F19: =H19+J19+L19+N19+P19+R19+U19 -> 3800 | G19: =I19+K19+M19+O19+Q19+S19+V19 -> 0 | N19: 700 | P19: 3100
D20: 読売開成 | F20: =H20+J20+L20+N20+P20+R20+U20 -> 2050 | G20: =I20+K20+M20+O20+Q20+S20+V20 -> 0 | N20: 650 | P20: 1400
D21: 読売東口 | F21: =H21+J21+L21+N21+P21+R21+U21 -> 2300 | G21: =I21+K21+M21+O21+Q21+S21+V21 -> 0 | N21: 500 | P21: 1800
D22: YC希望ヶ丘※3 | F22: =H22+J22+L22+N22+P22+R22+U22 -> 3650 | G22: =I22+K22+M22+O22+Q22+S22+V22 -> 0 | N22: 750 | P22: 2900
D23: YC郡山駅西口 | F23: =H23+J23+L23+N23+P23+R23+U23 -> 1850 | G23: =I23+K23+M23+O23+Q23+S23+V23 -> 0 | N23: 400 | P23: 1400 | T23: 河北 | U23: 50
D24: 読売麓山 | F24: =H24+J24+L24+N24+P24+R24+U24 -> 2100 | G24: =I24+K24+M24+O24+Q24+S24+V24 -> 0 | N24: 750 | P24: 1350
D25: ②計 | F25: =SUM(F13:F24) -> 32000 | G25: =I25+K25+M25+O25+Q25+S25+V25 -> 0 | H25: =SUM(H13:H24) -> 500 | I25: =SUM(I13:I24) -> 0 | J25: =SUM(J13:J24) -> 9150 | K25: =SUM(K13:K24) -> 0 | L25: =SUM(L13:L24) -> 100 | M25: =SUM(M13:M24) -> 0 | N25: =SUM(N13:N24) -> 5100 | O25: =SUM(O13:O24) -> 0 | ... S25: =SUM(S13:S24) -> 0 | U25: =SUM(U13:U24) -> 250 | V25: =SUM(V13:V24) -> 0
A26: ※新聞の完全な銘柄指定、地域指定はできませんのでご了承下さい。 | J26: ※1 日和田町を含む | O26: ※3 読売希望ヶ丘と読売郡山インターが統合
J27: ※2 読売富久山の一部エリアが移行 | O27: ※4 旧朝日南部の一部エリアが移行

Sheet 郡山市２
A1: 福島県 | D1: 広告主名 | F1: =郡山市１!F1 -> 0 | I1: タイトル | L1: 代理店 | M1: =郡山市１!M1 -> 0 | O1: サイズ | P1: 総枚数 | S1: 折込日
A2: =郡山市１!A2 -> 46266 | C2: =郡山市１!C2 -> 0 | I2: =郡山市１!I2 -> 0 | L2: =郡山市１!L2 -> 0 | O2: =郡山市１!O2 -> 0 | Q2: =郡山市１!Q3+郡山市２!Q3+須賀川市･田村市・田村郡!Q3+白河市・西白河郡･石川郡･東白川郡!Q3+二本松市･本宮市!Q3+福島1!Q3+福島２･伊達市・伊達郡!Q3+いわき市１!Q3+いわき市２!Q3+南相馬市・相馬市・相馬郡・双葉郡!Q3+会津若松市・河沼郡・南会津郡!Q3+喜多方市・耶麻郡・大沼郡!Q3 -> 0 | S2: =郡山市１!S2 -> 0
P3: 頁枚数 | Q3: =G21 -> 0
A4: 地 区 | C4: 販売店 | F4: 総 数 | H4: 毎 日 | J4: 福島民報 | L4: 朝 日 | N4: 読 売 | P4: 福島民友 | R4: 日 経 | T4: 他 紙
H5: 部 数 | I5: 折込部数 | J5: 部 数 | K5: 折込部数 | L5: 部 数 | M5: 折込部数 | N5: 部 数 | O5: 折込部数 | P5: 部 数 | Q5: 折込部数 | R5: 部 数 | S5: 折込部数 | T5: 部 数 | V5: 折込部数
B6: 郡山市② | D6: 朝日中央 | F6: =H6+J6+L6+N6+P6+R6+U6 -> 2650 | G6: =I6+K6+M6+O6+Q6+S6+V6 -> 0 | L6: 2100 | P6: 550
D7: 朝日開成 | F7: =H7+J7+L7+N7+P7+R7+U7 -> 1600 | G7: =I7+K7+M7+O7+Q7+S7+V7 -> 0 | L7: 1400 | P7: 200
D8: 朝日南部は廃店しました(2026.3.1)
D9: 毎民安積北部※4 | F9: =H9+J9+L9+N9+P9+R9+U9 -> 3800 | G9: =I9+K9+M9+O9+Q9+S9+V9 -> 0 | H9: 200 | J9: 3000 | L9: 350 | R9: 200 | T9: 産経 | U9: 50
D10: 毎民安積南部※1※４ | F10: =H10+J10+L10+N10+P10+R10+U10 -> 3000 | G10: =I10+K10+M10+O10+Q10+S10+V10 -> 0 | H10: 150 | J10: 2300 | L10: 350 | R10: 150 | T10: 産経 | U10: 50
D11: YC郡山南※1 | F11: =H11+J11+L11+N11+P11+R11+U11 -> 2600 | G11: =I11+K11+M11+O11+Q11+S11+V11 -> 0 | N11: 600 | P11: 2000
D12: 毎民柴宮三穂田※4 | F12: =H12+J12+L12+N12+P12+R12+U12 -> 1250 | G12: =I12+K12+M12+O12+Q12+S12+V12 -> 0 | H12: 50 | J12: 1000 | L12: 150 | R12: 50
D13: 読売三穂田 | F13: =H13+J13+L13+N13+P13+R13+U13 -> 700 | G13: =I13+K13+M13+O13+Q13+S13+V13 -> 0 | N13: 100 | P13: 600
D14: 日和田大内 | F14: =H14+J14+L14+N14+P14+R14+U14 -> 1200 | G14: =I14+K14+M14+O14+Q14+S14+V14 -> 0 | H14: 50 | J14: 950 | L14: 100 | R14: 100
D15: 舞木販売センター※2 | F15: =H15+J15+L15+N15+P15+R15+U15 -> 1800 | G15: =I15+K15+M15+O15+Q15+S15+V15 -> 0 | H15: 50 | J15: 1200 | L15: 100 | N15: 100 | P15: 300 | R15: 50
D16: 守山馬場 | F16: =H16+J16+L16+N16+P16+R16+U16 -> 1750 | G16: =I16+K16+M16+O16+Q16+S16+V16 -> 0 | H16: 50 | J16: 1050 | L16: 50 | N16: 50 | P16: 500 | R16: 50
D17: 柳橋桑島 | F17: =H17+J17+L17+N17+P17+R17+U17 -> 550 | G17: =I17+K17+M17+O17+Q17+S17+V17 -> 0 | J17: 400 | L17: 50 | P17: 100
D18: 柴山新聞舗※3 | F18: =H18+J18+L18+N18+P18+R18+U18 -> 1600 | G18: =I18+K18+M18+O18+Q18+S18+V18 -> 0 | H18: 50 | J18: 1300 | L18: 150 | R18: 100
D19: 湖南斎藤 | F19: =H19+J19+L19+N19+P19+R19+U19 -> 500 | G19: =I19+K19+M19+O19+Q19+S19+V19 -> 0 | J19: 350 | N19: 50 | P19: 100
D20: 湖南小檜山 | F20: =H20+J20+L20+N20+P20+R20+U20 -> 350 | G20: =I20+K20+M20+O20+Q20+S20+V20 -> 0 | J20: 250 | L20: 50 | P20: 50
D21: ③計 | F21: =SUM(F6:F20) -> 23350 | G21: =SUM(G6:G20) -> 0 | H21: =SUM(H6:H20) -> 600 | I21: =SUM(I6:I20) -> 0 | J21: =SUM(J6:J20) -> 11800 | K21: =SUM(K6:K20) -> 0 | L21: =SUM(L6:L20) -> 4850 | M21: =SUM(M6:M20) -> 0 | ... S21: =SUM(S6:S20) -> 0 | U21: =SUM(U6:U20) -> 100 | V21: =SUM(V6:V20) -> 0
A22: 郡山市（①～②）計 | F22: =郡山市１!F6+郡山市１!F7+郡山市１!F11+郡山市１!F25+郡山市２!F21 -> 62850 | G22: =郡山市１!G6+郡山市１!G7+郡山市１!G11+郡山市１!G25+郡山市２!G21 -> 0 | H22: =郡山市１!H6+郡山市１!H7+郡山市１!H11+郡山市１!H25+郡山市２!H21 -> 1650 | I22: =郡山市１!I6+郡山市１!I7+郡山市１!I11+郡山市１!I25+郡山市２!I21 -> 0 | J22: =郡山市１!J6+郡山市１!J7+郡山市１!J11+郡山市１!J25+郡山市２!J21 -> 26800 | K22: =郡山市１!K6+郡山市１!K7+郡山市１!K11+郡山市１!K25+郡山市２!K21 -> 0 | L22: =郡山市１!L6+郡山市１!L25+郡山市２!L21 -> 5050 | M22: =郡山市１!M6+郡山市１!M25+郡山市２!M21 -> 0 | N22: =郡山市１!N25+郡山市２!N21 -> 6000 | O22: =郡山市１!O25+郡山市２!O21 -> 0 | P22: =郡山市１!P25+郡山市２!P21 -> 20650 | Q22: =郡山市１!Q25+郡山市２!Q21 -> 0 | R22: =郡山市１!R6+郡山市１!R7+郡山市１!R11+郡山市１!R25+郡山市２!R21 -> 2200 | S22: =郡山市１!S6+郡山市１!S7+郡山市１!S11+郡山市１!S25+郡山市２!S21 -> 0 | U22: =郡山市１!U6+郡山市１!U7+郡山市１!U9+郡山市１!U25+郡山市２!U21 -> 500 | V22: =郡山市１!V6+郡山市１!V7+郡山市１!V11+郡山市１!V25+郡山市２!V21 -> 0
A23: ※新聞の完全な銘柄指定、地域指定はできませんのでご了承下さい。 | J23: ※1 須賀川市の一部を含む | O23: ※3 きくた販売センターと熱海販売センターが統合
J24: ※2 田村郡三春町の一部を含む | O24: ※4 旧朝日南部の一部エリアが移行

Sheet 須賀川市･田村市・田村郡
A1: 福島県 | D1: 広告主名 | F1: =郡山市１!F1 -> 0 | I1: タイトル | L1: 代理店 | M1: =郡山市１!M1 -> 0 | O1: サイズ | P1: 総枚数 | S1: 折込日
A2: =郡山市１!A2 -> 46266 | C2: =郡山市１!C2 -> 0 | I2: =郡山市１!I2 -> 0 | L2: =郡山市１!L2 -> 0 | O2: =郡山市１!O2 -> 0 | Q2: =郡山市１!Q3+郡山市２!Q3+須賀川市･田村市・田村郡!Q3+白河市・西白河郡･石川郡･東白川郡!Q3+二本松市･本宮市!Q3+福島1!Q3+福島２･伊達市・伊達郡!Q3+いわき市１!Q3+いわき市２!Q3+南相馬市・相馬市・相馬郡・双葉郡!Q3+会津若松市・河沼郡・南会津郡!Q3+喜多方市・耶麻郡・大沼郡!Q3 -> 0 | S2: =郡山市１!S2 -> 0
P3: 頁枚数 | Q3: =G14+G29+G23 -> 0
A4: 地 区 | C4: 販売店 | F4: 総 数 | H4: 毎 日 | J4: 福島民報 | L4: 朝 日 | N4: 読 売 | P4: 福島民友 | R4: 日 経 | T4: 他 紙
H5: 部 数 | I5: 折込部数 | J5: 部 数 | K5: 折込部数 | L5: 部 数 | M5: 折込部数 | N5: 部 数 | O5: 折込部数 | P5: 部 数 | Q5: 折込部数 | R5: 部 数 | S5: 折込部数 | T5: 部 数 | V5: 折込部数
A6: 須賀川市 | B6: 須賀川 | D6: 毎民西部 | F6: =H6+J6+L6+N6+P6+R6+U6 -> 3850 | G6: =I6+K6+M6+O6+Q6+S6+V6 -> 0 | H6: 200 | J6: 3450 | R6: 200
D7: 毎民東部※14 | F7: =H7+J7+L7+N7+P7+R7+U7 -> 2600 | G7: =I7+K7+M7+O7+Q7+S7+V7 -> 0 | H7: 100 | J7: 2400 | R7: 100
D8: 読売西部※2 | F8: =H8+J8+L8+N8+P8+R8+U8 -> 2050 | G8: =I8+K8+M8+O8+Q8+S8+V8 -> 0 | N8: 700 | P8: 1350
D9: YC須賀川中央※1 | F9: =H9+J9+L9+N9+P9+R9+U9 -> 1450 | G9: =I9+K9+M9+O9+Q9+S9+V9 -> 0 | N9: 400 | P9: 1050
D10: 読売北部 | F10: =H10+J10+L10+N10+P10+R10+U10 -> 1300 | G10: =I10+K10+M10+O10+Q10+S10+V10 -> 0 | N10: 300 | P10: 1000
D11: 朝日北部※3 | F11: =H11+J11+L11+N11+P11+R11+U11 -> 2600 | G11: =I11+K11+M11+O11+Q11+S11+V11 -> 0 | L11: 750 | P11: 1800 | T11: 産経 | U11: 50
D12: 朝日東部※4 | F12: =H12+J12+L12+N12+P12+R12+U12 -> 2400 | G12: =I12+K12+M12+O12+Q12+S12+V12 -> 0 | L12: 650 | P12: 1700 | T12: 産経 | U12: 50
A13: 岩瀬郡鏡石町 | D13: 毎民鏡石※5 | F13: =H13+J13+L13+N13+P13+R13+U13 -> 2200 | G13: =I13+K13+M13+O13+Q13+S13+V13 -> 0 | H13: 100 | J13: 1800 | L13: 50 | P13: 50 | R13: 150 | T13: 産経 | U13: 50
D14: 計 | F14: =SUM(F6:F13) -> 18450 | G14: =SUM(G6:G13) -> 0 | H14: =SUM(H6:H13) -> 400 | I14: =SUM(I6:I13) -> 0 | J14: =SUM(J6:J13) -> 7650 | K14: =SUM(K6:K13) -> 0 | L14: =SUM(L6:L13) -> 1450 | M14: =SUM(M6:M13) -> 0 | ... S14: =SUM(S6:S13) -> 0 | U14: =SUM(U6:U13) -> 150 | V14: =SUM(V6:V13) -> 0
A16: 田村市 | B16: 船引町 | D16: ＪＡたむら ※6 | F16: =H16+J16+L16+N16+P16+R16+U16 -> 2550 | G16: =I16+K16+M16+O16+Q16+S16+V16 -> 0 | H16: 50 | J16: 2350 | P16: 100 | R16: 50
D17: 石井※12 | F17: =H17+J17+L17+N17+P17+R17+U17 -> 750 | G17: =I17+K17+M17+O17+Q17+S17+V17 -> 0 | J17: 300 | L17: 50 | N17: 50 | P17: 350
D18: YC船引※6 | F18: =H18+J18+L18+N18+P18+R18+U18 -> 850 | G18: =I18+K18+M18+O18+Q18+S18+V18 -> 0 | L18: 100 | N18: 100 | P18: 650
B19: 常葉町 | D19: JAたむら常葉※7 | F19: =H19+J19+L19+N19+P19+R19+U19 -> 1900 | G19: =I19+K19+M19+O19+Q19+S19+V19 -> 0 | H19: 50 | J19: 1500 | L19: 50 | N19: 50 | P19: 200 | R19: 50
B20: 大越町 | D20: 毎民東部※8 | F20: =H20+J20+L20+N20+P20+R20+U20 -> 1600 | G20: =I20+K20+M20+O20+Q20+S20+V20 -> 0 | H20: 50 | J20: 1550
D21: YC大越※9 | F21: =H21+J21+L21+N21+P21+R21+U21 -> 550 | G21: =I21+K21+M21+O21+Q21+S21+V21 -> 0 | L21: 50 | N21: 50 | P21: 400 | R21: 50 | U21: 0
B22: 滝根町 | D22: YC田村滝根 | F22: =H22+J22+L22+N22+P22+R22+U22 -> 400 | G22: =I22+K22+M22+O22+Q22+S22+V22 -> 0 | L22: 50 | N22: 50 | P22: 300
D23: 計 | F23: =SUM(F16:F22) -> 8600 | G23: =SUM(G16:G22) -> 0 | H23: =SUM(H16:H22) -> 150 | I23: =SUM(I16:I22) -> 0 | J23: =SUM(J16:J22) -> 5700 | K23: =SUM(K16:K22) -> 0 | L23: =SUM(L16:L22) -> 300 | M23: =SUM(M16:M22) -> 0 | ... S23: =SUM(S16:S22) -> 0 | U23: =SUM(U18:U22) -> 0 | V23: =SUM(V18:V22) -> 0
A25: 田村郡 | B25: 三春町 | D25: 三春集報社※10 | F25: =H25+J25+L25+N25+P25+R25+U25 -> 3850 | G25: =I25+K25+M25+O25+Q25+S25+V25 -> 0 | H25: 50 | J25: 2400 | L25: 200 | N25: 100 | P25: 950 | R25: 100 | T25: 産経 | U25: 50
B26: 小野町 | D26: 舞木※11 | F26: =H26+J26+L26+N26+P26+R26+U26 -> 2000 | G26: =I26+K26+M26+O26+Q26+S26+V26 -> 0 | H26: 50 | J26: 1800 | L26: 100 | R26: 50
D27: ＹＣ小野横町 | F27: =H27+J27+L27+N27+P27+R27+U27 -> 600 | G27: =I27+K27+M27+O27+Q27+S27+V27 -> 0 | N27: 50 | P27: 500 | T27: 産経 | U27: 50
D28: 夏井※13 | F28: =H28+J28+L28+N28+P28+R28+U28 -> 450 | G28: =I28+K28+M28+O28+Q28+S28+V28 -> 0 | J28: 350 | L28: 50 | P28: 50
D29: 計 | F29: =SUM(F25:F28) -> 6900 | G29: =SUM(G25:G28) -> 0 | H29: =SUM(H25:H28) -> 100 | I29: =SUM(I25:I28) -> 0 | J29: =SUM(J25:J28) -> 4550 | K29: =SUM(K25:K28) -> 0 | L29: =SUM(L25:L28) -> 350 | M29: =SUM(M25:M28) -> 0 | ... S29: =SUM(S25:S28) -> 0 | U29: =SUM(U25:U28) -> 100 | V29: =SUM(V25:V28) -> 0
A31: ※新聞の完全な銘柄指定、地域指定はできませんのでご了承下さい。 | J31: ※1 石川郡玉川村の一部を含む | O31: ※6 田村郡三春町の一部を含む | S31: ※11 石川郡平田村の一部,
J32: ※2 岩瀬郡鏡石町、岩瀬郡天栄村の一部を含む | O32: ※7 田村市都路町を含む | S32: いわき市の一部を含む
J33: ※3 岩瀬郡天栄村の一部を含む | O33: 双葉郡葛尾村を含む | S33: ※12 二本松市の一部を含む
J34: ※4 岩瀬郡鏡石町、石川郡玉川村を含む | O34: ※8 田村市滝根町、田村市船引町の一部 | S34: ※13 いわき市の一部を含む
J35: ※5 岩瀬郡天栄村の一部、須賀川市の一部を含む | O35: を含む | S35: ※14 石川郡玉川村を含む
O36: ※9 田村市船引町の一部を含む
O37: ※10 郡山市西田町、田村市船引町の一部を含む

Sheet 白河市・西白河郡･石川郡･東白川郡
A1: 福島県 | D1: 広告主名 | F1: =郡山市１!F1 -> 0 | I1: タイトル | L1: 代理店 | M1: =郡山市１!M1 -> 0 | O1: サイズ | P1: 総枚数 | S1: 折込日
A2: =郡山市１!A2 -> 46266 | C2: =郡山市１!C2 -> 0 | I2: =郡山市１!I2 -> 0 | L2: =郡山市１!L2 -> 0 | O2: =郡山市１!O2 -> 0 | Q2: =郡山市１!Q3+郡山市２!Q3+須賀川市･田村市・田村郡!Q3+白河市・西白河郡･石川郡･東白川郡!Q3+二本松市･本宮市!Q3+福島1!Q3+福島２･伊達市・伊達郡!Q3+いわき市１!Q3+いわき市２!Q3+南相馬市・相馬市・相馬郡・双葉郡!Q3+会津若松市・河沼郡・南会津郡!Q3+喜多方市・耶麻郡・大沼郡!Q3 -> 0 | S2: =郡山市１!S2 -> 0
P3: 頁枚数 | Q3: =G14+G19+G25+G33 -> 0
A4: 地 区 | C4: 販売店 | F4: 総 数 | H4: 毎 日 | J4: 福島民報 | L4: 朝 日 | N4: 読 売 | P4: 福島民友 | R4: 日 経 | T4: 他 紙
H5: 部 数 | I5: 折込部数 | J5: 部 数 | K5: 折込部数 | L5: 部 数 | M5: 折込部数 | N5: 部 数 | O5: 折込部数 | P5: 部 数 | Q5: 折込部数 | R5: 部 数 | S5: 折込部数 | T5: 部 数 | V5: 折込部数
A6: 白河市 | B6: (旧)白河市 | D6: 毎民白河西郷 ※1 | F6: =H6+J6+L6+N6+P6+R6+U6 -> 3150 | G6: =I6+K6+M6+O6+Q6+S6+V6 -> 0 | H6: 150 | J6: 3000
D7: 毎民白河東 | F7: =H7+J7+L7+N7+P7+R7+U7 -> 2250 | G7: =I7+K7+M7+O7+Q7+S7+V7 -> 0 | H7: 150 | J7: 2100
D8: YC白河※2 | F8: =H8+J8+L8+N8+P8+R8+U8 -> 2150 | G8: =I8+K8+M8+O8+Q8+S8+V8 -> 0 | N8: 450 | P8: 1550 | R8: 100 | T8: 産経 | U8: 50
D9: 読売新白河※1 | F9: =H9+J9+L9+N9+P9+R9+U9 -> 3500 | G9: =I9+K9+M9+O9+Q9+S9+V9 -> 0 | N9: 600 | P9: 2750 | R9: 100 | T9: 産経 | U9: 50
D10: 朝日庄司※3 | F10: =H10+J10+L10+N10+P10+R10+U10 -> 3750 | G10: =I10+K10+M10+O10+Q10+S10+V10 -> 0 | L10: 950 | P10: 2600 | R10: 200
B11: (旧)東村 | D11: 桑折 | F11: =H11+J11+L11+N11+P11+R11+U11 -> 400 | G11: =I11+K11+M11+O11+Q11+S11+V11 -> 0 | J11: 400
B12: (旧)表郷村 | D12: 鈴木※8 | F12: =H12+J12+L12+N12+P12+R12+U12 -> 1300 | G12: =I12+K12+M12+O12+Q12+S12+V12 -> 0 | H12: 100 | J12: 1200 | R12: 0
D13: YC表郷※8 | F13: =H13+J13+L13+N13+P13+R13+U13 -> 300 | G13: =I13+K13+M13+O13+Q13+S13+V13 -> 0 | N13: 100 | P13: 150 | R13: 50
D14: 計 | F14: =SUM(F6:F13) -> 16800 | G14: =SUM(G6:G13) -> 0 | H14: =SUM(H6:H13) -> 400 | I14: =SUM(I6:I13) -> 0 | J14: =SUM(J6:J13) -> 6700 | K14: =SUM(K6:K13) -> 0 | L14: =SUM(L6:L13) -> 950 | M14: =SUM(M6:M13) -> 0 | ... S14: =SUM(S6:S13) -> 0 | U14: =SUM(U6:U13) -> 100 | V14: =SUM(V6:V13) -> 0
A16: 西白河郡 | B16: 矢吹町 | D16: 渡辺※4 | F16: =H16+J16+L16+N16+P16+R16+U16 -> 5850 | G16: =I16+K16+M16+O16+Q16+S16+V16 -> 0 | H16: 150 | J16: 4400 | L16: 200 | N16: 300 | P16: 600 | R16: 150 | T16: 産経 | U16: 50
B17: 泉崎村 | D17: 販売センター※5 | F17: =H17+J17+L17+N17+P17+R17+U17 -> 1350 | G17: =I17+K17+M17+O17+Q17+S17+V17 -> 0 | H17: 50 | J17: 1200 | L17: 50 | R17: 50
D18: 朝日庄司※9 | F18: =H18+J18+L18+N18+P18+R18+U18 -> 750 | G18: =I18+K18+M18+O18+Q18+S18+V18 -> 0 | L18: 200 | P18: 550
D19: 計 | F19: =SUM(F16:F18) -> 7950 | G19: =SUM(G16:G18) -> 0 | H19: =SUM(H16:H18) -> 200 | I19: =SUM(I16:I18) -> 0 | J19: =SUM(J16:J18) -> 5600 | K19: =SUM(K16:K18) -> 0 | L19: =SUM(L16:L18) -> 450 | M19: =SUM(M16:M18) -> 0 | ... S19: =SUM(S16:S18) -> 0 | U19: =SUM(U16:U18) -> 50 | V19: =SUM(V16:V18) -> 0
A21: 石川郡 | B21: 石川町 | D21: YC石川※6 | F21: =H21+J21+L21+N21+P21+R21+U21 -> 2800 | G21: =I21+K21+M21+O21+Q21+S21+V21 -> 0 | N21: 300 | P21: 2400 | R21: 50 | T21: 産経 | U21: 50
D22: 高橋※7 | F22: =H22+J22+L22+N22+P22+R22+U22 -> 2350 | G22: =I22+K22+M22+O22+Q22+S22+V22 -> 0 | H22: 50 | J22: 2050 | L22: 200 | R22: 50
B23: 浅川町 | D23: 山野辺※8 | F23: =H23+J23+L23+N23+P23+R23+U23 -> 1450 | G23: =I23+K23+M23+O23+Q23+S23+V23 -> 0 | H23: 50 | J23: 1000 | L23: 50 | N23: 50 | P23: 200 | R23: 50 | T23: 産経 | U23: 50
B24: 古殿町 | D24: 常盤 | F24: =H24+J24+L24+N24+P24+R24+U24 -> 950 | G24: =I24+K24+M24+O24+Q24+S24+V24 -> 0 | J24: 700 | L24: 50 | N24: 50 | P24: 150
D25: 計 | F25: =SUM(F21:F24) -> 7550 | G25: =SUM(G21:G24) -> 0 | H25: =SUM(H21:H24) -> 100 | I25: =SUM(I21:I24) -> 0 | J25: =SUM(J21:J24) -> 3750 | K25: =SUM(K21:K24) -> 0 | L25: =SUM(L21:L24) -> 300 | M25: =SUM(M21:M24) -> 0 | ... S25: =SUM(S21:S24) -> 0 | U25: =SUM(U21:U24) -> 100 | V25: =SUM(V21:V24) -> 0
A27: 東白川郡 | B27: 棚倉町 | D27: 販売ｾﾝﾀｰ | F27: =H27+J27+L27+N27+P27+R27+U27 -> 1300 | G27: =I27+K27+M27+O27+Q27+S27+V27 -> 0 | H27: 50 | J27: 1200 | L27: 50
D28: 菅野 | F28: =H28+J28+L28+N28+P28+R28+U28 -> 1050 | G28: =I28+K28+M28+O28+Q28+S28+V28 -> 0 | J28: 0 | N28: 150 | P28: 850 | R28: 50 | U28: 0
B29: 矢祭町 | D29: 販売ｾﾝﾀｰ※11 | F29: =H29+J29+L29+N29+P29+R29+U29 -> 1250 | G29: =I29+K29+M29+O29+Q29+S29+V29 -> 0 | H29: 50 | J29: 750 | L29: 50 | N29: 100 | P29: 250 | R29: 50
B30: 塙町 | D30: 鈴木※10 | F30: =H30+J30+L30+N30+P30+R30+U30 -> 1000 | G30: =I30+K30+M30+O30+Q30+S30+V30 -> 0 | H30: 50 | J30: 900 | T30: 産経 | U30: 50
D31: 塙新聞販売C※12 | F31: =H31+J31+L31+N31+P31+R31+U31 -> 1000 | G31: =I31+K31+M31+O31+Q31+S31+V31 -> 0 | L31: 100 | N31: 100 | P31: 750 | R31: 50
B32: 鮫川村 | D32: 早川 | F32: =H32+J32+L32+N32+P32+R32+U32 -> 600 | G32: =I32+K32+M32+O32+Q32+S32+V32 -> 0 | J32: 500 | P32: 100
D33: 計 | F33: =SUM(F27:F32) -> 6200 | G33: =SUM(G27:G32) -> 0 | H33: =SUM(H27:H32) -> 150 | I33: =SUM(I27:I32) -> 0 | J33: =SUM(J27:J32) -> 3350 | K33: =SUM(K27:K32) -> 0 | L33: =SUM(L27:L32) -> 200 | M33: =SUM(M27:M32) -> 0 | ... S33: =SUM(S27:S32) -> 0 | U33: =SUM(U27:U32) -> 50 | V33: =SUM(V27:V32) -> 0
A34: ※新聞の完全な銘柄指定、地域指定はできませんのでご了承下さい。 | I34: ※1 西白河郡西郷村を含む
I35: ※2 表郷分産経、西白河郡泉崎村、旧東村、東白川郡棚倉町の一部を含む | P35: ※7 石川郡平田村・浅川町・古殿町の一部を含む
I36: ※3 西白河郡西郷村、旧表郷村・旧東村・東白川郡棚倉町の一部を含む | P36: ※8 東白川郡棚倉町の一部を含む
I37: ※4 岩瀬郡天栄村の一部、白河市（旧）大信村、西白河郡中島村を含む | P37: ※9 白河市の一部を含む
I38: ※5 白河市（旧）東村の一部を含む | P38: ※10 東白川郡棚倉町・矢祭町の一部を含む
I39: ※6 石川郡平田村・玉川村・浅川町・古殿町の一部を含む | P39: ※11 東白川郡塙町の一部を含む
P40: ※12 東白川郡棚倉町・矢祭町・鮫川町の一部を含む

Sheet 二本松市･本宮市
A1: 福島県 | D1: 広告主名 | F1: =郡山市１!F1 -> 0 | I1: タイトル | L1: 代理店 | M1: =郡山市１!M1 -> 0 | O1: サイズ | P1: 総枚数 | S1: 折込日
A2: =郡山市１!A2 -> 46266 | C2: =郡山市１!C2 -> 0 | I2: =郡山市１!I2 -> 0 | L2: =郡山市１!L2 -> 0 | O2: =郡山市１!O2 -> 0 | Q2: =郡山市１!Q3+郡山市２!Q3+須賀川市･田村市・田村郡!Q3+白河市・西白河郡･石川郡･東白川郡!Q3+二本松市･本宮市!Q3+福島1!Q3+福島２･伊達市・伊達郡!Q3+いわき市１!Q3+いわき市２!Q3+南相馬市・相馬市・相馬郡・双葉郡!Q3+会津若松市・河沼郡・南会津郡!Q3+喜多方市・耶麻郡・大沼郡!Q3 -> 0 | S2: =郡山市１!S2 -> 0
P3: 頁枚数 | Q3: =G16+G21 -> 0
A4: 地 区 | C4: 販売店 | F4: 総 数 | H4: 毎 日 | J4: 福島民報 | L4: 朝 日 | N4: 読 売 | P4: 福島民友 | R4: 日 経 | T4: 他 紙
H5: 部 数 | I5: 折込部数 | J5: 部 数 | K5: 折込部数 | L5: 部 数 | M5: 折込部数 | N5: 部 数 | O5: 折込部数 | P5: 部 数 | Q5: 折込部数 | R5: 部 数 | S5: 折込部数 | T5: 部 数 | V5: 折込部数
A6: 二本松市 | B6: (旧) 二本松市 | D6: 毎民二本松※1 | F6: =H6+J6+L6+N6+P6+R6+U6 -> 3450 | G6: =I6+K6+M6+O6+Q6+S6+V6 -> 0 | H6: 100 | J6: 3150 | R6: 150 | T6: 産経 | U6: 50
D7: ＹＣ二本松※1 | F7: =H7+J7+L7+N7+P7+R7+U7 -> 2050 | G7: =I7+K7+M7+O7+Q7+S7+V7 -> 0 | N7: 450 | P7: 1600
D8: 朝日二本松※1 | F8: =H8+J8+L8+N8+P8+R8+U8 -> 2000 | G8: =I8+K8+M8+O8+Q8+S8+V8 -> 0 | L8: 650 | P8: 1350
D9: 井上 | F9: =H9+J9+L9+N9+P9+R9+U9 -> 650 | G9: =I9+K9+M9+O9+Q9+S9+V9 -> 0 | H9: 50 | J9: 600
B10: (旧)安達町 | D10: 毎民北部は廃店し、毎民北販売Ｃと毎民北高橋に分割されました。(2026.9.1)
D11: 毎民北販売Ｃ | F11: =H11+J11+L11+N11+P11+R11+U11 -> 350 | G11: =I11+K11+M11+O11+Q11+S11+V11 -> 0 | H11: 0 | J11: 350
D12: 毎民北高橋 | F12: =H12+J12+L12+N12+P12+R12+U12 -> 1250 | G12: =I12+K12+M12+O12+Q12+S12+V12 -> 0 | H12: 50 | J12: 1050 | L12: 50 | P12: 50 | R12: 50
B13: (旧)岩代町 | D13: 大関 | F13: =H13+J13+L13+N13+P13+R13+U13 -> 1100 | G13: =I13+K13+M13+O13+Q13+S13+V13 -> 0 | H13: 50 | J13: 850 | L13: 50 | P13: 150
D14: 百目木服部 | F14: =H14+J14+L14+N14+P14+R14+U14 -> 250 | G14: =I14+K14+M14+O14+Q14+S14+V14 -> 0 | J14: 250 | P14: 0
B15: (旧)東和町 | D15: 服部※3 | F15: =H15+J15+L15+N15+P15+R15+U15 -> 1350 | G15: =I15+K15+M15+O15+Q15+S15+V15 -> 0 | H15: 0 | I15: 0 | J15: 1050 | L15: 50 | P15: 200 | R15: 50
D16: 計 | F16: =SUM(F6:F15) -> 12450 | G16: =SUM(G6:G15) -> 0 | H16: =SUM(H6:H15) -> 250 | I16: =SUM(I6:I15) -> 0 | J16: =SUM(J6:J15) -> 7300 | K16: =SUM(K6:K15) -> 0 | L16: =SUM(L6:L15) -> 800 | M16: =SUM(M6:M15) -> 0 | ... S16: =SUM(S6:S15) -> 0 | U16: =SUM(U6:U15) -> 50 | V16: =SUM(V6:V15) -> 0
A18: 本宮市 | B18: (旧)本宮町 | D18: 毎民本宮※2 | F18: =H18+J18+L18+N18+P18+R18+U18 -> 3850 | G18: =I18+K18+M18+O18+Q18+S18+V18 -> 0 | H18: 200 | J18: 3650
D19: 読売民友新本宮※2 | F19: =H19+J19+L19+N19+P19+R19+U19 -> 1900 | G19: =I19+K19+M19+O19+Q19+S19+V19 -> 0 | N19: 300 | P19: 1600
D20: 古川※2 | F20: =H20+J20+L20+N20+P20+R20+U20 -> 2250 | G20: =I20+K20+M20+O20+Q20+S20+V20 -> 0 | L20: 500 | P20: 1550 | R20: 150 | T20: 産経 | U20: 50
D21: 計 | F21: =SUM(F18:F20) -> 8000 | G21: =SUM(G18:G20) -> 0 | H21: =SUM(H18:H20) -> 200 | I21: =SUM(I18:I20) -> 0 | J21: =SUM(J18:J20) -> 3650 | K21: =SUM(K18:K20) -> 0 | L21: =SUM(L18:L20) -> 500 | M21: =SUM(M18:M20) -> 0 | ... S21: =SUM(S18:S20) -> 0 | U21: =SUM(U18:U20) -> 50 | V21: =SUM(V18:V20) -> 0
A22: ※新聞の完全な銘柄指定、地域指定はできませんのでご了承下さい。 | N22: ※1 二本松市の（旧）安達町の一部を含む
N23: ※2 安達郡大玉村を含む（旧）白沢村を含む
N24: ※3 伊達郡川俣町山木屋地区を含む

Sheet 福島1
A1: 福島県 | D1: 広告主名 | F1: =郡山市１!F1 -> 0 | I1: タイトル | L1: 代理店 | M1: =郡山市１!M1 -> 0 | O1: サイズ | P1: 総枚数 | S1: 折込日
A2: =郡山市１!A2 -> 46266 | C2: =郡山市１!C2 -> 0 | I2: =郡山市１!I2 -> 0 | L2: =郡山市１!L2 -> 0 | O2: =郡山市１!O2 -> 0 | Q2: =郡山市１!Q3+郡山市２!Q3+須賀川市･田村市・田村郡!Q3+白河市・西白河郡･石川郡･東白川郡!Q3+二本松市･本宮市!Q3+福島1!Q3+福島２･伊達市・伊達郡!Q3+いわき市１!Q3+いわき市２!Q3+南相馬市・相馬市・相馬郡・双葉郡!Q3+会津若松市・河沼郡・南会津郡!Q3+喜多方市・耶麻郡・大沼郡!Q3 -> 0 | S2: =郡山市１!S2 -> 0
P3: 頁枚数 | Q3: =G18+G36 -> 0
A4: 地 区 | C4: 販売店 | F4: 総 数 | H4: 毎 日 | J4: 福島民報 | L4: 朝 日 | N4: 読 売 | P4: 福島民友 | R4: 日 経 | T4: 他 紙
H5: 部 数 | I5: 折込部数 | J5: 部 数 | K5: 折込部数 | L5: 部 数 | M5: 折込部数 | N5: 部 数 | O5: 折込部数 | P5: 部 数 | Q5: 折込部数 | R5: 部 数 | S5: 折込部数 | T5: 部 数 | V5: 折込部数
A6: 福島市 | D6: 三宅豊田町 | F6: =H6+J6+L6+N6+P6+R6+U6 -> 2500 | G6: =I6+K6+M6+O6+Q6+S6+V6 -> 0 | H6: 300 | J6: 2200
D7: 三宅春日 | F7: =H7+J7+L7+N7+P7+R7+U7 -> 1150 | G7: =I7+K7+M7+O7+Q7+S7+V7 -> 0 | H7: 100 | J7: 1050
D8: 三宅岡山 | F8: =H8+J8+L8+N8+P8+R8+U8 -> 1150 | G8: =I8+K8+M8+O8+Q8+S8+V8 -> 0 | H8: 100 | J8: 1050
D9: 三宅森合 | F9: =H9+J9+L9+N9+P9+R9+U9 -> 2450 | G9: =I9+K9+M9+O9+Q9+S9+V9 -> 0 | H9: 150 | J9: 2300
D10: 三宅北部 | F10: =H10+J10+L10+N10+P10+R10+U10 -> 2650 | G10: =I10+K10+M10+O10+Q10+S10+V10 -> 0 | H10: 150 | J10: 2500
D11: 三宅渡利 | F11: =H11+J11+L11+N11+P11+R11+U11 -> 1550 | G11: =I11+K11+M11+O11+Q11+S11+V11 -> 0 | H11: 100 | J11: 1450
D12: 三宅大森 | F12: =H12+J12+L12+N12+P12+R12+U12 -> 2250 | G12: =I12+K12+M12+O12+Q12+S12+V12 -> 0 | H12: 100 | J12: 2150
D13: 三宅西中央 | F13: =H13+J13+L13+N13+P13+R13+U13 -> 2550 | G13: =I13+K13+M13+O13+Q13+S13+V13 -> 0 | H13: 200 | J13: 2350
D14: 三宅吾妻 | F14: =H14+J14+L14+N14+P14+R14+U14 -> 1650 | G14: =I14+K14+M14+O14+Q14+S14+V14 -> 0 | H14: 100 | J14: 1550
D15: 三宅西部※1 | F15: =H15+J15+L15+N15+P15+R15+U15 -> 1550 | G15: =I15+K15+M15+O15+Q15+S15+V15 -> 0 | H15: 100 | J15: 1450
D16: 三宅郷野目 | F16: =H16+J16+L16+N16+P16+R16+U16 -> 2350 | G16: =I16+K16+M16+O16+Q16+S16+V16 -> 0 | H16: 100 | J16: 2250
D17: 三宅蓬莱 | F17: =H17+J17+L17+N17+P17+R17+U17 -> 1100 | G17: =I17+K17+M17+O17+Q17+S17+V17 -> 0 | H17: 50 | J17: 1050
D18: 《三宅》①計 | F18: =SUM(F6:F17) -> 22900 | G18: =SUM(G6:G17) -> 0 | H18: =SUM(H6:H17) -> 1550 | I18: =SUM(I6:I17) -> 0 | J18: =SUM(J6:J17) -> 21350 | K18: =SUM(K6:K17) -> 0 | L18: =SUM(L6:L17) -> 0 | M18: =SUM(M6:M17) -> 0 | ... V18: =SUM(V6:V17) -> 0
D20: 読売中央 | F20: =H20+J20+L20+N20+P20+R20+U20 -> 3500 | G20: =I20+K20+M20+O20+Q20+S20+V20 -> 0 | N20: 850 | P20: 2350 | R20: 300
D21: 読売五月町 | F21: =H21+J21+L21+N21+P21+R21+U21 -> 850 | G21: =I21+K21+M21+O21+Q21+S21+V21 -> 0 | N21: 200 | P21: 450 | R21: 200
D22: 読売渡利 | F22: =H22+J22+L22+N22+P22+R22+U22 -> 1600 | G22: =I22+K22+M22+O22+Q22+S22+V22 -> 0 | N22: 300 | P22: 1200 | R22: 100
D23: 読売東部 | F23: =H23+J23+L23+N23+P23+R23+U23 -> 3250 | G23: =I23+K23+M23+O23+Q23+S23+V23 -> 0 | N23: 600 | P23: 2350 | R23: 300
D24: 読売西部 | F24: =H24+J24+L24+N24+P24+R24+U24 -> 4300 | G24: =I24+K24+M24+O24+Q24+S24+V24 -> 0 | N24: 850 | P24: 3100 | R24: 350
D25: 読売南部 | F25: =H25+J25+L25+N25+P25+R25+U25 -> 2500 | G25: =I25+K25+M25+O25+Q25+S25+V25 -> 0 | N25: 450 | P25: 2050
D26: 読売笹谷 | F26: =H26+J26+L26+N26+P26+R26+U26 -> 3150 | G26: =I26+K26+M26+O26+Q26+S26+V26 -> 0 | N26: 800 | P26: 2250 | R26: 100
D27: 読売須南 | F27: =H27+J27+L27+N27+P27+R27+U27 -> 3300 | G27: =I27+K27+M27+O27+Q27+S27+V27 -> 0 | N27: 450 | P27: 2650 | R27: 200
D28: ASA福島中央 | F28: =H28+J28+L28+N28+P28+R28+U28 -> 1900 | G28: =I28+K28+M28+O28+Q28+S28+V28 -> 0 | L28: 1600 | P28: 250 | T28: 産経 | U28: 50
D29: ASA福島西部 | F29: =H29+J29+L29+N29+P29+R29+U29 -> 1150 | G29: =I29+K29+M29+O29+Q29+S29+V29 -> 0 | L29: 850 | P29: 200 | T29: 産経 | U29: 100
D30: ASA福島南部 | F30: =H30+J30+L30+N30+P30+R30+U30+U31 -> 1500 | G30: =I30+K30+M30+O30+Q30+S30+V30+V31 -> 0 | L30: 1050 | P30: 200 | R30: 150 | T30: 産経 | U30: 50
T31: 河北 | U31: 50
D32: ASA福島北部 | F32: =H32+J32+L32+N32+P32+R32+U32 -> 1050 | G32: =I32+K32+M32+O32+Q32+S32+V32 -> 0 | L32: 800 | P32: 200 | T32: 産経 | U32: 50
D33: 産経福島 | F33: =U33+U34 -> 750 | G33: =V33+V34 -> 0 | T33: 産経 | U33: 500
T34: 河北 | U34: 250
D35: 朝日金谷川 | F35: =H35+J35+L35+N35+P35+R35+U35 -> 100 | G35: =I35+K35+M35+O35+Q35+S35+V35 -> 0 | L35: 50 | P35: 50
D36: ②小計 | F36: =SUM(F20:F35) -> 28900 | G36: =SUM(G20:G35) -> 0 | H36: =SUM(H20:H35) -> 0 | I36: =SUM(I20:I35) -> 0 | J36: =SUM(J20:J35) -> 0 | K36: =SUM(K20:K35) -> 0 | L36: =SUM(L20:L35) -> 4350 | M36: =SUM(M20:M35) -> 0 | ... S36: =SUM(S20:S35) -> 0 | U36: =SUM(U20:U35) -> 1050 | V36: =SUM(V20:V35) -> 0
A37: ※新聞の完全な銘柄指定、地域指定はできませんのでご了承下さい。 | J37: ※1 銘柄指定をすると土湯には折込まれません

Sheet 福島２･伊達市・伊達郡
A1: 福島県 | D1: 広告主名 | F1: =郡山市１!F1 -> 0 | I1: タイトル | L1: 代理店 | M1: =郡山市１!M1 -> 0 | O1: サイズ | P1: 総枚数 | S1: 折込日
A2: =郡山市１!A2 -> 46266 | C2: =郡山市１!C2 -> 0 | I2: =郡山市１!I2 -> 0 | L2: =郡山市１!L2 -> 0 | O2: =郡山市１!O2 -> 0 | Q2: =郡山市１!Q3+郡山市２!Q3+須賀川市･田村市・田村郡!Q3+白河市・西白河郡･石川郡･東白川郡!Q3+二本松市･本宮市!Q3+福島1!Q3+福島２･伊達市・伊達郡!Q3+いわき市１!Q3+いわき市２!Q3+南相馬市・相馬市・相馬郡・双葉郡!Q3+会津若松市・河沼郡・南会津郡!Q3+喜多方市・耶麻郡・大沼郡!Q3 -> 0 | S2: =郡山市１!S2 -> 0
P3: 頁枚数 | Q3: =G17+G32+G40 -> 0
A4: 地 区 | C4: 販売店 | F4: 総 数 | H4: 毎 日 | J4: 福島民報 | L4: 朝 日 | N4: 読 売 | P4: 福島民友 | R4: 日 経 | T4: 他 紙
H5: 部 数 | I5: 折込部数 | J5: 部 数 | K5: 折込部数 | L5: 部 数 | M5: 折込部数 | N5: 部 数 | O5: 折込部数 | P5: 部 数 | Q5: 折込部数 | R5: 部 数 | S5: 折込部数 | T5: 部 数 | V5: 折込部数
A6: 福島市 | B6: 飯坂 | D6: 毎民佐藤 | F6: =H6+J6+L6+N6+P6+R6+U6 -> 2900 | G6: =I6+K6+M6+O6+Q6+S6+V6 -> 0 | H6: 150 | J6: 2550 | R6: 150 | T6: 産経 | U6: 50
D7: 読売鈴木 | F7: =H7+J7+L7+N7+P7+R7+U7 -> 2250 | G7: =I7+K7+M7+O7+Q7+S7+V7 -> 0 | L7: 200 | N7: 200 | P7: 1850 | U7: 0
B8: 瀬上 | D8: 毎民東福島 | F8: =H8+J8+L8+N8+P8+R8+U8+U9 -> 3400 | G8: =I8+K8+M8+O8+Q8+S8+V8+V9 -> 0 | H8: 100 | J8: 3050 | R8: 150 | T8: 産経 | U8: 50
T9: 河北 | U9: 50
D10: 読売瀬上 | F10: =H10+J10+L10+N10+P10+R10+U10 -> 2250 | G10: =I10+K10+M10+O10+Q10+S10+V10 -> 0 | N10: 500 | P10: 1750
B11: 松川 | D11: 毎民高橋※1 | F11: =H11+J11+L11+N11+P11+R11+U11 -> 2350 | G11: =I11+K11+M11+O11+Q11+S11+V11 -> 0 | H11: 50 | J11: 1950 | L11: 250 | R11: 100
D12: 読売松川※1 | F12: =H12+J12+L12+N12+P12+R12+U12 -> 900 | G12: =I12+K12+M12+O12+Q12+S12+V12 -> 0 | N12: 100 | P12: 800
B13: (旧)飯野町 | D13: 永沼※2 | F13: =H13+J13+L13+N13+P13+R13+U13 -> 1000 | G13: =I13+K13+M13+O13+Q13+S13+V13 -> 0 | H13: 50 | J13: 900 | R13: 50
D14: YC飯野※2 | F14: =H14+J14+L14+N14+P14+R14+U14 -> 900 | G14: =I14+K14+M14+O14+Q14+S14+V14 -> 0 | L14: 50 | N14: 50 | P14: 750 | R14: 50
B15: 立子山 | D15: 立子山勇屋 | F15: =H15+J15+L15+N15+P15+R15+U15 -> 200 | G15: =I15+K15+M15+O15+Q15+S15+V15 -> 0 | J15: 200
B16: 小国 | D16: 小国新聞販売所※3 | F16: =H16+J16+L16+N16+P16+R16+U16 -> 600 | G16: =I16+K16+M16+O16+Q16+S16+V16 -> 0 | J16: 350 | L16: 50 | N16: 50 | P16: 150
D17: ③計 | F17: =SUM(F6:F16) -> 16750 | G17: =SUM(G6:G16) -> 0 | H17: =SUM(H6:H16) -> 350 | I17: =SUM(I6:I16) -> 0 | J17: =SUM(J6:J16) -> 9000 | K17: =SUM(K6:K16) -> 0 | L17: =SUM(L6:L16) -> 550 | M17: =SUM(M6:M16) -> 0 | ... S17: =SUM(S6:S16) -> 0 | U17: =SUM(U6:U16) -> 150 | V17: =SUM(V6:V16) -> 0
A19: 福島市（①+②+③）計 | F19: =福島1!F18+福島1!F36+福島２･伊達市・伊達郡!F17 -> 68550 | G19: =福島1!G18+福島1!G36+福島２･伊達市・伊達郡!G17 -> 0 | H19: =福島1!H18+福島1!H36+福島２･伊達市・伊達郡!H17 -> 1900 | I19: =福島1!I18+福島1!I36+福島２･伊達市・伊達郡!I17 -> 0 | J19: =福島1!J18+福島1!J36+福島２･伊達市・伊達郡!J17 -> 30350 | K19: =福島1!K18+福島1!K36+福島２･伊達市・伊達郡!K17 -> 0 | L19: =福島1!L18+福島1!L36+福島２･伊達市・伊達郡!L17 -> 4900 | M19: =福島1!M18+福島1!M36+福島２･伊達市・伊達郡!M17 -> 0 | ... S19: =福島1!S18+福島1!S36+福島２･伊達市・伊達郡!S17 -> 0 | U19: =福島1!U18+福島1!U36+福島２･伊達市・伊達郡!U17 -> 1200 | V19: =福島1!V18+福島1!V36+福島２･伊達市・伊達郡!V17 -> 0
A21: 伊達市 | B21: (旧)伊達町 | D21: たかはし※7 | F21: =H21+J21+L21+N21+P21+R21+U21 -> 1500 | G21: =I21+K21+M21+O21+Q21+S21+V21 -> 0 | H21: 50 | J21: 1200 | L21: 200 | R21: 50
D22: 読売民友伊達SC※4 | F22: =H22+J22+L22+N22+P22+R22+U22 -> 850 | G22: =I22+K22+M22+O22+Q22+S22+V22 -> 0 | N22: 150 | P22: 700
D23: 読売民友伏黒SC | F23: =H23+J23+L23+N23+P23+R23+U23 -> 400 | G23: =I23+K23+M23+O23+Q23+S23+V23 -> 0 | L23: 50 | N23: 50 | P23: 300
D24: 菅野（伏黒） | F24: =H24+J24+L24+N24+P24+R24+U24 -> 500 | G24: =I24+K24+M24+O24+Q24+S24+V24 -> 0 | H24: 50 | J24: 450
B25: (旧)梁川町 | D25: 毎民販売C | F25: =H25+J25+L25+N25+P25+R25+U25 -> 2750 | G25: =I25+K25+M25+O25+Q25+S25+V25 -> 0 | H25: 100 | J25: 2500 | R25: 100 | T25: 産経 | U25: 50
D26: 読売 | F26: =H26+J26+L26+N26+P26+R26+U26 -> 1100 | G26: =I26+K26+M26+O26+Q26+S26+V26 -> 0 | N26: 100 | P26: 1000
D27: 朝日 | F27: =H27+J27+L27+N27+P27+R27+U27 -> 100 | G27: =I27+K27+M27+O27+Q27+S27+V27 -> 0 | L27: 100
B28: (旧)保原町 | D28: 読売保原 | F28: =H28+J28+L28+N28+P28+R28+U28 -> 1600 | G28: =I28+K28+M28+O28+Q28+S28+V28 -> 0 | N28: 150 | P28: 1450
D29: 毎民保原 | F29: =H29+J29+L29+N29+P29+R29+U29 -> 3400 | G29: =I29+K29+M29+O29+Q29+S29+V29 -> 0 | H29: 100 | J29: 3000 | L29: 150 | R29: 100 | T29: 産経 | U29: 50
B30: (旧)霊山町 | D30: 毎民掛田 | F30: =H30+J30+L30+N30+P30+R30+U30 -> 1000 | G30: =I30+K30+M30+O30+Q30+S30+V30 -> 0 | H30: 50 | J30: 900 | R30: 50
D31: 斉藤 | F31: =H31+J31+L31+N31+P31+R31+U31 -> 850 | G31: =I31+K31+M31+O31+Q31+S31+V31 -> 0 | L31: 50 | N31: 50 | P31: 750 | U31: 0
D32: 計 | F32: =SUM(F21:F31) -> 14050 | G32: =SUM(G21:G31) -> 0 | H32: =SUM(H21:H31) -> 350 | I32: =SUM(I21:I31) -> 0 | J32: =SUM(J21:J31) -> 8050 | K32: =SUM(K21:K31) -> 0 | L32: =SUM(L21:L31) -> 550 | M32: =SUM(M21:M31) -> 0 | ... S32: =SUM(S21:S31) -> 0 | U32: =SUM(U21:U31) -> 100 | V32: =SUM(V21:V31) -> 0
A34: 伊達郡 | B34: 桑折町 | D34: 榊 | F34: =H34+J34+L34+N34+P34+R34+U34 -> 1950 | G34: =I34+K34+M34+O34+Q34+S34+V34 -> 0 | H34: 50 | J34: 1650 | L34: 150 | R34: 100
D35: 浅野 | F35: =H35+J35+L35+N35+P35+R35+U35 -> 1050 | G35: =I35+K35+M35+O35+Q35+S35+V35 -> 0 | N35: 100 | P35: 900 | T35: 産経 | U35: 50
B36: 国見町 | D36: 大友※8 | F36: =H36+J36+L36+N36+P36+R36+U36 -> 1750 | G36: =I36+K36+M36+O36+Q36+S36+V36 -> 0 | H36: 0 | J36: 1200 | L36: 50 | N36: 50 | P36: 400 | R36: 50 | U36: 0
D37: 斉藤 | F37: =H37+J37+L37+N37+P37+R37+U37 -> 950 | G37: =I37+K37+M37+O37+Q37+S37+V37 -> 0 | H37: 50 | J37: 550 | L37: 50 | N37: 50 | P37: 200 | R37: 50
B38: 川俣町 | D38: 永沼※5 | F38: =H38+J38+L38+N38+P38+R38+U38 -> 2500 | G38: =I38+K38+M38+O38+Q38+S38+V38 -> 0 | H38: 50 | J38: 2250 | L38: 100 | R38: 100
D39: YC川俣※6 | F39: =H39+J39+L39+N39+P39+R39+U39 -> 1750 | G39: =I39+K39+M39+O39+Q39+S39+V39 -> 0 | N39: 150 | P39: 1550 | T39: 産経 | U39: 50
D40: 計 | F40: =SUM(F34:F39) -> 9950 | G40: =SUM(G34:G39) -> 0 | H40: =SUM(H34:H39) -> 150 | I40: =SUM(I34:I39) -> 0 | J40: =SUM(J34:J39) -> 5650 | K40: =SUM(K34:K39) -> 0 | L40: =SUM(L34:L39) -> 350 | M40: =SUM(M34:M39) -> 0 | ... S40: =SUM(S34:S39) -> 0 | U40: =SUM(U34:U39) -> 100 | V40: =SUM(V34:V39) -> 0
A41: ※ 新聞の完全な銘柄指定、地域指定はできませんのでご了承下さい。 | K41: ※1 二本松市の(旧)安達町の一部を含む | Q41: ※4 福島市飯坂町東湯野地区を含む
K42: ※2 福島市立子山の一部、二本松市(旧)東和町の一部を含む | Q42: ※5 伊達市（旧）月舘町を含む
K43: ※3 伊達市の（旧）霊山町の一部を含む | Q43: ※6 伊達市（旧）月舘町、相馬郡飯舘村の一部を含む
...

Sheet いわき市１
A1: 福島県 | D1: 広告主名 | F1: =郡山市１!F1 -> 0 | I1: タイトル | L1: 代理店 | M1: =郡山市１!M1 -> 0 | O1: サイズ | P1: 総枚数 | S1: 折込日
A2: =郡山市１!A2 -> 46266 | C2: =郡山市１!C2 -> 0 | I2: =郡山市１!I2 -> 0 | L2: =郡山市１!L2 -> 0 | O2: =郡山市１!O2 -> 0 | Q2: =郡山市１!Q3+郡山市２!Q3+須賀川市･田村市・田村郡!Q3+白河市・西白河郡･石川郡･東白川郡!Q3+二本松市･本宮市!Q3+福島1!Q3+福島２･伊達市・伊達郡!Q3+いわき市１!Q3+いわき市２!Q3+南相馬市・相馬市・相馬郡・双葉郡!Q3+会津若松市・河沼郡・南会津郡!Q3+喜多方市・耶麻郡・大沼郡!Q3 -> 0 | S2: =郡山市１!S2 -> 0
P3: 頁枚数 | Q3: =G10+G29 -> 0
A4: 地 区 | C4: 販売店 | F4: 総 数 | H4: 毎 日 | J4: 福島民報 | L4: 朝 日 | N4: 読 売 | P4: 福島民友 | R4: 日 経 | T4: 他 紙
H5: 部 数 | I5: 折込部数 | J5: 部 数 | K5: 折込部数 | L5: 部 数 | M5: 折込部数 | N5: 部 数 | O5: 折込部数 | P5: 部 数 | Q5: 折込部数 | R5: 部 数 | S5: 折込部数 | T5: 部 数 | V5: 折込部数
A6: いわき市 | B6: 平 | D6: 木部本店 | F6: =H6+J6+L6+N6+P6+R6+U6 -> 3900 | G6: =I6+K6+M6+O6+Q6+S6+V6 -> 0 | H6: 600 | J6: 3200 | T6: 産経 | U6: 100
D7: 木部東部※2 | F7: =H7+J7+L7+N7+P7+R7+U7 -> 1200 | G7: =I7+K7+M7+O7+Q7+S7+V7 -> 0 | H7: 150 | J7: 1000 | T7: 産経 | U7: 50
D8: 木部北部 | F8: =H8+J8+L8+N8+P8+R8+U8 -> 1850 | G8: =I8+K8+M8+O8+Q8+S8+V8 -> 0 | H8: 200 | J8: 1600 | T8: 産経 | U8: 50
D9: 木部南部 | F9: =H9+J9+L9+N9+P9+R9+U9 -> 1550 | G9: =I9+K9+M9+O9+Q9+S9+V9 -> 0 | H9: 200 | J9: 1300 | T9: 産経 | U9: 50
C10: 《毎民木部》①計 | F10: =SUM(F6:F9) -> 8500 | G10: =SUM(G6:G9) -> 0 | H10: =SUM(H6:H9) -> 1150 | I10: =SUM(I6:I9) -> 0 | J10: =SUM(J6:J9) -> 7100 | K10: =SUM(K6:K9) -> 0 | L10: =SUM(L6:L9) -> 0 | M10: =SUM(M6:M9) -> 0 | ... S10: =SUM(S6:S9) -> 0 | U10: =SUM(U6:U9) -> 250 | V10: =SUM(V6:V9) -> 0
D12: 毎民ﾆｭｰﾀｳﾝ | F12: =H12+J12+L12+N12+P12+R12+U12 -> 1150 | G12: =I12+K12+M12+O12+Q12+S12+V12 -> 0 | H12: 100 | J12: 1000 | T12: 産経 | U12: 50
D13: 朝日平中央※1 | F13: =H13+J13+L13+N13+P13+R13+U13 -> 3050 | G13: =I13+K13+M13+O13+Q13+S13+V13 -> 0 | L13: 1750 | P13: 1250 | T13: 河北 | U13: 50
D14: 朝日平東※3 | F14: =H14+J14+L14+N14+P14+R14+U14 -> 1550 | G14: =I14+K14+M14+O14+Q14+S14+V14 -> 0 | L14: 900 | P14: 650
D15: 朝日ﾆｭｰﾀｳﾝ | F15: =H15+J15+L15+N15+P15+R15+U15 -> 1900 | G15: =I15+K15+M15+O15+Q15+S15+V15 -> 0 | L15: 1150 | P15: 750
D16: 読売中央※1 | F16: =H16+J16+L16+N16+P16+R16+U16 -> 2700 | G16: =I16+K16+M16+O16+Q16+S16+V16 -> 0 | N16: 800 | P16: 1700 | R16: 200
D17: 読売南部※7 | F17: =H17+J17+L17+N17+P17+R17+U17 -> 1900 | G17: =I17+K17+M17+O17+Q17+S17+V17 -> 0 | N17: 650 | P17: 1150 | R17: 100
D18: 読売谷川瀬 | F18: =H18+J18+L18+N18+P18+R18+U18 -> 1600 | G18: =I18+K18+M18+O18+Q18+S18+V18 -> 0 | N18: 600 | P18: 850 | R18: 150
B19: 好間 | D19: ASA好間 | F19: =H19+J19+L19+N19+P19+R19+U19 -> 250 | G19: =I19+K19+M19+O19+Q19+S19+V19 -> 0 | L19: 200 | T19: 産経 | U19: 50
D20: 毎民好間 | F20: =H20+J20+L20+N20+P20+R20+U20 -> 1000 | G20: =I20+K20+M20+O20+Q20+S20+V20 -> 0 | H20: 50 | J20: 950
D21: 読売※1 | F21: =H21+J21+L21+N21+P21+R21+U21 -> 1650 | G21: =I21+K21+M21+O21+Q21+S21+V21 -> 0 | N21: 450 | P21: 1150 | R21: 50
B22: 内郷 | D22: 毎民内郷 | F22: =H22+J22+L22+N22+P22+R22+U22 -> 2100 | G22: =I22+K22+M22+O22+Q22+S22+V22 -> 0 | H22: 150 | J22: 1850 | R22: 50 | T22: 産経 | U22: 50
B23: 常磐 | D23: 湯本阿部 | F23: =H23+J23+L23+N23+P23+R23+U23 -> 2700 | G23: =I23+K23+M23+O23+Q23+S23+V23 -> 0 | H23: 250 | J23: 2450
D24: 朝日湯本※1 | F24: =H24+J24+L24+N24+P24+R24+U24 -> 1050 | G24: =I24+K24+M24+O24+Q24+S24+V24 -> 0 | L24: 600 | P24: 400 | T24: 産経 | U24: 50
D25: YC常磐※1 | F25: =H25+J25+L25+N25+P25+R25+U25 -> 3650 | G25: =I25+K25+M25+O25+Q25+S25+V25 -> 0 | N25: 1100 | P25: 2450 | R25: 100
B26: 泉 | D26: 朝日泉 | F26: =H26+J26+L26+N26+P26+R26+U26 -> 1000 | G26: =I26+K26+M26+O26+Q26+S26+V26 -> 0 | L26: 600 | P26: 400
D27: 読友C泉 | F27: =H27+J27+L27+N27+P27+R27+U27 -> 2350 | G27: =I27+K27+M27+O27+Q27+S27+V27 -> 0 | N27: 550 | P27: 1750 | T27: 産経 | U27: 50
D28: 毎民泉阿部 | F28: =H28+J28+L28+N28+P28+R28+U28 -> 1900 | G28: =I28+K28+M28+O28+Q28+S28+V28 -> 0 | H28: 100 | J28: 1650 | R28: 150
D29: ②小計 | F29: =SUM(F12:F28) -> 31500 | G29: =SUM(G12:G28) -> 0 | H29: =SUM(H12:H28) -> 650 | I29: =SUM(I12:I28) -> 0 | J29: =SUM(J12:J28) -> 7900 | K29: =SUM(K12:K28) -> 0 | L29: =SUM(L12:L28) -> 5200 | M29: =SUM(M12:M28) -> 0 | ... S29: =SUM(S12:S28) -> 0 | U29: =SUM(U12:U28) -> 300 | V29: =SUM(V12:V28) -> 0
A30: ※新聞の完全な銘柄指定、地域指定はできませんのでご了承下さい。 | J30: ※1 内郷も含む
J31: ※2 草野地区含む
J32: ※3 草野地区、四倉地区含む

Sheet いわき市２
A1: 福島県 | D1: 広告主名 | F1: =郡山市１!F1 -> 0 | I1: タイトル | L1: 代理店 | M1: =郡山市１!M1 -> 0 | O1: サイズ | P1: 総枚数 | S1: 折込日
A2: =郡山市１!A2 -> 46266 | C2: =郡山市１!C2 -> 0 | I2: =郡山市１!I2 -> 0 | L2: =郡山市１!L2 -> 0 | O2: =郡山市１!O2 -> 0 | Q2: =郡山市１!Q3+郡山市２!Q3+須賀川市･田村市・田村郡!Q3+白河市・西白河郡･石川郡･東白川郡!Q3+二本松市･本宮市!Q3+福島1!Q3+福島２･伊達市・伊達郡!Q3+いわき市１!Q3+いわき市２!Q3+南相馬市・相馬市・相馬郡・双葉郡!Q3+会津若松市・河沼郡・南会津郡!Q3+喜多方市・耶麻郡・大沼郡!Q3 -> 0 | S2: =郡山市１!S2 -> 0
P3: 頁枚数 | Q3: =G31 -> 0
A4: 地 区 | C4: 販売店 | F4: 総 数 | H4: 毎 日 | J4: 福島民報 | L4: 朝 日 | N4: 読 売 | P4: 福島民友 | R4: 日 経 | T4: 他 紙
H5: 部 数 | I5: 折込部数 | J5: 部 数 | K5: 折込部数 | L5: 部 数 | M5: 折込部数 | N5: 部 数 | O5: 折込部数 | P5: 部 数 | Q5: 折込部数 | R5: 部 数 | S5: 折込部数 | T5: 部 数 | V5: 折込部数
A6: いわき市 | B6: 植田 | D6: 毎民販売 | F6: =H6+J6+L6+N6+P6+R6+U6 -> 1950 | G6: =I6+K6+M6+O6+Q6+S6+V6 -> 0 | H6: 100 | J6: 1850
D7: ASA植田※１ | F7: =H7+J7+L7+N7+P7+R7+U7 -> 1450 | G7: =I7+K7+M7+O7+Q7+S7+V7 -> 0 | L7: 750 | P7: 600 | R7: 100
D8: YC植田 | F8: =H8+J8+L8+N8+P8+R8+U8 -> 1950 | G8: =I8+K8+M8+O8+Q8+S8+V8 -> 0 | N8: 450 | P8: 1450 | T8: 産経 | U8: 50
B9: 錦 | D9: 毎民錦 | F9: =H9+J9+L9+N9+P9+R9+U9 -> 1100 | G9: =I9+K9+M9+O9+Q9+S9+V9 -> 0 | H9: 100 | J9: 900 | R9: 100
D10: 読売大川原 | F10: =H10+J10+L10+N10+P10+R10+U10 -> 1400 | G10: =I10+K10+M10+O10+Q10+S10+V10 -> 0 | N10: 400 | P10: 950 | T10: 産経 | U10: 50
B11: 勿来 | D11: 毎民勿来 | F11: =H11+J11+L11+N11+P11+R11+U11 -> 1150 | G11: =I11+K11+M11+O11+Q11+S11+V11 -> 0 | H11: 50 | J11: 1000 | R11: 50 | T11: 産経 | U11: 50
D12: ASA勿来 | F12: =H12+J12+L12+N12+P12+R12+U12 -> 750 | G12: =I12+K12+M12+O12+Q12+S12+V12 -> 0 | L12: 400 | P12: 350
D13: YC勿来※3 | F13: =H13+J13+L13+N13+P13+R13+U13 -> 1800 | G13: =I13+K13+M13+O13+Q13+S13+V13 -> 0 | N13: 400 | P13: 1400
B14: 小名浜 | D14: 毎民阿部 | F14: =H14+J14+L14+N14+P14+R14+U14 -> 3400 | G14: =I14+K14+M14+O14+Q14+S14+V14 -> 0 | H14: 300 | J14: 3000 | T14: 産経 | U14: 100
D15: 朝日小名浜 | F15: =H15+J15+L15+N15+P15+R15+U15 -> 2700 | G15: =I15+K15+M15+O15+Q15+S15+V15 -> 0 | L15: 1050 | P15: 1650
D16: YC小名浜 | F16: =H16+J16+L16+N16+P16+R16+U16 -> 2750 | G16: =I16+K16+M16+O16+Q16+S16+V16 -> 0 | N16: 700 | P16: 1900 | R16: 150
D17: YCいわき鹿島 | F17: =H17+J17+L17+N17+P17+R17+U17 -> 1800 | G17: =I17+K17+M17+O17+Q17+S17+V17 -> 0 | N17: 700 | P17: 1000 | R17: 100
B18: 江名 | D18: 村山 | F18: =H18+J18+L18+N18+P18+R18+U18 -> 750 | G18: =I18+K18+M18+O18+Q18+S18+V18 -> 0 | H18: 50 | J18: 450 | N18: 50 | P18: 150 | R18: 50
B19: 豊間 | D19: 今橋 | F19: =H19+J19+L19+N19+P19+R19+U19 -> 800 | G19: =I19+K19+M19+O19+Q19+S19+V19 -> 0 | J19: 500 | L19: 50 | N19: 50 | P19: 150 | R19: 50
B20: 上遠野 | D20: 西山 | F20: =H20+J20+L20+N20+P20+R20+U20 -> 700 | G20: =I20+K20+M20+O20+Q20+S20+V20 -> 0 | J20: 450 | L20: 50 | N20: 50 | P20: 150
D21: 鈴木 | F21: =H21+J21+L21+N21+P21+R21+U21 -> 750 | G21: =I21+K21+M21+O21+Q21+S21+V21 -> 0 | H21: 50 | J21: 550 | L21: 50 | N21: 50 | P21: 50
B22: 平夏井 | D22: 坂本 | F22: =H22+J22+L22+N22+P22+R22+U22 -> 500 | G22: =I22+K22+M22+O22+Q22+S22+V22 -> 0 | J22: 300 | L22: 50 | N22: 50 | P22: 100
B23: 草野 | D23: 佐藤 H27.3.1５廃店 | F23: =H23+J23+L23+N23+P23+R23+U23 -> 0 | G23: =I23+K23+M23+O23+Q23+S23+V23 -> 0
B24: 四倉 | D24: 読売小山田※2 | F24: =H24+J24+L24+N24+P24+R24+U24 -> 2450 | G24: =I24+K24+M24+O24+Q24+S24+V24 -> 0 | N24: 650 | P24: 1750 | R24: 50
D25: 毎民四倉販売C※2 | F25: =H25+J25+L25+N25+P25+R25+U25 -> 1600 | G25: =I25+K25+M25+O25+Q25+S25+V25 -> 0 | H25: 100 | J25: 1350 | R25: 100 | T25: 産経 | U25: 50
B26: 久之浜 | D26: 松田 | F26: =H26+J26+L26+N26+P26+R26+U26 -> 1000 | G26: =I26+K26+M26+O26+Q26+S26+V26 -> 0 | H26: 50 | J26: 650 | L26: 50 | N26: 50 | P26: 200
B27: 小川郷 | D27: 販売Ｃ | F27: =H27+J27+L27+N27+P27+R27+U27 -> 900 | G27: =I27+K27+M27+O27+Q27+S27+V27 -> 0 | H27: 50 | J27: 700 | L27: 100 | R27: 50
D28: YC小川郷 | F28: =H28+J28+L28+N28+P28+R28+U28 -> 650 | G28: =I28+K28+M28+O28+Q28+S28+V28 -> 0 | N28: 150 | P28: 500
B29: 川前 | D29: 南雲 | F29: =H29+J29+L29+N29+P29+R29+U29 -> 100 | G29: =I29+K29+M29+O29+Q29+S29+V29 -> 0 | P29: 100
D30: 木部 | F30: =H30+J30+L30+N30+P30+R30+U30 -> 150 | G30: =I30+K30+M30+O30+Q30+S30+V30 -> 0 | J30: 150
D31: ③小計 | F31: =SUM(F6:F30) -> 32550 | G31: =SUM(G6:G30) -> 0 | H31: =SUM(H6:H30) -> 850 | I31: =SUM(I6:I30) -> 0 | J31: =SUM(J6:J30) -> 11850 | K31: =SUM(K6:K30) -> 0 | L31: =SUM(L6:L30) -> 2550 | M31: =SUM(M6:M30) -> 0 | ... S31: =SUM(S6:S30) -> 0 | U31: =SUM(U6:U30) -> 300 | V31: =SUM(V6:V30) -> 0
B32: いわき市（①+②+③）計 | F32: =いわき市１!F10+いわき市１!F29+いわき市２!F31 -> 72550 | G32: =いわき市１!G10+いわき市１!G29+いわき市２!G31 -> 0 | H32: =いわき市１!H10+いわき市１!H29+いわき市２!H31 -> 2650 | I32: =いわき市１!I10+いわき市１!I29+いわき市２!I31 -> 0 | J32: =いわき市１!J10+いわき市１!J29+いわき市２!J31 -> 26850 | K32: =いわき市１!K10+いわき市１!K29+いわき市２!K31 -> 0 | L32: =いわき市１!L10+いわき市１!L29+いわき市２!L31 -> 7750 | M32: =いわき市１!M10+いわき市１!M29+いわき市２!M31 -> 0 | ... S32: =いわき市１!S10+いわき市１!S29+いわき市２!S31 -> 0 | U32: =いわき市１!U10+いわき市１!U29+いわき市２!U31 -> 850 | V32: =いわき市１!V10+いわき市１!V29+いわき市２!V31 -> 0
A33: ※新聞の完全な銘柄指定、地域指定はできませんのでご了承下さい。 | J33: ※１ 錦も含む
J34: ※2 草野地区含む
J35: ※3 YC植田からの移管地区あり（植田町周辺含む）

Sheet 南相馬市・相馬市・相馬郡・双葉郡
A1: 福島県 | D1: 広告主名 | F1: =郡山市１!F1 -> 0 | I1: タイトル | L1: 代理店 | M1: =郡山市１!M1 -> 0 | O1: サイズ | P1: 総枚数 | S1: 折込日
A2: =郡山市１!A2 -> 46266 | C2: =郡山市１!C2 -> 0 | I2: =郡山市１!I2 -> 0 | L2: =郡山市１!L2 -> 0 | O2: =郡山市１!O2 -> 0 | Q2: =郡山市１!Q3+郡山市２!Q3+須賀川市･田村市・田村郡!Q3+白河市・西白河郡･石川郡･東白川郡!Q3+二本松市･本宮市!Q3+福島1!Q3+福島２･伊達市・伊達郡!Q3+いわき市１!Q3+いわき市２!Q3+南相馬市・相馬市・相馬郡・双葉郡!Q3+会津若松市・河沼郡・南会津郡!Q3+喜多方市・耶麻郡・大沼郡!Q3 -> 0 | S2: =郡山市１!S2 -> 0
P3: 頁枚数 | Q3: =G13+G19+G22+G33 -> 0
A4: 地 区 | C4: 販売店 | F4: 総 数 | H4: 毎 日 | J4: 福島民報 | L4: 朝 日 | N4: 読 売 | P4: 福島民友 | R4: 日 経 | T4: 他 紙
H5: 部 数 | I5: 折込部数 | J5: 部 数 | K5: 折込部数 | L5: 部 数 | M5: 折込部数 | N5: 部 数 | O5: 折込部数 | P5: 部 数 | Q5: 折込部数 | R5: 部 数 | S5: 折込部数 | T5: 部 数 | V5: 折込部数
A6: 南相馬市 | B6: (旧)原町市 | D6: 毎民藤原※1 | F6: =H6+J6+L6+N6+P6+R6+U6+U7 -> 7250 | G6: =I6+K6+M6+O6+Q6+S6+V6+V7 -> 0 | H6: 500 | J6: 6150 | L6: 500 | T6: 産経 | U6: 50
T7: 河北 | U7: 50
D8: 読売南部 | F8: =H8+J8+L8+N8+P8+R8+U8 -> 2500 | G8: =I8+K8+M8+O8+Q8+S8+V8 -> 0 | N8: 400 | P8: 2000 | R8: 100
D9: 読売北部 | F9: =H9+J9+L9+N9+P9+R9+U9 -> 2050 | G9: =I9+K9+M9+O9+Q9+S9+V9 -> 0 | N9: 300 | P9: 1650 | R9: 100
B10: (旧)小高町 | D10: 小高林 | F10: =H10+J10+L10+N10+P10+R10+U10 -> 850 | G10: =I10+K10+M10+O10+Q10+S10+V10 -> 0 | J10: 850
D11: 小高鈴木 | F11: =H11+J11+L11+N11+P11+R11+U11 -> 250 | G11: =I11+K11+M11+O11+Q11+S11+V11 -> 0 | P11: 250
B12: (旧)鹿島町 | D12: 販売センター | F12: =H12+J12+L12+N12+P12+R12+U12 -> 2500 | G12: =I12+K12+M12+O12+Q12+S12+V12 -> 0 | H12: 50 | J12: 1800 | L12: 100 | N12: 50 | P12: 450 | R12: 50
D13: 計 | F13: =SUM(F6:F12) -> 15400 | G13: =SUM(G6:G12) -> 0 | H13: =SUM(H6:H12) -> 550 | I13: =SUM(I6:I12) -> 0 | J13: =SUM(J6:J12) -> 8800 | K13: =SUM(K6:K12) -> 0 | L13: =SUM(L6:L12) -> 600 | M13: =SUM(M6:M12) -> 0 | ... S13: =SUM(S6:S12) -> 0 | U13: =SUM(U6:U12) -> 100 | V13: =SUM(V6:V12) -> 0
A15: 相馬市 | B15: 日立木 | D15: 中橋(日立木) | F15: =H15+J15+L15+N15+P15+R15+U15 -> 650 | G15: =I15+K15+M15+O15+Q15+S15+V15 -> 0 | J15: 450 | L15: 50 | P15: 150
B16: 相馬 | D16: 毎民藤原※2 | F16: =H16+J16+L16+N16+P16+R16+U16+U17 -> 3500 | G16: =I16+K16+M16+O16+Q16+S16+V16+V17 -> 0 | H16: 100 | J16: 2900 | L16: 250 | R16: 100 | T16: 河北 | U16: 100
T17: 産経 | U17: 50
D18: 読売相馬※2 | F18: =H18+J18+L18+N18+P18+R18+U18 -> 4300 | G18: =I18+K18+M18+O18+Q18+S18+V18 -> 0 | N18: 800 | P18: 3500
D19: 計 | F19: =SUM(F15:F18) -> 8450 | G19: =SUM(G15:G18) -> 0 | H19: =SUM(H15:H18) -> 100 | I19: =SUM(I15:I18) -> 0 | J19: =SUM(J15:J18) -> 3350 | K19: =SUM(K15:K18) -> 0 | L19: =SUM(L15:L18) -> 300 | M19: =SUM(M15:M18) -> 0 | ... S19: =SUM(S15:S18) -> 0 | U19: =SUM(U15:U18) -> 150 | V19: =SUM(V15:V18) -> 0
A21: 相馬郡 | B21: 新地町 | D21: 販売センター | F21: =H21+J21+L21+N21+P21+R21+U21 -> 1300 | G21: =I21+K21+M21+O21+Q21+S21+V21 -> 0 | J21: 950 | L21: 50 | N21: 50 | P21: 150 | R21: 50 | T21: 河北 | U21: 50
D22: 計 | F22: =SUM(F21:F21) -> 1300 | G22: =SUM(G21:G21) -> 0 | H22: =SUM(H21:H21) -> 0 | I22: =SUM(I21:I21) -> 0 | J22: =SUM(J21:J21) -> 950 | K22: =SUM(K21:K21) -> 0 | L22: =SUM(L21:L21) -> 50 | M22: =SUM(M21:M21) -> 0 | ... S22: =SUM(S21:S21) -> 0 | U22: =SUM(U21:U21) -> 50 | V22: =SUM(V21:V21) -> 0
A24: 双葉郡 | B24: 広野町 | D24: 岡田 | F24: =H24+J24+L24+N24+P24+R24+U24 -> 700 | G24: =I24+K24+M24+O24+Q24+S24+V24 -> 0 | J24: 500 | L24: 50 | N24: 50 | P24: 100
B25: 楢葉町 | D25: 木戸販売C | F25: =SUM(H25,J25,L25,N25,P25,R25,U25) -> 450 | G25: =I25+K25+M25+O25+Q25+S25+V25 -> 0 | J25: 300 | P25: 150
D26: 鈴木 | F26: =SUM(H26,J26,L26,N26,P26,R26,U26) -> 750 | G26: =I26+K26+M26+O26+Q26+S26+V26 -> 0 | J26: 450 | L26: 50 | N26: 50 | P26: 200
B27: 富岡町 | D27: 販売センター ※3 | F27: =H27+J27+L27+N27+P27+R27+U27 -> 750 | G27: =I27+K27+M27+O27+Q27+S27+V27 -> 0 | J27: 450 | L27: 50 | N27: 50 | P27: 200
B28: 大熊町
B29: 双葉町 | D29: 双葉鈴木 | F29: =H29+J29+L29+N29+P29+R29+U29 -> 50 | G29: =I29+K29+M29+O29+Q29+S29+V29 -> 0 | P29: 50
B30: 浪江町 | D30: 浪江鈴木 | F30: =H30+J30+L30+N30+P30+R30+U30 -> 350 | G30: =I30+K30+M30+O30+Q30+S30+V30 -> 0 | P30: 350
D31: 販売センター※4 | F31: =H31+J31+L31+N31+P31+R31+U31 -> 450 | G31: =I31+K31+M31+O31+Q31+S31+V31 -> 0 | J31: 450
B32: 川内村 | D32: 販売所 | F32: =H32+J32+L32+N32+P32+R32+U32 -> 400 | G32: =I32+K32+M32+O32+Q32+S32+V32 -> 0 | J32: 350 | P32: 50
D33: 計 | F33: =SUM(F24:F32) -> 3900 | G33: =SUM(G24:G32) -> 0 | H33: =SUM(H24:H32) -> 0 | I33: =SUM(I24:I32) -> 0 | J33: =SUM(J24:J32) -> 2500 | K33: =SUM(K24:K32) -> 0 | L33: =SUM(L24:L32) -> 150 | M33: =SUM(M24:M32) -> 0 | ... V33: =SUM(V24:V32) -> 0
A34: ※新聞の完全な銘柄指定、地域指定はできませんのでご了承下さい。 | J34: ★月曜日折込は出来ません | M34: ※1 相馬郡飯舘村の一部を含む | P34: ※3 大熊町を含む
M35: ※2 相馬郡新地町の一部を含む | P35: ※4 双葉町を含む

Sheet 会津若松市・河沼郡・南会津郡
A1: 福島県 | D1: 広告主名 | F1: =郡山市１!F1 -> 0 | I1: タイトル | L1: 代理店 | M1: =郡山市１!M1 -> 0 | O1: サイズ | P1: 総枚数 | S1: 折込日
A2: =郡山市１!A2 -> 46266 | C2: =郡山市１!C2 -> 0 | I2: =郡山市１!I2 -> 0 | L2: =郡山市１!L2 -> 0 | O2: =郡山市１!O2 -> 0 | Q2: =郡山市１!Q3+郡山市２!Q3+須賀川市･田村市・田村郡!Q3+白河市・西白河郡･石川郡･東白川郡!Q3+二本松市･本宮市!Q3+福島1!Q3+福島２･伊達市・伊達郡!Q3+いわき市１!Q3+いわき市２!Q3+南相馬市・相馬市・相馬郡・双葉郡!Q3+会津若松市・河沼郡・南会津郡!Q3+喜多方市・耶麻郡・大沼郡!Q3 -> 0 | S2: =郡山市１!S2 -> 0
P3: 頁枚数 | Q3: =G20+G27+G36 -> 0
A4: 地 区 | C4: 販売店 | F4: 総 数 | H4: 毎 日 | J4: 福島民報 | L4: 朝 日 | N4: 読 売 | P4: 福島民友 | R4: 日 経 | T4: 他 紙
H5: 部 数 | I5: 折込部数 | J5: 部 数 | K5: 折込部数 | L5: 部 数 | M5: 折込部数 | N5: 部 数 | O5: 折込部数 | P5: 部 数 | Q5: 折込部数 | R5: 部 数 | S5: 折込部数 | T5: 部 数 | V5: 折込部数
A7: 会津若松市 | B7: 会津若松 | D7: 毎民東部 | F7: =H7+J7+L7+N7+P7+R7+U7 -> 2400 | G7: =I7+K7+M7+O7+Q7+S7+V7 -> 0 | H7: 150 | J7: 2250
D8: 毎民日新 | F8: =H8+J8+L8+N8+P8+R8+U8 -> 2050 | G8: =I8+K8+M8+O8+Q8+S8+V8 -> 0 | H8: 100 | J8: 1950
D9: 毎民門田 | F9: =H9+J9+L9+N9+P9+R9+U9 -> 2100 | G9: =I9+K9+M9+O9+Q9+S9+V9 -> 0 | H9: 100 | J9: 2000
D10: 毎民一箕 | F10: =H10+J10+L10+N10+P10+R10+U10 -> 1550 | G10: =I10+K10+M10+O10+Q10+S10+V10 -> 0 | H10: 100 | J10: 1450
D11: 毎民西若松※1 | F11: =H11+J11+L11+N11+P11+R11+U11 -> 2350 | G11: =I11+K11+M11+O11+Q11+S11+V11 -> 0 | H11: 150 | J11: 2200
D12: 読売東部 | F12: =H12+J12+L12+N12+P12+R12+U12 -> 2050 | G12: =I12+K12+M12+O12+Q12+S12+V12 -> 0 | N12: 400 | P12: 1650
D13: YC会津若松中央 | F13: =H13+J13+L13+N13+P13+R13+U13 -> 3500 | G13: =I13+K13+M13+O13+Q13+S13+V13 -> 0 | N13: 700 | P13: 2800
D14: 読売南部 | F14: =H14+J14+L14+N14+P14+R14+U14 -> 1300 | G14: =I14+K14+M14+O14+Q14+S14+V14 -> 0 | N14: 300 | P14: 1000
D15: 読売城西 | F15: =H15+J15+L15+N15+P15+R15+U15 -> 1200 | G15: =I15+K15+M15+O15+Q15+S15+V15 -> 0 | N15: 200 | P15: 1000
D16: 朝日会津若松 | F16: =H16+J16+L16+N16+P16+R16+U16+U17 -> 5200 | G16: =I16+K16+M16+O16+Q16+S16+V16+V17 -> 0 | L16: 2100 | P16: 2300 | R16: 650 | T16: 産経 | U16: 100
T17: 河北 | U17: 50
D18: 徳田(大戸町) | F18: =H18+J18+L18+N18+P18+R18+U18 -> 500 | G18: =I18+K18+M18+O18+Q18+S18+V18 -> 0 | J18: 300 | L18: 50 | P18: 150
